Workbook
Name 項目番号１: '10'!$E$9:$E$60
Name 項目番号１: '12'!$E$9:$E$60
Name 項目番号１: '14'!$E$9:$E$60
Name 項目番号１: '16'!$E$9:$E$60
Name 項目番号１: '６'!$E$9:$E$60
Name 項目番号１: '８'!$E$9:$E$60
Name 項目番号２: '10'!$F$9:$F$60
Name 項目番号２: '12'!$F$9:$F$60
Name 項目番号２: '14'!$F$9:$F$60
Name 項目番号２: '16'!$F$9:$F$60
Name 項目番号２: '６'!$F$9:$F$60
Name 項目番号２: '８'!$F$9:$F$60
Name 項目番号３: '10'!$G$9:$G$60
Name 項目番号３: '12'!$G$9:$G$60
Name 項目番号３: '14'!$G$9:$G$60
Name 項目番号３: '16'!$G$9:$G$60
Name 項目番号３: '６'!$G$9:$G$60
Name 項目番号３: '８'!$G$9:$G$60
Name 項目番号全体: '10'!$E$9:$G$60
Name 項目番号全体: '12'!$E$9:$G$60
Name 項目番号全体: '14'!$E$9:$G$60
Name 項目番号全体: '16'!$E$9:$G$60
Name 項目番号全体: '６'!$E$9:$G$60
Name 項目番号全体: '８'!$E$9:$G$60

Sheet １
A1: シートの構成
A3: 色 | B3: シート 番号 | C3: 概要 | F3: 主な内容
B4: 1 | C4: シートの構成
B5: 2 | C5: 3‐1‐1例 | F5: 様式3-1-1の入力例
B6: 3 | C6: 3‐1‐2(1)例 | F6: 様式3-1-2（１）の入力例
B7: 4 | C7: 3‐1‐2(2)例 | F7: 様式3-1-2（２）の入力例
B8: 5 | C8: 3‐1‐1 | F8: １ 初任者、指導教員等名簿 ２ 初任者等の校務分掌等 ３ 実施体制 ４ 実施上の重点事項等
B9: 6 | C9: 3‐1‐2(1)１人目 | F9: ５ 年間指導計画 （１）勤務校研修
B10: 7 | C10: 3‐1‐2(2)１人目 | F10: （２）センター等研修
B11: 8 | C11: 3‐1‐2(1)２人目 | F11: ５ 年間指導計画 （１）勤務校研修
B12: 9 | C12: 3‐1‐2(2)２人目 | F12: （２）センター等研修
B13: 10 | C13: 3‐1‐2(1)３人目 | F13: ５ 年間指導計画 （１）勤務校研修
B14: 11 | C14: 3‐1‐2(2)３人目 | F14: （２）センター等研修
B15: 12 | C15: 3‐1‐2(1)４人目 | F15: ５ 年間指導計画 （１）勤務校研修
B16: 13 | C16: 3‐1‐2(2)４人目 | F16: （２）センター等研修
... B23: 20 | C23: センター等研修項目一覧 | F23: 日程、講座番号、講座名、研修形態、場所、備考

Sheet ２
A1: （様式３－１－１）
B3: 令和８年度初任者研修年間指導計画書
D5: 学校名 | E5: 京都府立△△中学校
D7: 校長名 | E7: ☆☆ ☆☆
G8: （公印不要）
A10: １ 初任者、指導教員等名簿
A12: 初任者 | B12: 京都 京一 | C12: 指導教員 | D12: 神戸 一郎 | F12: 教科指導員 | G12: 大阪 次郎
A19: ２ 初任者等の校務分掌等
A20: （初任者）
A21: 氏名 | C21: 担当教科 | E21: 学級・HR担任 | F21: 講師経験
A22: 京都 京一 | C22: 英語 | E22: している | F22: あり
A29: （指導教員・教科指導員）
A30: 氏名 | C30: 職名 | E30: 担当教科 | F30: 指導教員経験
A31: 神戸 一郎 | C31: 教諭 | E31: 数学 | F31: あり
A32: 大阪 次郎 | C32: 講師等 | E32: 英語 | F32: なし
A40: ３ 実施体制
A41: （校務分掌上の位置づけ等、研修実施体制上の注意事項について記入してください。）
A45: ４ 実施上の重点事項等
A46: （各学校において初任者研修を実施する上で、 重点的に取り組む事項について記入してください。）

Sheet ３
A1: (様式３－１－２)
B2: ５ 年間指導計画
B3: (1) 勤務校研修
I4: 学校名 | J4: 京都府立△△中学校
I6: 初任者名 | J6: 京都 京一 | N6: ★入力者 確認用データ | AD6: ★センター担当者 整理用データ
B8: 回数 | C8: 月 | D8: 日 | E8: 項目番号 | H8: 研 修 項 目 | I8: 講 師 | J8: 備 考（代替した研究大会名・研修会名称等） | N8: ①実施予定の研修項目番号 | AD8: ①項目別の実施予定回数
B9: 1 | C9: 4 | E9: 1 | H9: =_xlfn.CONCAT(Y9&" "&Z9&" "&AA9) -> 期待される教員としての心構え | I9: 校長 | Y9: {=IFERROR(VLOOKUP(INDIRECT("E9"),'18'!$A$4:$B$60,2,0),"")} -> 期待される教員としての心構え | Z9: {=IFERROR(VLOOKUP(INDIRECT("F9"),'18'!$A$4:$B$60,2,0),"")} | AA9: {=IFERROR(VLOOKUP(INDIRECT("G9"),'18'!$A$4:$B$60,2,0),"")} | AD9: 1 | AE9: 2 | AF9: 3 | AG9: 4 | AH9: 5 | AI9: 6 | AJ9: 7 | AK9: 8 | AL9: 9 | AM9: 10 | AN9: 11 | AO9: 12 | AP9: 13
B10: 2 | C10: 4 | E10: 2 | F10: 3 | H10: =_xlfn.CONCAT(Y10&" "&Z10&" "&AA10) -> 本校の教育概要 学校運営と校務分掌 | I10: 教頭 | N10: 52項目中 | Q10: {=SUM(--(FREQUENCY(IF((E9:G60>=1)*(E9:G60<=52), E9:G60), ROW(INDIRECT("1:52")))>0))} -> 41 | T10: 項目実施予定 | Y10: {=IFERROR(VLOOKUP(INDIRECT("E10"),'18'!$A$4:$B$60,2,0),"")} -> 本校の教育概要 | Z10: {=IFERROR(VLOOKUP(INDIRECT("F10"),'18'!$A$4:$B$60,2,0),"")} -> 学校運営と校務分掌 | AA10: {=IFERROR(VLOOKUP(INDIRECT("G10"),'18'!$A$4:$B$60,2,0),"")} | AD10: =COUNTIF($E$9:$G$60,AD9) -> 1 | AE10: =COUNTIF($E$9:$G$60,AE9) -> 1 | AF10: =COUNTIF($E$9:$G$60,AF9) -> 1 | AG10: =COUNTIF($E$9:$G$60,AG9) -> 1 | AH10: =COUNTIF($E$9:$G$60,AH9) -> 1 | AI10: =COUNTIF($E$9:$G$60,AI9) -> 1 | AJ10: =COUNTIF($E$9:$G$60,AJ9) -> 1 | AK10: =COUNTIF($E$9:$G$60,AK9) -> 1 | ... AP10: =COUNTIF($E$9:$G$60,AP9) -> 1
B11: 3 | E11: 4 | F11: 5 | G11: 6 | H11: =_xlfn.CONCAT(Y11&" "&Z11&" "&AA11) -> 本校の教育課程と特色ある学校づくり ＰＴＡとの連携 地域社会・環境の理解と連携 | I11: 教頭 | Y11: {=IFERROR(VLOOKUP(INDIRECT("E11"),'18'!$A$4:$B$60,2,0),"")} -> 本校の教育課程と特色ある学校づくり | Z11: {=IFERROR(VLOOKUP(INDIRECT("F11"),'18'!$A$4:$B$60,2,0),"")} -> ＰＴＡとの連携 | AA11: {=IFERROR(VLOOKUP(INDIRECT("G11"),'18'!$A$4:$B$60,2,0),"")} -> 地域社会・環境の理解と連携
B12: 4 | H12: =_xlfn.CONCAT(Y12&" "&Z12&" "&AA12) | N12: 1 | O12: 2 | P12: 3 | Q12: 4 | R12: 5 | S12: 6 | T12: 7 | U12: 8 | V12: 9 | W12: 10 | Y12: {=IFERROR(VLOOKUP(INDIRECT("E12"),'18'!$A$4:$B$60,2,0),"")} | Z12: {=IFERROR(VLOOKUP(INDIRECT("F12"),'18'!$A$4:$B$60,2,0),"")} | AA12: {=IFERROR(VLOOKUP(INDIRECT("G12"),'18'!$A$4:$B$60,2,0),"")} | AD12: 14 | AE12: 15 | AF12: 16 | AG12: 17 | AH12: 18 | AI12: 19 | AJ12: 20 | AK12: 21 | AL12: 22 | AM12: 23 | AN12: 24 | AO12: 25 | AP12: 26
B13: 5 | H13: =_xlfn.CONCAT(Y13&" "&Z13&" "&AA13) | N13: 11 | O13: 12 | P13: 13 | Q13: 14 | R13: 15 | S13: 16 | T13: 17 | U13: 18 | V13: 19 | W13: 20 | Y13: {=IFERROR(VLOOKUP(INDIRECT("E13"),'18'!$A$4:$B$60,2,0),"")} | Z13: {=IFERROR(VLOOKUP(INDIRECT("F13"),'18'!$A$4:$B$60,2,0),"")} | AA13: {=IFERROR(VLOOKUP(INDIRECT("G13"),'18'!$A$4:$B$60,2,0),"")} | AD13: =COUNTIF($E$9:$G$60,AD12) -> 1 | AE13: =COUNTIF($E$9:$G$60,AE12) -> 1 | AF13: =COUNTIF($E$9:$G$60,AF12) -> 1 | AG13: =COUNTIF($E$9:$G$60,AG12) -> 1 | AH13: =COUNTIF($E$9:$G$60,AH12) -> 1 | AI13: =COUNTIF($E$9:$G$60,AI12) -> 1 | AJ13: =COUNTIF($E$9:$G$60,AJ12) -> 1 | AK13: =COUNTIF($E$9:$G$60,AK12) -> 1 | ... AP13: =COUNTIF($E$9:$G$60,AP12) -> 3
B14: 6 | H14: =_xlfn.CONCAT(Y14&" "&Z14&" "&AA14) | N14: 21 | O14: 22 | P14: 23 | Q14: 24 | R14: 25 | S14: 26 | T14: 27 | U14: 28 | V14: 29 | W14: 30 | Y14: {=IFERROR(VLOOKUP(INDIRECT("E14"),'18'!$A$4:$B$60,2,0),"")} | Z14: {=IFERROR(VLOOKUP(INDIRECT("F14"),'18'!$A$4:$B$60,2,0),"")} | AA14: {=IFERROR(VLOOKUP(INDIRECT("G14"),'18'!$A$4:$B$60,2,0),"")}
B15: 7 | H15: =_xlfn.CONCAT(Y15&" "&Z15&" "&AA15) | N15: 31 | O15: 32 | P15: 33 | Q15: 34 | R15: 35 | S15: 36 | T15: 37 | U15: 38 | V15: 39 | W15: 40 | Y15: {=IFERROR(VLOOKUP(INDIRECT("E15"),'18'!$A$4:$B$60,2,0),"")} | Z15: {=IFERROR(VLOOKUP(INDIRECT("F15"),'18'!$A$4:$B$60,2,0),"")} | AA15: {=IFERROR(VLOOKUP(INDIRECT("G15"),'18'!$A$4:$B$60,2,0),"")} | AD15: 27 | AE15: 28 | AF15: 29 | AG15: 30 | AH15: 31 | AI15: 32 | AJ15: 33 | AK15: 34 | AL15: 35 | AM15: 36 | AN15: 37 | AO15: 38 | AP15: 39
B16: 8 | C16: 5 | E16: 26 | H16: =_xlfn.CONCAT(Y16&" "&Z16&" "&AA16) -> 児童生徒理解 | I16: 校内指導教員 | N16: 41 | O16: 42 | P16: 43 | Q16: 44 | R16: 45 | S16: 46 | T16: 47 | U16: 48 | V16: 49 | W16: 50 | Y16: {=IFERROR(VLOOKUP(INDIRECT("E16"),'18'!$A$4:$B$60,2,0),"")} -> 児童生徒理解 | Z16: {=IFERROR(VLOOKUP(INDIRECT("F16"),'18'!$A$4:$B$60,2,0),"")} | AA16: {=IFERROR(VLOOKUP(INDIRECT("G16"),'18'!$A$4:$B$60,2,0),"")} | AD16: =COUNTIF($E$9:$G$60,AD15) -> 1 | AE16: =COUNTIF($E$9:$G$60,AE15) -> 1 | AF16: =COUNTIF($E$9:$G$60,AF15) -> 1 | AG16: =COUNTIF($E$9:$G$60,AG15) -> 1 | AH16: =COUNTIF($E$9:$G$60,AH15) -> 1 | AI16: =COUNTIF($E$9:$G$60,AI15) -> 1 | AJ16: =COUNTIF($E$9:$G$60,AJ15) -> 1 | AK16: =COUNTIF($E$9:$G$60,AK15) -> 1 | ... AP16: =COUNTIF($E$9:$G$60,AP15) -> 1
B17: 9 | E17: 26 | H17: =_xlfn.CONCAT(Y17&" "&Z17&" "&AA17) -> 児童生徒理解 | I17: 校内指導教員 | N17: 51 | O17: 52 | Y17: {=IFERROR(VLOOKUP(INDIRECT("E17"),'18'!$A$4:$B$60,2,0),"")} -> 児童生徒理解 | Z17: {=IFERROR(VLOOKUP(INDIRECT("F17"),'18'!$A$4:$B$60,2,0),"")} | AA17: {=IFERROR(VLOOKUP(INDIRECT("G17"),'18'!$A$4:$B$60,2,0),"")}
B18: 10 | H18: =_xlfn.CONCAT(Y18&" "&Z18&" "&AA18) | Y18: {=IFERROR(VLOOKUP(INDIRECT("E18"),'18'!$A$4:$B$60,2,0),"")} | Z18: {=IFERROR(VLOOKUP(INDIRECT("F18"),'18'!$A$4:$B$60,2,0),"")} | AA18: {=IFERROR(VLOOKUP(INDIRECT("G18"),'18'!$A$4:$B$60,2,0),"")} | AD18: 40 | AE18: 41 | AF18: 42 | AG18: 43 | AH18: 44 | AI18: 45 | AJ18: 46 | AK18: 47 | AL18: 48 | AM18: 49 | AN18: 50 | AO18: 51 | AP18: 52
B19: 11 | H19: =_xlfn.CONCAT(Y19&" "&Z19&" "&AA19) | O19: …１回以上実施予定の研修項目番号 | Y19: {=IFERROR(VLOOKUP(INDIRECT("E19"),'18'!$A$4:$B$60,2,0),"")} | Z19: {=IFERROR(VLOOKUP(INDIRECT("F19"),'18'!$A$4:$B$60,2,0),"")} | AA19: {=IFERROR(VLOOKUP(INDIRECT("G19"),'18'!$A$4:$B$60,2,0),"")} | AD19: =COUNTIF($E$9:$G$60,AD18) -> 1 | AE19: =COUNTIF($E$9:$G$60,AE18) -> 1 | AF19: =COUNTIF($E$9:$G$60,AF18) -> 0 | AG19: =COUNTIF($E$9:$G$60,AG18) -> 0 | AH19: =COUNTIF($E$9:$G$60,AH18) -> 0 | AI19: =COUNTIF($E$9:$G$60,AI18) -> 0 | AJ19: =COUNTIF($E$9:$G$60,AJ18) -> 0 | AK19: =COUNTIF($E$9:$G$60,AK18) -> 0 | ... AP19: =COUNTIF($E$9:$G$60,AP18) -> 0
B20: 12 | H20: =_xlfn.CONCAT(Y20&" "&Z20&" "&AA20) | Y20: {=IFERROR(VLOOKUP(INDIRECT("E20"),'18'!$A$4:$B$60,2,0),"")} | Z20: {=IFERROR(VLOOKUP(INDIRECT("F20"),'18'!$A$4:$B$60,2,0),"")} | AA20: {=IFERROR(VLOOKUP(INDIRECT("G20"),'18'!$A$4:$B$60,2,0),"")}
B21: 13 | H21: =_xlfn.CONCAT(Y21&" "&Z21&" "&AA21) | N21: ②実施予定の勤務校研修の回数 | Y21: {=IFERROR(VLOOKUP(INDIRECT("E21"),'18'!$A$4:$B$60,2,0),"")} | Z21: {=IFERROR(VLOOKUP(INDIRECT("F21"),'18'!$A$4:$B$60,2,0),"")} | AA21: {=IFERROR(VLOOKUP(INDIRECT("G21"),'18'!$A$4:$B$60,2,0),"")} | AD21: ②実施予定の勤務校研修の項目数
B22: 14 | E22: 35 | H22: =_xlfn.CONCAT(Y22&" "&Z22&" "&AA22) -> 指導計画の作成(1)‐指導計画の作成‐ | Y22: {=IFERROR(VLOOKUP(INDIRECT("E22"),'18'!$A$4:$B$60,2,0),"")} -> 指導計画の作成(1)‐指導計画の作成‐ | Z22: {=IFERROR(VLOOKUP(INDIRECT("F22"),'18'!$A$4:$B$60,2,0),"")} | AA22: {=IFERROR(VLOOKUP(INDIRECT("G22"),'18'!$A$4:$B$60,2,0),"")}
B23: 15 | H23: =_xlfn.CONCAT(Y23&" "&Z23&" "&AA23) | Q23: {=SUMPRODUCT(--((ISNUMBER(E9:E60)+ISNUMBER(F9:F60)+ISNUMBER(G9:G60))>0))} -> 41 | T23: 回 | Y23: {=IFERROR(VLOOKUP(INDIRECT("E23"),'18'!$A$4:$B$60,2,0),"")} | Z23: {=IFERROR(VLOOKUP(INDIRECT("F23"),'18'!$A$4:$B$60,2,0),"")} | AA23: {=IFERROR(VLOOKUP(INDIRECT("G23"),'18'!$A$4:$B$60,2,0),"")} | AD23: {=INDIRECT("Q10")} -> 41 | AF23: 項目
B24: 16 | H24: =_xlfn.CONCAT(Y24&" "&Z24&" "&AA24) | Y24: {=IFERROR(VLOOKUP(INDIRECT("E24"),'18'!$A$4:$B$60,2,0),"")} | Z24: {=IFERROR(VLOOKUP(INDIRECT("F24"),'18'!$A$4:$B$60,2,0),"")} | AA24: {=IFERROR(VLOOKUP(INDIRECT("G24"),'18'!$A$4:$B$60,2,0),"")}
B25: 17 | H25: =_xlfn.CONCAT(Y25&" "&Z25&" "&AA25) | N25: ＊勤務校研修の回数は、35～52回の間 になるように予定を立ててください。 | Y25: {=IFERROR(VLOOKUP(INDIRECT("E25"),'18'!$A$4:$B$60,2,0),"")} | Z25: {=IFERROR(VLOOKUP(INDIRECT("F25"),'18'!$A$4:$B$60,2,0),"")} | AA25: {=IFERROR(VLOOKUP(INDIRECT("G25"),'18'!$A$4:$B$60,2,0),"")} | AD25: ③実施予定の勤務校研修の回数
B26: 18 | E26: 7 | H26: =_xlfn.CONCAT(Y26&" "&Z26&" "&AA26) -> 学校段階等間の接続 | Y26: {=IFERROR(VLOOKUP(INDIRECT("E26"),'18'!$A$4:$B$60,2,0),"")} -> 学校段階等間の接続 | Z26: {=IFERROR(VLOOKUP(INDIRECT("F26"),'18'!$A$4:$B$60,2,0),"")} | AA26: {=IFERROR(VLOOKUP(INDIRECT("G26"),'18'!$A$4:$B$60,2,0),"")}
B27: 19 | E27: 8 | H27: =_xlfn.CONCAT(Y27&" "&Z27&" "&AA27) -> 様々な文書の取扱い | Y27: {=IFERROR(VLOOKUP(INDIRECT("E27"),'18'!$A$4:$B$60,2,0),"")} -> 様々な文書の取扱い | Z27: {=IFERROR(VLOOKUP(INDIRECT("F27"),'18'!$A$4:$B$60,2,0),"")} | AA27: {=IFERROR(VLOOKUP(INDIRECT("G27"),'18'!$A$4:$B$60,2,0),"")} | AD27: {=INDIRECT("Q23")} -> 41 | AF27: 回
B28: 20 | E28: 9 | H28: =_xlfn.CONCAT(Y28&" "&Z28&" "&AA28) -> 育成を目指す資質・能力 | Y28: {=IFERROR(VLOOKUP(INDIRECT("E28"),'18'!$A$4:$B$60,2,0),"")} -> 育成を目指す資質・能力 | Z28: {=IFERROR(VLOOKUP(INDIRECT("F28"),'18'!$A$4:$B$60,2,0),"")} | AA28: {=IFERROR(VLOOKUP(INDIRECT("G28"),'18'!$A$4:$B$60,2,0),"")}
B29: 21 | E29: 10 | H29: =_xlfn.CONCAT(Y29&" "&Z29&" "&AA29) -> 主体的・対話的で深い学びの実現 | Y29: {=IFERROR(VLOOKUP(INDIRECT("E29"),'18'!$A$4:$B$60,2,0),"")} -> 主体的・対話的で深い学びの実現 | Z29: {=IFERROR(VLOOKUP(INDIRECT("F29"),'18'!$A$4:$B$60,2,0),"")} | AA29: {=IFERROR(VLOOKUP(INDIRECT("G29"),'18'!$A$4:$B$60,2,0),"")}
B30: 22 | E30: 11 | H30: =_xlfn.CONCAT(Y30&" "&Z30&" "&AA30) -> 言語環境の整備と言語活動の充実 | Y30: {=IFERROR(VLOOKUP(INDIRECT("E30"),'18'!$A$4:$B$60,2,0),"")} -> 言語環境の整備と言語活動の充実 | Z30: {=IFERROR(VLOOKUP(INDIRECT("F30"),'18'!$A$4:$B$60,2,0),"")} | AA30: {=IFERROR(VLOOKUP(INDIRECT("G30"),'18'!$A$4:$B$60,2,0),"")}
B31: 23 | E31: 12 | H31: =_xlfn.CONCAT(Y31&" "&Z31&" "&AA31) -> 道徳教育 | Y31: {=IFERROR(VLOOKUP(INDIRECT("E31"),'18'!$A$4:$B$60,2,0),"")} -> 道徳教育 | Z31: {=IFERROR(VLOOKUP(INDIRECT("F31"),'18'!$A$4:$B$60,2,0),"")} | AA31: {=IFERROR(VLOOKUP(INDIRECT("G31"),'18'!$A$4:$B$60,2,0),"")}
B32: 24 | E32: 13 | H32: =_xlfn.CONCAT(Y32&" "&Z32&" "&AA32) -> 総合的な学習の時間・総合的な探究の時間 | Y32: {=IFERROR(VLOOKUP(INDIRECT("E32"),'18'!$A$4:$B$60,2,0),"")} -> 総合的な学習の時間・総合的な探究の時間 | Z32: {=IFERROR(VLOOKUP(INDIRECT("F32"),'18'!$A$4:$B$60,2,0),"")} | AA32: {=IFERROR(VLOOKUP(INDIRECT("G32"),'18'!$A$4:$B$60,2,0),"")}
B33: 25 | E33: 14 | H33: =_xlfn.CONCAT(Y33&" "&Z33&" "&AA33) -> 特別活動 | Y33: {=IFERROR(VLOOKUP(INDIRECT("E33"),'18'!$A$4:$B$60,2,0),"")} -> 特別活動 | Z33: {=IFERROR(VLOOKUP(INDIRECT("F33"),'18'!$A$4:$B$60,2,0),"")} | AA33: {=IFERROR(VLOOKUP(INDIRECT("G33"),'18'!$A$4:$B$60,2,0),"")}
B34: 26 | E34: 15 | H34: =_xlfn.CONCAT(Y34&" "&Z34&" "&AA34) -> 人権教育 | Y34: {=IFERROR(VLOOKUP(INDIRECT("E34"),'18'!$A$4:$B$60,2,0),"")} -> 人権教育 | Z34: {=IFERROR(VLOOKUP(INDIRECT("F34"),'18'!$A$4:$B$60,2,0),"")} | AA34: {=IFERROR(VLOOKUP(INDIRECT("G34"),'18'!$A$4:$B$60,2,0),"")}
B35: 27 | E35: 16 | H35: =_xlfn.CONCAT(Y35&" "&Z35&" "&AA35) -> 特別支援教育 | Y35: {=IFERROR(VLOOKUP(INDIRECT("E35"),'18'!$A$4:$B$60,2,0),"")} -> 特別支援教育 | Z35: {=IFERROR(VLOOKUP(INDIRECT("F35"),'18'!$A$4:$B$60,2,0),"")} | AA35: {=IFERROR(VLOOKUP(INDIRECT("G35"),'18'!$A$4:$B$60,2,0),"")}
B36: 28 | E36: 17 | H36: =_xlfn.CONCAT(Y36&" "&Z36&" "&AA36) -> 学校保健 | Y36: {=IFERROR(VLOOKUP(INDIRECT("E36"),'18'!$A$4:$B$60,2,0),"")} -> 学校保健 | Z36: {=IFERROR(VLOOKUP(INDIRECT("F36"),'18'!$A$4:$B$60,2,0),"")} | AA36: {=IFERROR(VLOOKUP(INDIRECT("G36"),'18'!$A$4:$B$60,2,0),"")}
B37: 29 | E37: 18 | H37: =_xlfn.CONCAT(Y37&" "&Z37&" "&AA37) -> 学校安全・危機管理 | Y37: {=IFERROR(VLOOKUP(INDIRECT("E37"),'18'!$A$4:$B$60,2,0),"")} -> 学校安全・危機管理 | Z37: {=IFERROR(VLOOKUP(INDIRECT("F37"),'18'!$A$4:$B$60,2,0),"")} | AA37: {=IFERROR(VLOOKUP(INDIRECT("G37"),'18'!$A$4:$B$60,2,0),"")}
B38: 30 | E38: 19 | H38: =_xlfn.CONCAT(Y38&" "&Z38&" "&AA38) -> 食育・学校給食 | Y38: {=IFERROR(VLOOKUP(INDIRECT("E38"),'18'!$A$4:$B$60,2,0),"")} -> 食育・学校給食 | Z38: {=IFERROR(VLOOKUP(INDIRECT("F38"),'18'!$A$4:$B$60,2,0),"")} | AA38: {=IFERROR(VLOOKUP(INDIRECT("G38"),'18'!$A$4:$B$60,2,0),"")}
B39: 31 | E39: 20 | H39: =_xlfn.CONCAT(Y39&" "&Z39&" "&AA39) -> 情報教育 | Y39: {=IFERROR(VLOOKUP(INDIRECT("E39"),'18'!$A$4:$B$60,2,0),"")} -> 情報教育 | Z39: {=IFERROR(VLOOKUP(INDIRECT("F39"),'18'!$A$4:$B$60,2,0),"")} | AA39: {=IFERROR(VLOOKUP(INDIRECT("G39"),'18'!$A$4:$B$60,2,0),"")}
B40: 32 | E40: 21 | H40: =_xlfn.CONCAT(Y40&" "&Z40&" "&AA40) -> キャリア教育 | Y40: {=IFERROR(VLOOKUP(INDIRECT("E40"),'18'!$A$4:$B$60,2,0),"")} -> キャリア教育 | Z40: {=IFERROR(VLOOKUP(INDIRECT("F40"),'18'!$A$4:$B$60,2,0),"")} | AA40: {=IFERROR(VLOOKUP(INDIRECT("G40"),'18'!$A$4:$B$60,2,0),"")}
B41: 33 | E41: 22 | H41: =_xlfn.CONCAT(Y41&" "&Z41&" "&AA41) -> 伝統文化 | Y41: {=IFERROR(VLOOKUP(INDIRECT("E41"),'18'!$A$4:$B$60,2,0),"")} -> 伝統文化 | Z41: {=IFERROR(VLOOKUP(INDIRECT("F41"),'18'!$A$4:$B$60,2,0),"")} | AA41: {=IFERROR(VLOOKUP(INDIRECT("G41"),'18'!$A$4:$B$60,2,0),"")}
B42: 34 | E42: 23 | H42: =_xlfn.CONCAT(Y42&" "&Z42&" "&AA42) -> 学校教育全体で進める教育活動 | Y42: {=IFERROR(VLOOKUP(INDIRECT("E42"),'18'!$A$4:$B$60,2,0),"")} -> 学校教育全体で進める教育活動 | Z42: {=IFERROR(VLOOKUP(INDIRECT("F42"),'18'!$A$4:$B$60,2,0),"")} | AA42: {=IFERROR(VLOOKUP(INDIRECT("G42"),'18'!$A$4:$B$60,2,0),"")}
B43: 35 | E43: 24 | H43: =_xlfn.CONCAT(Y43&" "&Z43&" "&AA43) -> 生徒指導 | Y43: {=IFERROR(VLOOKUP(INDIRECT("E43"),'18'!$A$4:$B$60,2,0),"")} -> 生徒指導 | Z43: {=IFERROR(VLOOKUP(INDIRECT("F43"),'18'!$A$4:$B$60,2,0),"")} | AA43: {=IFERROR(VLOOKUP(INDIRECT("G43"),'18'!$A$4:$B$60,2,0),"")}
B44: 36 | E44: 25 | H44: =_xlfn.CONCAT(Y44&" "&Z44&" "&AA44) -> 基本的な生活習慣とその指導 | Y44: {=IFERROR(VLOOKUP(INDIRECT("E44"),'18'!$A$4:$B$60,2,0),"")} -> 基本的な生活習慣とその指導 | Z44: {=IFERROR(VLOOKUP(INDIRECT("F44"),'18'!$A$4:$B$60,2,0),"")} | AA44: {=IFERROR(VLOOKUP(INDIRECT("G44"),'18'!$A$4:$B$60,2,0),"")}
B45: 37 | E45: 26 | H45: =_xlfn.CONCAT(Y45&" "&Z45&" "&AA45) -> 児童生徒理解 | Y45: {=IFERROR(VLOOKUP(INDIRECT("E45"),'18'!$A$4:$B$60,2,0),"")} -> 児童生徒理解 | Z45: {=IFERROR(VLOOKUP(INDIRECT("F45"),'18'!$A$4:$B$60,2,0),"")} | AA45: {=IFERROR(VLOOKUP(INDIRECT("G45"),'18'!$A$4:$B$60,2,0),"")}
B46: 38 | E46: 27 | H46: =_xlfn.CONCAT(Y46&" "&Z46&" "&AA46) -> 児童生徒の問題行動 | Y46: {=IFERROR(VLOOKUP(INDIRECT("E46"),'18'!$A$4:$B$60,2,0),"")} -> 児童生徒の問題行動 | Z46: {=IFERROR(VLOOKUP(INDIRECT("F46"),'18'!$A$4:$B$60,2,0),"")} | AA46: {=IFERROR(VLOOKUP(INDIRECT("G46"),'18'!$A$4:$B$60,2,0),"")}
B47: 39 | E47: 28 | H47: =_xlfn.CONCAT(Y47&" "&Z47&" "&AA47) -> 教育相談 | Y47: {=IFERROR(VLOOKUP(INDIRECT("E47"),'18'!$A$4:$B$60,2,0),"")} -> 教育相談 | Z47: {=IFERROR(VLOOKUP(INDIRECT("F47"),'18'!$A$4:$B$60,2,0),"")} | AA47: {=IFERROR(VLOOKUP(INDIRECT("G47"),'18'!$A$4:$B$60,2,0),"")}
B48: 40 | E48: 29 | H48: =_xlfn.CONCAT(Y48&" "&Z48&" "&AA48) -> 不登校・いじめ | Y48: {=IFERROR(VLOOKUP(INDIRECT("E48"),'18'!$A$4:$B$60,2,0),"")} -> 不登校・いじめ | Z48: {=IFERROR(VLOOKUP(INDIRECT("F48"),'18'!$A$4:$B$60,2,0),"")} | AA48: {=IFERROR(VLOOKUP(INDIRECT("G48"),'18'!$A$4:$B$60,2,0),"")}
B49: 41 | E49: 30 | H49: =_xlfn.CONCAT(Y49&" "&Z49&" "&AA49) -> 保護者連携 | Y49: {=IFERROR(VLOOKUP(INDIRECT("E49"),'18'!$A$4:$B$60,2,0),"")} -> 保護者連携 | Z49: {=IFERROR(VLOOKUP(INDIRECT("F49"),'18'!$A$4:$B$60,2,0),"")} | AA49: {=IFERROR(VLOOKUP(INDIRECT("G49"),'18'!$A$4:$B$60,2,0),"")}
B50: 42 | E50: 31 | H50: =_xlfn.CONCAT(Y50&" "&Z50&" "&AA50) -> 学級・ホームルーム経営の意義 | Y50: {=IFERROR(VLOOKUP(INDIRECT("E50"),'18'!$A$4:$B$60,2,0),"")} -> 学級・ホームルーム経営の意義 | Z50: {=IFERROR(VLOOKUP(INDIRECT("F50"),'18'!$A$4:$B$60,2,0),"")} | AA50: {=IFERROR(VLOOKUP(INDIRECT("G50"),'18'!$A$4:$B$60,2,0),"")}
B51: 43 | E51: 32 | H51: =_xlfn.CONCAT(Y51&" "&Z51&" "&AA51) -> 学級・ホームルーム経営の実際と工夫 | Y51: {=IFERROR(VLOOKUP(INDIRECT("E51"),'18'!$A$4:$B$60,2,0),"")} -> 学級・ホームルーム経営の実際と工夫 | Z51: {=IFERROR(VLOOKUP(INDIRECT("F51"),'18'!$A$4:$B$60,2,0),"")} | AA51: {=IFERROR(VLOOKUP(INDIRECT("G51"),'18'!$A$4:$B$60,2,0),"")}
B52: 44 | E52: 33 | H52: =_xlfn.CONCAT(Y52&" "&Z52&" "&AA52) -> 保護者と連携を図った学級・ホームルーム経営 | Y52: {=IFERROR(VLOOKUP(INDIRECT("E52"),'18'!$A$4:$B$60,2,0),"")} -> 保護者と連携を図った学級・ホームルーム経営 | Z52: {=IFERROR(VLOOKUP(INDIRECT("F52"),'18'!$A$4:$B$60,2,0),"")} | AA52: {=IFERROR(VLOOKUP(INDIRECT("G52"),'18'!$A$4:$B$60,2,0),"")}
B53: 45 | E53: 34 | H53: =_xlfn.CONCAT(Y53&" "&Z53&" "&AA53) -> 学級・ホームルーム事務の処理 | Y53: {=IFERROR(VLOOKUP(INDIRECT("E53"),'18'!$A$4:$B$60,2,0),"")} -> 学級・ホームルーム事務の処理 | Z53: {=IFERROR(VLOOKUP(INDIRECT("F53"),'18'!$A$4:$B$60,2,0),"")} | AA53: {=IFERROR(VLOOKUP(INDIRECT("G53"),'18'!$A$4:$B$60,2,0),"")}
B54: 46 | E54: 35 | H54: =_xlfn.CONCAT(Y54&" "&Z54&" "&AA54) -> 指導計画の作成(1)‐指導計画の作成‐ | Y54: {=IFERROR(VLOOKUP(INDIRECT("E54"),'18'!$A$4:$B$60,2,0),"")} -> 指導計画の作成(1)‐指導計画の作成‐ | Z54: {=IFERROR(VLOOKUP(INDIRECT("F54"),'18'!$A$4:$B$60,2,0),"")} | AA54: {=IFERROR(VLOOKUP(INDIRECT("G54"),'18'!$A$4:$B$60,2,0),"")}
B55: 47 | E55: 36 | H55: =_xlfn.CONCAT(Y55&" "&Z55&" "&AA55) -> 指導計画の作成(2)‐学習指導案の作成‐ | Y55: {=IFERROR(VLOOKUP(INDIRECT("E55"),'18'!$A$4:$B$60,2,0),"")} -> 指導計画の作成(2)‐学習指導案の作成‐ | Z55: {=IFERROR(VLOOKUP(INDIRECT("F55"),'18'!$A$4:$B$60,2,0),"")} | AA55: {=IFERROR(VLOOKUP(INDIRECT("G55"),'18'!$A$4:$B$60,2,0),"")}
B56: 48 | E56: 37 | H56: =_xlfn.CONCAT(Y56&" "&Z56&" "&AA56) -> 研究授業(1)‐課題の発見‐ | Y56: {=IFERROR(VLOOKUP(INDIRECT("E56"),'18'!$A$4:$B$60,2,0),"")} -> 研究授業(1)‐課題の発見‐ | Z56: {=IFERROR(VLOOKUP(INDIRECT("F56"),'18'!$A$4:$B$60,2,0),"")} | AA56: {=IFERROR(VLOOKUP(INDIRECT("G56"),'18'!$A$4:$B$60,2,0),"")}
B57: 49 | E57: 38 | H57: =_xlfn.CONCAT(Y57&" "&Z57&" "&AA57) -> 研究授業(2)‐事前・事後研究‐ | Y57: {=IFERROR(VLOOKUP(INDIRECT("E57"),'18'!$A$4:$B$60,2,0),"")} -> 研究授業(2)‐事前・事後研究‐ | Z57: {=IFERROR(VLOOKUP(INDIRECT("F57"),'18'!$A$4:$B$60,2,0),"")} | AA57: {=IFERROR(VLOOKUP(INDIRECT("G57"),'18'!$A$4:$B$60,2,0),"")}
B58: 50 | E58: 39 | H58: =_xlfn.CONCAT(Y58&" "&Z58&" "&AA58) -> 研究授業(3)‐課題の整理‐ | Y58: {=IFERROR(VLOOKUP(INDIRECT("E58"),'18'!$A$4:$B$60,2,0),"")} -> 研究授業(3)‐課題の整理‐ | Z58: {=IFERROR(VLOOKUP(INDIRECT("F58"),'18'!$A$4:$B$60,2,0),"")} | AA58: {=IFERROR(VLOOKUP(INDIRECT("G58"),'18'!$A$4:$B$60,2,0),"")}
B59: 51 | E59: 40 | H59: =_xlfn.CONCAT(Y59&" "&Z59&" "&AA59) -> 授業参観（教科）(1)‐授業改善に生かす視点‐ | Y59: {=IFERROR(VLOOKUP(INDIRECT("E59"),'18'!$A$4:$B$60,2,0),"")} -> 授業参観（教科）(1)‐授業改善に生かす視点‐ | Z59: {=IFERROR(VLOOKUP(INDIRECT("F59"),'18'!$A$4:$B$60,2,0),"")} | AA59: {=IFERROR(VLOOKUP(INDIRECT("G59"),'18'!$A$4:$B$60,2,0),"")}
B60: 52 | E60: 41 | H60: =_xlfn.CONCAT(Y60&" "&Z60&" "&AA60) -> 授業参観（教科）(2)‐教科教育の基礎技術‐ | Y60: {=IFERROR(VLOOKUP(INDIRECT("E60"),'18'!$A$4:$B$60,2,0),"")} -> 授業参観（教科）(2)‐教科教育の基礎技術‐ | Z60: {=IFERROR(VLOOKUP(INDIRECT("F60"),'18'!$A$4:$B$60,2,0),"")} | AA60: {=IFERROR(VLOOKUP(INDIRECT("G60"),'18'!$A$4:$B$60,2,0),"")}
B62: 1 | C62: 初任者が２人以上の場合、それぞれ別葉に作成する。
B63: 2 | C63: 実施日の確定が難しい場合は、実施の「月」のみを記入したり空欄にしたりする。
E66: ＜省略する研修項目＞
E68: 項目番号 | H68: 研 修 項 目 | I68: 研修項目を省略する理由 | N68: ③省略する研修項目番号
E69: 42 | H69: {=IFERROR(VLOOKUP(INDIRECT("E69"),'18'!$A$4:$B$60,2,0),"")} -> 授業参観（教科）(3)‐授業における児童生徒理解‐ | I69: 既習していると判断したため。 | Z69: {=IFERROR(VLOOKUP(INDIRECT("F9"),'18'!$A$4:$B$60,2,0),"")} | AA69: {=IFERROR(VLOOKUP(INDIRECT("G9"),'18'!$A$4:$B$60,2,0),"")}
H70: {=IFERROR(VLOOKUP(INDIRECT("E70"),'18'!$A$4:$B$60,2,0),"")} | N70: 52項目中 | Q70: =52-Q10 -> 11 | T70: 項目を省略する | Z70: {=IFERROR(VLOOKUP(INDIRECT("F10"),'18'!$A$4:$B$60,2,0),"")} -> 学校運営と校務分掌 | AA70: {=IFERROR(VLOOKUP(INDIRECT("G10"),'18'!$A$4:$B$60,2,0),"")}
H71: {=IFERROR(VLOOKUP(INDIRECT("E71"),'18'!$A$4:$B$60,2,0),"")}
H72: {=IFERROR(VLOOKUP(INDIRECT("E72"),'18'!$A$4:$B$60,2,0),"")} | N72: 1 | O72: 2 | P72: 3 | Q72: 4 | R72: 5 | S72: 6 | T72: 7 | U72: 8 | V72: 9 | W72: 10 | Z72: {=IFERROR(VLOOKUP(INDIRECT("F12"),'18'!$A$4:$B$60,2,0),"")} | AA72: {=IFERROR(VLOOKUP(INDIRECT("G12"),'18'!$A$4:$B$60,2,0),"")}
H73: {=IFERROR(VLOOKUP(INDIRECT("E73"),'18'!$A$4:$B$60,2,0),"")} | N73: 11 | O73: 12 | P73: 13 | Q73: 14 | R73: 15 | S73: 16 | T73: 17 | U73: 18 | V73: 19 | W73: 20 | Z73: {=IFERROR(VLOOKUP(INDIRECT("F13"),'18'!$A$4:$B$60,2,0),"")} | AA73: {=IFERROR(VLOOKUP(INDIRECT("G13"),'18'!$A$4:$B$60,2,0),"")}
H74: {=IFERROR(VLOOKUP(INDIRECT("E74"),'18'!$A$4:$B$60,2,0),"")} | N74: 21 | O74: 22 | P74: 23 | Q74: 24 | R74: 25 | S74: 26 | T74: 27 | U74: 28 | V74: 29 | W74: 30 | Y74: {=IFERROR(VLOOKUP(INDIRECT("E14"),'18'!$A$4:$B$60,2,0),"")} | Z74: {=IFERROR(VLOOKUP(INDIRECT("F14"),'18'!$A$4:$B$60,2,0),"")} | AA74: {=IFERROR(VLOOKUP(INDIRECT("G14"),'18'!$A$4:$B$60,2,0),"")}
H75: {=IFERROR(VLOOKUP(INDIRECT("E75"),'18'!$A$4:$B$60,2,0),"")} | N75: 31 | O75: 32 | P75: 33 | Q75: 34 | R75: 35 | S75: 36 | T75: 37 | U75: 38 | V75: 39 | W75: 40 | Y75: {=IFERROR(VLOOKUP(INDIRECT("E15"),'18'!$A$4:$B$60,2,0),"")} | Z75: {=IFERROR(VLOOKUP(INDIRECT("F15"),'18'!$A$4:$B$60,2,0),"")} | AA75: {=IFERROR(VLOOKUP(INDIRECT("G15"),'18'!$A$4:$B$60,2,0),"")}
H76: {=IFERROR(VLOOKUP(INDIRECT("E76"),'18'!$A$4:$B$60,2,0),"")} | N76: 41 | O76: 42 | P76: 43 | Q76: 44 | R76: 45 | S76: 46 | T76: 47 | U76: 48 | V76: 49 | W76: 50 | Y76: {=IFERROR(VLOOKUP(INDIRECT("E16"),'18'!$A$4:$B$60,2,0),"")} -> 児童生徒理解 | Z76: {=IFERROR(VLOOKUP(INDIRECT("F16"),'18'!$A$4:$B$60,2,0),"")} | AA76: {=IFERROR(VLOOKUP(INDIRECT("G16"),'18'!$A$4:$B$60,2,0),"")}
H77: {=IFERROR(VLOOKUP(INDIRECT("E77"),'18'!$A$4:$B$60,2,0),"")} | N77: 51 | O77: 52 | Y77: {=IFERROR(VLOOKUP(INDIRECT("E17"),'18'!$A$4:$B$60,2,0),"")} -> 児童生徒理解 | Z77: {=IFERROR(VLOOKUP(INDIRECT("F17"),'18'!$A$4:$B$60,2,0),"")} | AA77: {=IFERROR(VLOOKUP(INDIRECT("G17"),'18'!$A$4:$B$60,2,0),"")}
H78: {=IFERROR(VLOOKUP(INDIRECT("E78"),'18'!$A$4:$B$60,2,0),"")} | Y78: {=IFERROR(VLOOKUP(INDIRECT("E18"),'18'!$A$4:$B$60,2,0),"")} | Z78: {=IFERROR(VLOOKUP(INDIRECT("F18"),'18'!$A$4:$B$60,2,0),"")} | AA78: {=IFERROR(VLOOKUP(INDIRECT("G18"),'18'!$A$4:$B$60,2,0),"")}
H79: {=IFERROR(VLOOKUP(INDIRECT("E79"),'18'!$A$4:$B$60,2,0),"")} | O79: …省略する研修項目番号 | Y79: {=IFERROR(VLOOKUP(INDIRECT("E19"),'18'!$A$4:$B$60,2,0),"")} | Z79: {=IFERROR(VLOOKUP(INDIRECT("F19"),'18'!$A$4:$B$60,2,0),"")} | AA79: {=IFERROR(VLOOKUP(INDIRECT("G19"),'18'!$A$4:$B$60,2,0),"")}
H80: {=IFERROR(VLOOKUP(INDIRECT("E80"),'18'!$A$4:$B$60,2,0),"")} | Y80: {=IFERROR(VLOOKUP(INDIRECT("E20"),'18'!$A$4:$B$60,2,0),"")} | Z80: {=IFERROR(VLOOKUP(INDIRECT("F20"),'18'!$A$4:$B$60,2,0),"")} | AA80: {=IFERROR(VLOOKUP(INDIRECT("G20"),'18'!$A$4:$B$60,2,0),"")}
H81: {=IFERROR(VLOOKUP(INDIRECT("E81"),'18'!$A$4:$B$60,2,0),"")} | Y81: {=IFERROR(VLOOKUP(INDIRECT("E21"),'18'!$A$4:$B$60,2,0),"")} | Z81: {=IFERROR(VLOOKUP(INDIRECT("F21"),'18'!$A$4:$B$60,2,0),"")} | AA81: {=IFERROR(VLOOKUP(INDIRECT("G21"),'18'!$A$4:$B$60,2,0),"")}
H82: {=IFERROR(VLOOKUP(INDIRECT("E82"),'18'!$A$4:$B$60,2,0),"")} | Y82: {=IFERROR(VLOOKUP(INDIRECT("E22"),'18'!$A$4:$B$60,2,0),"")} -> 指導計画の作成(1)‐指導計画の作成‐ | Z82: {=IFERROR(VLOOKUP(INDIRECT("F22"),'18'!$A$4:$B$60,2,0),"")} | AA82: {=IFERROR(VLOOKUP(INDIRECT("G22"),'18'!$A$4:$B$60,2,0),"")}
H83: {=IFERROR(VLOOKUP(INDIRECT("E83"),'18'!$A$4:$B$60,2,0),"")} | Y83: {=IFERROR(VLOOKUP(INDIRECT("E23"),'18'!$A$4:$B$60,2,0),"")} | Z83: {=IFERROR(VLOOKUP(INDIRECT("F23"),'18'!$A$4:$B$60,2,0),"")} | AA83: {=IFERROR(VLOOKUP(INDIRECT("G23"),'18'!$A$4:$B$60,2,0),"")}
H84: {=IFERROR(VLOOKUP(INDIRECT("E84"),'18'!$A$4:$B$60,2,0),"")} | Y84: {=IFERROR(VLOOKUP(INDIRECT("E24"),'18'!$A$4:$B$60,2,0),"")} | Z84: {=IFERROR(VLOOKUP(INDIRECT("F24"),'18'!$A$4:$B$60,2,0),"")} | AA84: {=IFERROR(VLOOKUP(INDIRECT("G24"),'18'!$A$4:$B$60,2,0),"")}
H85: {=IFERROR(VLOOKUP(INDIRECT("E85"),'18'!$A$4:$B$60,2,0),"")} | Y85: {=IFERROR(VLOOKUP(INDIRECT("E25"),'18'!$A$4:$B$60,2,0),"")} | Z85: {=IFERROR(VLOOKUP(INDIRECT("F25"),'18'!$A$4:$B$60,2,0),"")} | AA85: {=IFERROR(VLOOKUP(INDIRECT("G25"),'18'!$A$4:$B$60,2,0),"")}

Sheet ４
B2: (2) センター等研修
G3: 学校名 | H3: 京都府立△△中学校
G5: 初任者名 | H5: 京都 京一
B7: 月 | C7: 日 | D7: 講座番号 | F7: 講 座 名 | G7: 場 所 | H7: 備 考
B8: {=IFERROR(VLOOKUP(INDIRECT("D8"),'20'!$A$3:$C$76,2,0),"")} -> 4 | C8: {=IFERROR(VLOOKUP(INDIRECT("D8"),'20'!$A$3:$C$76,3,0),"")} -> 1 | D8: 1001 | F8: =IFERROR(VLOOKUP(D8,'20'!$D$3:$E$76,2,0),"") -> 初任者・新規採用者研修共通「開講式等」講座（センター） | G8: =IFERROR(VLOOKUP(D8,'20'!$D$3:$G$76,4,0),"") -> 所属校（園）及び総合教育センター
B9: {=IFERROR(VLOOKUP(INDIRECT("D9"),'20'!$A$3:$C$76,2,0),"")} -> 4 | C9: {=IFERROR(VLOOKUP(INDIRECT("D9"),'20'!$A$3:$C$76,3,0),"")} -> 16 | D9: 1003 | F9: =IFERROR(VLOOKUP(D9,'20'!$D$3:$E$76,2,0),"") -> 初任者・新規採用者研修共通「初任期スタート」講座ａ | G9: =IFERROR(VLOOKUP(D9,'20'!$D$3:$G$76,4,0),"") -> 総合教育センター
B10: {=IFERROR(VLOOKUP(INDIRECT("D10"),'20'!$A$3:$C$76,2,0),"")} -> 4 | C10: {=IFERROR(VLOOKUP(INDIRECT("D10"),'20'!$A$3:$C$76,3,0),"")} -> 30 | D10: 1201 | F10: =IFERROR(VLOOKUP(D10,'20'!$D$3:$E$76,2,0),"") -> 初任者研修「中学校教科教育１」講座（センター） | G10: =IFERROR(VLOOKUP(D10,'20'!$D$3:$G$76,4,0),"") -> 総合教育センター
B11: {=IFERROR(VLOOKUP(INDIRECT("D11"),'20'!$A$3:$C$76,2,0),"")} -> 5 | C11: {=IFERROR(VLOOKUP(INDIRECT("D11"),'20'!$A$3:$C$76,3,0),"")} -> 14 | D11: 1503 | F11: =IFERROR(VLOOKUP(D11,'20'!$D$3:$E$76,2,0),"") -> 初任者研修「学級、ホームルーム経営・教育相談・情報教育」講座ａ | G11: =IFERROR(VLOOKUP(D11,'20'!$D$3:$G$76,4,0),"") -> 総合教育センター
B12: {=IFERROR(VLOOKUP(INDIRECT("D12"),'20'!$A$3:$C$76,2,0),"")} -> 5 | C12: {=IFERROR(VLOOKUP(INDIRECT("D12"),'20'!$A$3:$C$76,3,0),"")} -> 28 | D12: 1203 | F12: =IFERROR(VLOOKUP(D12,'20'!$D$3:$E$76,2,0),"") -> 初任者研修「中学校教科教育２」講座（センター） | G12: =IFERROR(VLOOKUP(D12,'20'!$D$3:$G$76,4,0),"") -> 所属校（園）及び総合教育センター
B13: {=IFERROR(VLOOKUP(INDIRECT("D13"),'20'!$A$3:$C$76,2,0),"")} -> 6 | C13: {=IFERROR(VLOOKUP(INDIRECT("D13"),'20'!$A$3:$C$76,3,0),"")} -> 11 | D13: 1009 | F13: =IFERROR(VLOOKUP(D13,'20'!$D$3:$E$76,2,0),"") -> 初任者・新規採用者研修共通「健康安全教育」講座ａ | G13: =IFERROR(VLOOKUP(D13,'20'!$D$3:$G$76,4,0),"") -> 所属校（園）
B14: {=IFERROR(VLOOKUP(INDIRECT("D14"),'20'!$A$3:$C$76,2,0),"")} -> 6 | C14: {=IFERROR(VLOOKUP(INDIRECT("D14"),'20'!$A$3:$C$76,3,0),"")} -> 25 | D14: 1505 | F14: =IFERROR(VLOOKUP(D14,'20'!$D$3:$E$76,2,0),"") -> 初任者研修「道徳教育・特別活動」講座ａ | G14: =IFERROR(VLOOKUP(D14,'20'!$D$3:$G$76,4,0),"") -> 総合教育センター
B15: {=IFERROR(VLOOKUP(INDIRECT("D15"),'20'!$A$3:$C$76,2,0),"")} -> 7 | C15: {=IFERROR(VLOOKUP(INDIRECT("D15"),'20'!$A$3:$C$76,3,0),"")} -> 21 | D15: 1005 | F15: =IFERROR(VLOOKUP(D15,'20'!$D$3:$E$76,2,0),"") -> 初任者・新規採用者研修共通「京の伝統文化体験」講座ａ | G15: =IFERROR(VLOOKUP(D15,'20'!$D$3:$G$76,4,0),"") -> 所属校（園）及び京都伝統工芸大学校
B16: {=IFERROR(VLOOKUP(INDIRECT("D16"),'20'!$A$3:$C$76,2,0),"")} -> 7 | C16: {=IFERROR(VLOOKUP(INDIRECT("D16"),'20'!$A$3:$C$76,3,0),"")} -> 28 | D16: 1205 | F16: =IFERROR(VLOOKUP(D16,'20'!$D$3:$E$76,2,0),"") -> 初任者研修「中学校教科教育３」講座（センター） | G16: =IFERROR(VLOOKUP(D16,'20'!$D$3:$G$76,4,0),"") -> 所属校（園）
B17: {=IFERROR(VLOOKUP(INDIRECT("D17"),'20'!$A$3:$C$76,2,0),"")} -> 8 | C17: {=IFERROR(VLOOKUP(INDIRECT("D17"),'20'!$A$3:$C$76,3,0),"")} -> 6 | D17: 1014 | F17: =IFERROR(VLOOKUP(D17,'20'!$D$3:$E$76,2,0),"") -> 初任者・新規採用者研修共通「人権教育・生徒指導」講座（センター） | G17: =IFERROR(VLOOKUP(D17,'20'!$D$3:$G$76,4,0),"") -> 所属校（園）及び総合教育センター
B18: {=IFERROR(VLOOKUP(INDIRECT("D18"),'20'!$A$3:$C$76,2,0),"")} -> 9 | C18: {=IFERROR(VLOOKUP(INDIRECT("D18"),'20'!$A$3:$C$76,3,0),"")} -> 3 | D18: 1011 | F18: =IFERROR(VLOOKUP(D18,'20'!$D$3:$E$76,2,0),"") -> 初任者・新規採用者研修共通「コミュニケーション」講座ａ | G18: =IFERROR(VLOOKUP(D18,'20'!$D$3:$G$76,4,0),"") -> 所属校（園）及び総合教育センター
B19: {=IFERROR(VLOOKUP(INDIRECT("D19"),'20'!$A$3:$C$76,2,0),"")} -> 9 | C19: {=IFERROR(VLOOKUP(INDIRECT("D19"),'20'!$A$3:$C$76,3,0),"")} -> 10 | D19: 1502 | F19: =IFERROR(VLOOKUP(D19,'20'!$D$3:$E$76,2,0),"") -> 初任者研修「総合的な学習の時間、総合的な探究の時間・社会教育」講座／リフレクション① | G19: =IFERROR(VLOOKUP(D19,'20'!$D$3:$G$76,4,0),"") -> 所属校（園）
B20: {=IFERROR(VLOOKUP(INDIRECT("D20"),'20'!$A$3:$C$76,2,0),"")} -> 10 | C20: {=IFERROR(VLOOKUP(INDIRECT("D20"),'20'!$A$3:$C$76,3,0),"")} -> 8 | D20: 1207 | F20: =IFERROR(VLOOKUP(D20,'20'!$D$3:$E$76,2,0),"") -> 初任者研修「中学校教科教育４」講座（センター） | G20: =IFERROR(VLOOKUP(D20,'20'!$D$3:$G$76,4,0),"") -> 総合教育センター
B21: {=IFERROR(VLOOKUP(INDIRECT("D21"),'20'!$A$3:$C$76,2,0),"")} -> 10 | C21: {=IFERROR(VLOOKUP(INDIRECT("D21"),'20'!$A$3:$C$76,3,0),"")} -> 15 | D21: 1214 | F21: =IFERROR(VLOOKUP(D21,'20'!$D$3:$E$76,2,0),"") -> 初任者研修「中学校キャリア教育」講座 | G21: =IFERROR(VLOOKUP(D21,'20'!$D$3:$G$76,4,0),"") -> 所属校（園）
B22: {=IFERROR(VLOOKUP(INDIRECT("D22"),'20'!$A$3:$C$76,2,0),"")} -> 11 | C22: {=IFERROR(VLOOKUP(INDIRECT("D22"),'20'!$A$3:$C$76,3,0),"")} -> 5 | D22: 1213 | F22: =IFERROR(VLOOKUP(D22,'20'!$D$3:$E$76,2,0),"") -> 初任者研修「中学校授業参観」講座 | G22: =IFERROR(VLOOKUP(D22,'20'!$D$3:$G$76,4,0),"") -> 未定
B23: {=IFERROR(VLOOKUP(INDIRECT("D23"),'20'!$A$3:$C$76,2,0),"")} -> 11 | C23: {=IFERROR(VLOOKUP(INDIRECT("D23"),'20'!$A$3:$C$76,3,0),"")} -> 19 | D23: 1209 | F23: =IFERROR(VLOOKUP(D23,'20'!$D$3:$E$76,2,0),"") -> 初任者研修「中学校教科教育５」講座（センター） | G23: =IFERROR(VLOOKUP(D23,'20'!$D$3:$G$76,4,0),"") -> 総合教育センター
B24: {=IFERROR(VLOOKUP(INDIRECT("D24"),'20'!$A$3:$C$76,2,0),"")} -> 1 | C24: {=IFERROR(VLOOKUP(INDIRECT("D24"),'20'!$A$3:$C$76,3,0),"")} -> 21 | D24: 1211 | F24: =IFERROR(VLOOKUP(D24,'20'!$D$3:$E$76,2,0),"") -> 初任者研修「中学校教科教育６」講座（センター） | G24: =IFERROR(VLOOKUP(D24,'20'!$D$3:$G$76,4,0),"") -> 所属校（園）及び総合教育センター
B25: {=IFERROR(VLOOKUP(INDIRECT("D25"),'20'!$A$3:$C$76,2,0),"")} -> 1 | C25: {=IFERROR(VLOOKUP(INDIRECT("D25"),'20'!$A$3:$C$76,3,0),"")} -> 28 | D25: 1501 | F25: =IFERROR(VLOOKUP(D25,'20'!$D$3:$E$76,2,0),"") -> 初任者研修「教育実践」講座／リフレクション② | G25: =IFERROR(VLOOKUP(D25,'20'!$D$3:$G$76,4,0),"") -> 所属校（園）
B26: 他 校 種 体 験 研 修
B27: 月 | C27: 日 | D27: 内 容 | G27: 場 所 | H27: 備 考
B28: 9 | C28: 〇 | D28: 運動会の運営 | G28: 〇〇市立△△小学校
D29: 未定 | G29: 京都府立〇〇高等学校
F31: 合計 | G31: 20 | H31: 日
B36: １ 初任者が２人以上の場合、それぞれ別葉に作成する。
B37: ２ 実施予定時期の早い順に記入する。
B38: ３ 実施日が確定していない場合は、空欄とする。
B39: ４ 実施場所が確定していない場合は、「未定」と記入する。

Sheet ５
A1: （様式３－１－１）
B3: 令和８年度初任者研修年間指導計画書
D5: 学校名
D7: 校長名
G8: （公印不要）
A10: １ 初任者、指導教員等名簿
A12: 初任者 | C12: 指導教員 | F12: 教科指導員
A19: ２ 初任者等の校務分掌等
A20: （初任者）
A21: 氏名 | C21: 担当教科 | E21: 学級・HR担任 | F21: 講師経験
A22: {=INDIRECT("B12")} -> 0
A23: {=INDIRECT("B13")} -> 0
A24: {=INDIRECT("B14")} -> 0
A25: {=INDIRECT("B15")} -> 0
A26: {=INDIRECT("B16")} -> 0
A27: {=INDIRECT("B17")} -> 0
A29: （指導教員・教科指導員）
A30: 氏名 | C30: 職名 | E30: 担当教科 | F30: 指導教員経験
A40: ３ 実施体制
A45: ４ 実施上の重点事項等

Sheet ６
A1: (様式３－１－２)
B2: ５ 年間指導計画
B3: (1) 勤務校研修
I4: 学校名 | J4: {=INDIRECT("5!E5")} -> 0
I6: 初任者名 | J6: {=INDIRECT("5!A22")} -> 0 | N6: ★入力者 確認用データ | AD6: ★センター担当者 整理用データ
B8: 回数 | C8: 月 | D8: 日 | E8: 項目番号 | H8: 研 修 項 目 | I8: 講 師 | J8: 備 考（研究大会名・研修会名称等） | N8: ①実施予定の研修項目番号 | AD8: ①項目別の実施予定回数
B9: 1 | H9: =_xlfn.CONCAT(Y9&" "&Z9&" "&AA9) | Y9: {=IFERROR(VLOOKUP(INDIRECT("E9"),'18'!$A$4:$B$60,2,0),"")} | Z9: {=IFERROR(VLOOKUP(INDIRECT("F9"),'18'!$A$4:$B$60,2,0),"")} | AA9: {=IFERROR(VLOOKUP(INDIRECT("G9"),'18'!$A$4:$B$60,2,0),"")} | AD9: 1 | AE9: 2 | AF9: 3 | AG9: 4 | AH9: 5 | AI9: 6 | AJ9: 7 | AK9: 8 | AL9: 9 | AM9: 10 | AN9: 11 | AO9: 12 | AP9: 13
B10: 2 | H10: =_xlfn.CONCAT(Y10&" "&Z10&" "&AA10) | N10: 52項目中 | Q10: {=SUM(--(FREQUENCY(IF((項目番号全体>=1)*(項目番号全体<=52), 項目番号全体), ROW(INDIRECT("1:52")))>0))} -> 0 | T10: 項目実施予定 | Y10: {=IFERROR(VLOOKUP(INDIRECT("E10"),'18'!$A$4:$B$60,2,0),"")} | Z10: {=IFERROR(VLOOKUP(INDIRECT("F10"),'18'!$A$4:$B$60,2,0),"")} | AA10: {=IFERROR(VLOOKUP(INDIRECT("G10"),'18'!$A$4:$B$60,2,0),"")} | AD10: =COUNTIF(項目番号全体,AD9) -> 0 | AE10: =COUNTIF(項目番号全体,AE9) -> 0 | AF10: =COUNTIF(項目番号全体,AF9) -> 0 | AG10: =COUNTIF(項目番号全体,AG9) -> 0 | AH10: =COUNTIF(項目番号全体,AH9) -> 0 | AI10: =COUNTIF(項目番号全体,AI9) -> 0 | AJ10: =COUNTIF(項目番号全体,AJ9) -> 0 | AK10: =COUNTIF(項目番号全体,AK9) -> 0 | ... AP10: =COUNTIF(項目番号全体,AP9) -> 0
B11: 3 | H11: =_xlfn.CONCAT(Y11&" "&Z11&" "&AA11) | Y11: {=IFERROR(VLOOKUP(INDIRECT("E11"),'18'!$A$4:$B$60,2,0),"")} | Z11: {=IFERROR(VLOOKUP(INDIRECT("F11"),'18'!$A$4:$B$60,2,0),"")} | AA11: {=IFERROR(VLOOKUP(INDIRECT("G11"),'18'!$A$4:$B$60,2,0),"")}
B12: 4 | H12: =_xlfn.CONCAT(Y12&" "&Z12&" "&AA12) | N12: 1 | O12: 2 | P12: 3 | Q12: 4 | R12: 5 | S12: 6 | T12: 7 | U12: 8 | V12: 9 | W12: 10 | Y12: {=IFERROR(VLOOKUP(INDIRECT("E12"),'18'!$A$4:$B$60,2,0),"")} | Z12: {=IFERROR(VLOOKUP(INDIRECT("F12"),'18'!$A$4:$B$60,2,0),"")} | AA12: {=IFERROR(VLOOKUP(INDIRECT("G12"),'18'!$A$4:$B$60,2,0),"")} | AD12: 14 | AE12: 15 | AF12: 16 | AG12: 17 | AH12: 18 | AI12: 19 | AJ12: 20 | AK12: 21 | AL12: 22 | AM12: 23 | AN12: 24 | AO12: 25 | AP12: 26
B13: 5 | H13: =_xlfn.CONCAT(Y13&" "&Z13&" "&AA13) | N13: 11 | O13: 12 | P13: 13 | Q13: 14 | R13: 15 | S13: 16 | T13: 17 | U13: 18 | V13: 19 | W13: 20 | Y13: {=IFERROR(VLOOKUP(INDIRECT("E13"),'18'!$A$4:$B$60,2,0),"")} | Z13: {=IFERROR(VLOOKUP(INDIRECT("F13"),'18'!$A$4:$B$60,2,0),"")} | AA13: {=IFERROR(VLOOKUP(INDIRECT("G13"),'18'!$A$4:$B$60,2,0),"")} | AD13: =COUNTIF(項目番号全体,AD12) -> 0 | AE13: =COUNTIF(項目番号全体,AE12) -> 0 | AF13: =COUNTIF(項目番号全体,AF12) -> 0 | AG13: =COUNTIF(項目番号全体,AG12) -> 0 | AH13: =COUNTIF(項目番号全体,AH12) -> 0 | AI13: =COUNTIF(項目番号全体,AI12) -> 0 | AJ13: =COUNTIF(項目番号全体,AJ12) -> 0 | AK13: =COUNTIF(項目番号全体,AK12) -> 0 | ... AP13: =COUNTIF(項目番号全体,AP12) -> 0
B14: 6 | H14: =_xlfn.CONCAT(Y14&" "&Z14&" "&AA14) | N14: 21 | O14: 22 | P14: 23 | Q14: 24 | R14: 25 | S14: 26 | T14: 27 | U14: 28 | V14: 29 | W14: 30 | Y14: {=IFERROR(VLOOKUP(INDIRECT("E14"),'18'!$A$4:$B$60,2,0),"")} | Z14: {=IFERROR(VLOOKUP(INDIRECT("F14"),'18'!$A$4:$B$60,2,0),"")} | AA14: {=IFERROR(VLOOKUP(INDIRECT("G14"),'18'!$A$4:$B$60,2,0),"")}
B15: 7 | H15: =_xlfn.CONCAT(Y15&" "&Z15&" "&AA15) | N15: 31 | O15: 32 | P15: 33 | Q15: 34 | R15: 35 | S15: 36 | T15: 37 | U15: 38 | V15: 39 | W15: 40 | Y15: {=IFERROR(VLOOKUP(INDIRECT("E15"),'18'!$A$4:$B$60,2,0),"")} | Z15: {=IFERROR(VLOOKUP(INDIRECT("F15"),'18'!$A$4:$B$60,2,0),"")} | AA15: {=IFERROR(VLOOKUP(INDIRECT("G15"),'18'!$A$4:$B$60,2,0),"")} | AD15: 27 | AE15: 28 | AF15: 29 | AG15: 30 | AH15: 31 | AI15: 32 | AJ15: 33 | AK15: 34 | AL15: 35 | AM15: 36 | AN15: 37 | AO15: 38 | AP15: 39
B16: 8 | H16: =_xlfn.CONCAT(Y16&" "&Z16&" "&AA16) | N16: 41 | O16: 42 | P16: 43 | Q16: 44 | R16: 45 | S16: 46 | T16: 47 | U16: 48 | V16: 49 | W16: 50 | Y16: {=IFERROR(VLOOKUP(INDIRECT("E16"),'18'!$A$4:$B$60,2,0),"")} | Z16: {=IFERROR(VLOOKUP(INDIRECT("F16"),'18'!$A$4:$B$60,2,0),"")} | AA16: {=IFERROR(VLOOKUP(INDIRECT("G16"),'18'!$A$4:$B$60,2,0),"")} | AD16: =COUNTIF(項目番号全体,AD15) -> 0 | AE16: =COUNTIF(項目番号全体,AE15) -> 0 | AF16: =COUNTIF(項目番号全体,AF15) -> 0 | AG16: =COUNTIF(項目番号全体,AG15) -> 0 | AH16: =COUNTIF(項目番号全体,AH15) -> 0 | AI16: =COUNTIF(項目番号全体,AI15) -> 0 | AJ16: =COUNTIF(項目番号全体,AJ15) -> 0 | AK16: =COUNTIF(項目番号全体,AK15) -> 0 | ... AP16: =COUNTIF(項目番号全体,AP15) -> 0
B17: 9 | H17: =_xlfn.CONCAT(Y17&" "&Z17&" "&AA17) | N17: 51 | O17: 52 | Y17: {=IFERROR(VLOOKUP(INDIRECT("E17"),'18'!$A$4:$B$60,2,0),"")} | Z17: {=IFERROR(VLOOKUP(INDIRECT("F17"),'18'!$A$4:$B$60,2,0),"")} | AA17: {=IFERROR(VLOOKUP(INDIRECT("G17"),'18'!$A$4:$B$60,2,0),"")}
B18: 10 | H18: =_xlfn.CONCAT(Y18&" "&Z18&" "&AA18) | Y18: {=IFERROR(VLOOKUP(INDIRECT("E18"),'18'!$A$4:$B$60,2,0),"")} | Z18: {=IFERROR(VLOOKUP(INDIRECT("F18"),'18'!$A$4:$B$60,2,0),"")} | AA18: {=IFERROR(VLOOKUP(INDIRECT("G18"),'18'!$A$4:$B$60,2,0),"")} | AD18: 40 | AE18: 41 | AF18: 42 | AG18: 43 | AH18: 44 | AI18: 45 | AJ18: 46 | AK18: 47 | AL18: 48 | AM18: 49 | AN18: 50 | AO18: 51 | AP18: 52
B19: 11 | H19: =_xlfn.CONCAT(Y19&" "&Z19&" "&AA19) | O19: …１回以上実施予定の研修項目番号 | Y19: {=IFERROR(VLOOKUP(INDIRECT("E19"),'18'!$A$4:$B$60,2,0),"")} | Z19: {=IFERROR(VLOOKUP(INDIRECT("F19"),'18'!$A$4:$B$60,2,0),"")} | AA19: {=IFERROR(VLOOKUP(INDIRECT("G19"),'18'!$A$4:$B$60,2,0),"")} | AD19: =COUNTIF(項目番号全体,AD18) -> 0 | AE19: =COUNTIF(項目番号全体,AE18) -> 0 | AF19: =COUNTIF(項目番号全体,AF18) -> 0 | AG19: =COUNTIF(項目番号全体,AG18) -> 0 | AH19: =COUNTIF(項目番号全体,AH18) -> 0 | AI19: =COUNTIF(項目番号全体,AI18) -> 0 | AJ19: =COUNTIF(項目番号全体,AJ18) -> 0 | AK19: =COUNTIF(項目番号全体,AK18) -> 0 | ... AP19: =COUNTIF(項目番号全体,AP18) -> 0
B20: 12 | H20: =_xlfn.CONCAT(Y20&" "&Z20&" "&AA20) | Y20: {=IFERROR(VLOOKUP(INDIRECT("E20"),'18'!$A$4:$B$60,2,0),"")} | Z20: {=IFERROR(VLOOKUP(INDIRECT("F20"),'18'!$A$4:$B$60,2,0),"")} | AA20: {=IFERROR(VLOOKUP(INDIRECT("G20"),'18'!$A$4:$B$60,2,0),"")}
B21: 13 | H21: =_xlfn.CONCAT(Y21&" "&Z21&" "&AA21) | N21: ②実施予定の勤務校研修の回数 | Y21: {=IFERROR(VLOOKUP(INDIRECT("E21"),'18'!$A$4:$B$60,2,0),"")} | Z21: {=IFERROR(VLOOKUP(INDIRECT("F21"),'18'!$A$4:$B$60,2,0),"")} | AA21: {=IFERROR(VLOOKUP(INDIRECT("G21"),'18'!$A$4:$B$60,2,0),"")} | AD21: ②実施予定の勤務校研修の項目数
B22: 14 | H22: =_xlfn.CONCAT(Y22&" "&Z22&" "&AA22) | Y22: {=IFERROR(VLOOKUP(INDIRECT("E22"),'18'!$A$4:$B$60,2,0),"")} | Z22: {=IFERROR(VLOOKUP(INDIRECT("F22"),'18'!$A$4:$B$60,2,0),"")} | AA22: {=IFERROR(VLOOKUP(INDIRECT("G22"),'18'!$A$4:$B$60,2,0),"")}
B23: 15 | H23: =_xlfn.CONCAT(Y23&" "&Z23&" "&AA23) | Q23: {=SUMPRODUCT(--((ISNUMBER(項目番号１)+ISNUMBER(項目番号２)+ISNUMBER(項目番号３))>0))} -> 0 | T23: 回 | Y23: {=IFERROR(VLOOKUP(INDIRECT("E23"),'18'!$A$4:$B$60,2,0),"")} | Z23: {=IFERROR(VLOOKUP(INDIRECT("F23"),'18'!$A$4:$B$60,2,0),"")} | AA23: {=IFERROR(VLOOKUP(INDIRECT("G23"),'18'!$A$4:$B$60,2,0),"")} | AD23: {=INDIRECT("Q10")} -> 0 | AF23: 項目
B24: 16 | H24: =_xlfn.CONCAT(Y24&" "&Z24&" "&AA24) | Y24: {=IFERROR(VLOOKUP(INDIRECT("E24"),'18'!$A$4:$B$60,2,0),"")} | Z24: {=IFERROR(VLOOKUP(INDIRECT("F24"),'18'!$A$4:$B$60,2,0),"")} | AA24: {=IFERROR(VLOOKUP(INDIRECT("G24"),'18'!$A$4:$B$60,2,0),"")}
B25: 17 | H25: =_xlfn.CONCAT(Y25&" "&Z25&" "&AA25) | N25: ＊勤務校研修の回数は、35～52回の間 になるように予定を立ててください。 | Y25: {=IFERROR(VLOOKUP(INDIRECT("E25"),'18'!$A$4:$B$60,2,0),"")} | Z25: {=IFERROR(VLOOKUP(INDIRECT("F25"),'18'!$A$4:$B$60,2,0),"")} | AA25: {=IFERROR(VLOOKUP(INDIRECT("G25"),'18'!$A$4:$B$60,2,0),"")} | AD25: ③実施予定の勤務校研修の回数
B26: 18 | H26: =_xlfn.CONCAT(Y26&" "&Z26&" "&AA26) | Y26: {=IFERROR(VLOOKUP(INDIRECT("E26"),'18'!$A$4:$B$60,2,0),"")} | Z26: {=IFERROR(VLOOKUP(INDIRECT("F26"),'18'!$A$4:$B$60,2,0),"")} | AA26: {=IFERROR(VLOOKUP(INDIRECT("G26"),'18'!$A$4:$B$60,2,0),"")}
B27: 19 | H27: =_xlfn.CONCAT(Y27&" "&Z27&" "&AA27) | Y27: {=IFERROR(VLOOKUP(INDIRECT("E27"),'18'!$A$4:$B$60,2,0),"")} | Z27: {=IFERROR(VLOOKUP(INDIRECT("F27"),'18'!$A$4:$B$60,2,0),"")} | AA27: {=IFERROR(VLOOKUP(INDIRECT("G27"),'18'!$A$4:$B$60,2,0),"")} | AD27: {=INDIRECT("Q23")} -> 0 | AF27: 回
B28: 20 | H28: =_xlfn.CONCAT(Y28&" "&Z28&" "&AA28) | Y28: {=IFERROR(VLOOKUP(INDIRECT("E28"),'18'!$A$4:$B$60,2,0),"")} | Z28: {=IFERROR(VLOOKUP(INDIRECT("F28"),'18'!$A$4:$B$60,2,0),"")} | AA28: {=IFERROR(VLOOKUP(INDIRECT("G28"),'18'!$A$4:$B$60,2,0),"")}
B29: 21 | H29: =_xlfn.CONCAT(Y29&" "&Z29&" "&AA29) | Y29: {=IFERROR(VLOOKUP(INDIRECT("E29"),'18'!$A$4:$B$60,2,0),"")} | Z29: {=IFERROR(VLOOKUP(INDIRECT("F29"),'18'!$A$4:$B$60,2,0),"")} | AA29: {=IFERROR(VLOOKUP(INDIRECT("G29"),'18'!$A$4:$B$60,2,0),"")}
B30: 22 | H30: =_xlfn.CONCAT(Y30&" "&Z30&" "&AA30) | Y30: {=IFERROR(VLOOKUP(INDIRECT("E30"),'18'!$A$4:$B$60,2,0),"")} | Z30: {=IFERROR(VLOOKUP(INDIRECT("F30"),'18'!$A$4:$B$60,2,0),"")} | AA30: {=IFERROR(VLOOKUP(INDIRECT("G30"),'18'!$A$4:$B$60,2,0),"")}
B31: 23 | H31: =_xlfn.CONCAT(Y31&" "&Z31&" "&AA31) | Y31: {=IFERROR(VLOOKUP(INDIRECT("E31"),'18'!$A$4:$B$60,2,0),"")} | Z31: {=IFERROR(VLOOKUP(INDIRECT("F31"),'18'!$A$4:$B$60,2,0),"")} | AA31: {=IFERROR(VLOOKUP(INDIRECT("G31"),'18'!$A$4:$B$60,2,0),"")}
B32: 24 | H32: =_xlfn.CONCAT(Y32&" "&Z32&" "&AA32) | Y32: {=IFERROR(VLOOKUP(INDIRECT("E32"),'18'!$A$4:$B$60,2,0),"")} | Z32: {=IFERROR(VLOOKUP(INDIRECT("F32"),'18'!$A$4:$B$60,2,0),"")} | AA32: {=IFERROR(VLOOKUP(INDIRECT("G32"),'18'!$A$4:$B$60,2,0),"")}
B33: 25 | H33: =_xlfn.CONCAT(Y33&" "&Z33&" "&AA33) | Y33: {=IFERROR(VLOOKUP(INDIRECT("E33"),'18'!$A$4:$B$60,2,0),"")} | Z33: {=IFERROR(VLOOKUP(INDIRECT("F33"),'18'!$A$4:$B$60,2,0),"")} | AA33: {=IFERROR(VLOOKUP(INDIRECT("G33"),'18'!$A$4:$B$60,2,0),"")}
B34: 26 | H34: =_xlfn.CONCAT(Y34&" "&Z34&" "&AA34) | Y34: {=IFERROR(VLOOKUP(INDIRECT("E34"),'18'!$A$4:$B$60,2,0),"")} | Z34: {=IFERROR(VLOOKUP(INDIRECT("F34"),'18'!$A$4:$B$60,2,0),"")} | AA34: {=IFERROR(VLOOKUP(INDIRECT("G34"),'18'!$A$4:$B$60,2,0),"")}
B35: 27 | H35: =_xlfn.CONCAT(Y35&" "&Z35&" "&AA35) | Y35: {=IFERROR(VLOOKUP(INDIRECT("E35"),'18'!$A$4:$B$60,2,0),"")} | Z35: {=IFERROR(VLOOKUP(INDIRECT("F35"),'18'!$A$4:$B$60,2,0),"")} | AA35: {=IFERROR(VLOOKUP(INDIRECT("G35"),'18'!$A$4:$B$60,2,0),"")}
B36: 28 | H36: =_xlfn.CONCAT(Y36&" "&Z36&" "&AA36) | Y36: {=IFERROR(VLOOKUP(INDIRECT("E36"),'18'!$A$4:$B$60,2,0),"")} | Z36: {=IFERROR(VLOOKUP(INDIRECT("F36"),'18'!$A$4:$B$60,2,0),"")} | AA36: {=IFERROR(VLOOKUP(INDIRECT("G36"),'18'!$A$4:$B$60,2,0),"")}
B37: 29 | H37: =_xlfn.CONCAT(Y37&" "&Z37&" "&AA37) | Y37: {=IFERROR(VLOOKUP(INDIRECT("E37"),'18'!$A$4:$B$60,2,0),"")} | Z37: {=IFERROR(VLOOKUP(INDIRECT("F37"),'18'!$A$4:$B$60,2,0),"")} | AA37: {=IFERROR(VLOOKUP(INDIRECT("G37"),'18'!$A$4:$B$60,2,0),"")}
B38: 30 | H38: =_xlfn.CONCAT(Y38&" "&Z38&" "&AA38) | Y38: {=IFERROR(VLOOKUP(INDIRECT("E38"),'18'!$A$4:$B$60,2,0),"")} | Z38: {=IFERROR(VLOOKUP(INDIRECT("F38"),'18'!$A$4:$B$60,2,0),"")} | AA38: {=IFERROR(VLOOKUP(INDIRECT("G38"),'18'!$A$4:$B$60,2,0),"")}
B39: 31 | H39: =_xlfn.CONCAT(Y39&" "&Z39&" "&AA39) | Y39: {=IFERROR(VLOOKUP(INDIRECT("E39"),'18'!$A$4:$B$60,2,0),"")} | Z39: {=IFERROR(VLOOKUP(INDIRECT("F39"),'18'!$A$4:$B$60,2,0),"")} | AA39: {=IFERROR(VLOOKUP(INDIRECT("G39"),'18'!$A$4:$B$60,2,0),"")}
B40: 32 | H40: =_xlfn.CONCAT(Y40&" "&Z40&" "&AA40) | Y40: {=IFERROR(VLOOKUP(INDIRECT("E40"),'18'!$A$4:$B$60,2,0),"")} | Z40: {=IFERROR(VLOOKUP(INDIRECT("F40"),'18'!$A$4:$B$60,2,0),"")} | AA40: {=IFERROR(VLOOKUP(INDIRECT("G40"),'18'!$A$4:$B$60,2,0),"")}
B41: 33 | H41: =_xlfn.CONCAT(Y41&" "&Z41&" "&AA41) | Y41: {=IFERROR(VLOOKUP(INDIRECT("E41"),'18'!$A$4:$B$60,2,0),"")} | Z41: {=IFERROR(VLOOKUP(INDIRECT("F41"),'18'!$A$4:$B$60,2,0),"")} | AA41: {=IFERROR(VLOOKUP(INDIRECT("G41"),'18'!$A$4:$B$60,2,0),"")}
B42: 34 | H42: =_xlfn.CONCAT(Y42&" "&Z42&" "&AA42) | Y42: {=IFERROR(VLOOKUP(INDIRECT("E42"),'18'!$A$4:$B$60,2,0),"")} | Z42: {=IFERROR(VLOOKUP(INDIRECT("F42"),'18'!$A$4:$B$60,2,0),"")} | AA42: {=IFERROR(VLOOKUP(INDIRECT("G42"),'18'!$A$4:$B$60,2,0),"")}
B43: 35 | H43: =_xlfn.CONCAT(Y43&" "&Z43&" "&AA43) | Y43: {=IFERROR(VLOOKUP(INDIRECT("E43"),'18'!$A$4:$B$60,2,0),"")} | Z43: {=IFERROR(VLOOKUP(INDIRECT("F43"),'18'!$A$4:$B$60,2,0),"")} | AA43: {=IFERROR(VLOOKUP(INDIRECT("G43"),'18'!$A$4:$B$60,2,0),"")}
B44: 36 | H44: =_xlfn.CONCAT(Y44&" "&Z44&" "&AA44) | Y44: {=IFERROR(VLOOKUP(INDIRECT("E44"),'18'!$A$4:$B$60,2,0),"")} | Z44: {=IFERROR(VLOOKUP(INDIRECT("F44"),'18'!$A$4:$B$60,2,0),"")} | AA44: {=IFERROR(VLOOKUP(INDIRECT("G44"),'18'!$A$4:$B$60,2,0),"")}
B45: 37 | H45: =_xlfn.CONCAT(Y45&" "&Z45&" "&AA45) | Y45: {=IFERROR(VLOOKUP(INDIRECT("E45"),'18'!$A$4:$B$60,2,0),"")} | Z45: {=IFERROR(VLOOKUP(INDIRECT("F45"),'18'!$A$4:$B$60,2,0),"")} | AA45: {=IFERROR(VLOOKUP(INDIRECT("G45"),'18'!$A$4:$B$60,2,0),"")}
B46: 38 | H46: =_xlfn.CONCAT(Y46&" "&Z46&" "&AA46) | Y46: {=IFERROR(VLOOKUP(INDIRECT("E46"),'18'!$A$4:$B$60,2,0),"")} | Z46: {=IFERROR(VLOOKUP(INDIRECT("F46"),'18'!$A$4:$B$60,2,0),"")} | AA46: {=IFERROR(VLOOKUP(INDIRECT("G46"),'18'!$A$4:$B$60,2,0),"")}
B47: 39 | H47: =_xlfn.CONCAT(Y47&" "&Z47&" "&AA47) | Y47: {=IFERROR(VLOOKUP(INDIRECT("E47"),'18'!$A$4:$B$60,2,0),"")} | Z47: {=IFERROR(VLOOKUP(INDIRECT("F47"),'18'!$A$4:$B$60,2,0),"")} | AA47: {=IFERROR(VLOOKUP(INDIRECT("G47"),'18'!$A$4:$B$60,2,0),"")}
B48: 40 | H48: =_xlfn.CONCAT(Y48&" "&Z48&" "&AA48) | Y48: {=IFERROR(VLOOKUP(INDIRECT("E48"),'18'!$A$4:$B$60,2,0),"")} | Z48: {=IFERROR(VLOOKUP(INDIRECT("F48"),'18'!$A$4:$B$60,2,0),"")} | AA48: {=IFERROR(VLOOKUP(INDIRECT("G48"),'18'!$A$4:$B$60,2,0),"")}
B49: 41 | H49: =_xlfn.CONCAT(Y49&" "&Z49&" "&AA49) | Y49: {=IFERROR(VLOOKUP(INDIRECT("E49"),'18'!$A$4:$B$60,2,0),"")} | Z49: {=IFERROR(VLOOKUP(INDIRECT("F49"),'18'!$A$4:$B$60,2,0),"")} | AA49: {=IFERROR(VLOOKUP(INDIRECT("G49"),'18'!$A$4:$B$60,2,0),"")}
B50: 42 | H50: =_xlfn.CONCAT(Y50&" "&Z50&" "&AA50) | Y50: {=IFERROR(VLOOKUP(INDIRECT("E50"),'18'!$A$4:$B$60,2,0),"")} | Z50: {=IFERROR(VLOOKUP(INDIRECT("F50"),'18'!$A$4:$B$60,2,0),"")} | AA50: {=IFERROR(VLOOKUP(INDIRECT("G50"),'18'!$A$4:$B$60,2,0),"")}
B51: 43 | H51: =_xlfn.CONCAT(Y51&" "&Z51&" "&AA51) | Y51: {=IFERROR(VLOOKUP(INDIRECT("E51"),'18'!$A$4:$B$60,2,0),"")} | Z51: {=IFERROR(VLOOKUP(INDIRECT("F51"),'18'!$A$4:$B$60,2,0),"")} | AA51: {=IFERROR(VLOOKUP(INDIRECT("G51"),'18'!$A$4:$B$60,2,0),"")}
B52: 44 | H52: =_xlfn.CONCAT(Y52&" "&Z52&" "&AA52) | Y52: {=IFERROR(VLOOKUP(INDIRECT("E52"),'18'!$A$4:$B$60,2,0),"")} | Z52: {=IFERROR(VLOOKUP(INDIRECT("F52"),'18'!$A$4:$B$60,2,0),"")} | AA52: {=IFERROR(VLOOKUP(INDIRECT("G52"),'18'!$A$4:$B$60,2,0),"")}
B53: 45 | H53: =_xlfn.CONCAT(Y53&" "&Z53&" "&AA53) | Y53: {=IFERROR(VLOOKUP(INDIRECT("E53"),'18'!$A$4:$B$60,2,0),"")} | Z53: {=IFERROR(VLOOKUP(INDIRECT("F53"),'18'!$A$4:$B$60,2,0),"")} | AA53: {=IFERROR(VLOOKUP(INDIRECT("G53"),'18'!$A$4:$B$60,2,0),"")}
B54: 46 | H54: =_xlfn.CONCAT(Y54&" "&Z54&" "&AA54) | Y54: {=IFERROR(VLOOKUP(INDIRECT("E54"),'18'!$A$4:$B$60,2,0),"")} | Z54: {=IFERROR(VLOOKUP(INDIRECT("F54"),'18'!$A$4:$B$60,2,0),"")} | AA54: {=IFERROR(VLOOKUP(INDIRECT("G54"),'18'!$A$4:$B$60,2,0),"")}
B55: 47 | H55: =_xlfn.CONCAT(Y55&" "&Z55&" "&AA55) | Y55: {=IFERROR(VLOOKUP(INDIRECT("E55"),'18'!$A$4:$B$60,2,0),"")} | Z55: {=IFERROR(VLOOKUP(INDIRECT("F55"),'18'!$A$4:$B$60,2,0),"")} | AA55: {=IFERROR(VLOOKUP(INDIRECT("G55"),'18'!$A$4:$B$60,2,0),"")}
B56: 48 | H56: =_xlfn.CONCAT(Y56&" "&Z56&" "&AA56) | Y56: {=IFERROR(VLOOKUP(INDIRECT("E56"),'18'!$A$4:$B$60,2,0),"")} | Z56: {=IFERROR(VLOOKUP(INDIRECT("F56"),'18'!$A$4:$B$60,2,0),"")} | AA56: {=IFERROR(VLOOKUP(INDIRECT("G56"),'18'!$A$4:$B$60,2,0),"")}
B57: 49 | H57: =_xlfn.CONCAT(Y57&" "&Z57&" "&AA57) | Y57: {=IFERROR(VLOOKUP(INDIRECT("E57"),'18'!$A$4:$B$60,2,0),"")} | Z57: {=IFERROR(VLOOKUP(INDIRECT("F57"),'18'!$A$4:$B$60,2,0),"")} | AA57: {=IFERROR(VLOOKUP(INDIRECT("G57"),'18'!$A$4:$B$60,2,0),"")}
B58: 50 | H58: =_xlfn.CONCAT(Y58&" "&Z58&" "&AA58) | Y58: {=IFERROR(VLOOKUP(INDIRECT("E58"),'18'!$A$4:$B$60,2,0),"")} | Z58: {=IFERROR(VLOOKUP(INDIRECT("F58"),'18'!$A$4:$B$60,2,0),"")} | AA58: {=IFERROR(VLOOKUP(INDIRECT("G58"),'18'!$A$4:$B$60,2,0),"")}
B59: 51 | H59: =_xlfn.CONCAT(Y59&" "&Z59&" "&AA59) | Y59: {=IFERROR(VLOOKUP(INDIRECT("E59"),'18'!$A$4:$B$60,2,0),"")} | Z59: {=IFERROR(VLOOKUP(INDIRECT("F59"),'18'!$A$4:$B$60,2,0),"")} | AA59: {=IFERROR(VLOOKUP(INDIRECT("G59"),'18'!$A$4:$B$60,2,0),"")}
B60: 52 | H60: =_xlfn.CONCAT(Y60&" "&Z60&" "&AA60) | Y60: {=IFERROR(VLOOKUP(INDIRECT("E60"),'18'!$A$4:$B$60,2,0),"")} | Z60: {=IFERROR(VLOOKUP(INDIRECT("F60"),'18'!$A$4:$B$60,2,0),"")} | AA60: {=IFERROR(VLOOKUP(INDIRECT("G60"),'18'!$A$4:$B$60,2,0),"")}
B62: 1 | C62: 初任者が２人以上の場合、それぞれ別葉に作成する。
B63: 2 | C63: 実施日の確定が難しい場合は、実施の「月」のみを記入したり空欄にしたりする。
E66: ＜省略する研修項目＞
E68: 項目番号 | H68: 研 修 項 目 | I68: 研修項目を省略する理由 | N68: ③省略する研修項目番号
H69: {=IFERROR(VLOOKUP(INDIRECT("E69"),'18'!$A$4:$B$60,2,0),"")} | Z69: {=IFERROR(VLOOKUP(INDIRECT("F9"),'18'!$A$4:$B$60,2,0),"")} | AA69: {=IFERROR(VLOOKUP(INDIRECT("G9"),'18'!$A$4:$B$60,2,0),"")}
H70: {=IFERROR(VLOOKUP(INDIRECT("E70"),'18'!$A$4:$B$60,2,0),"")} | N70: 52項目中 | Q70: =52-Q10 -> 52 | T70: 項目省略する | Z70: {=IFERROR(VLOOKUP(INDIRECT("F10"),'18'!$A$4:$B$60,2,0),"")} | AA70: {=IFERROR(VLOOKUP(INDIRECT("G10"),'18'!$A$4:$B$60,2,0),"")}
H71: {=IFERROR(VLOOKUP(INDIRECT("E71"),'18'!$A$4:$B$60,2,0),"")}
H72: {=IFERROR(VLOOKUP(INDIRECT("E72"),'18'!$A$4:$B$60,2,0),"")} | N72: 1 | O72: 2 | P72: 3 | Q72: 4 | R72: 5 | S72: 6 | T72: 7 | U72: 8 | V72: 9 | W72: 10 | Z72: {=IFERROR(VLOOKUP(INDIRECT("F12"),'18'!$A$4:$B$60,2,0),"")} | AA72: {=IFERROR(VLOOKUP(INDIRECT("G12"),'18'!$A$4:$B$60,2,0),"")}
H73: {=IFERROR(VLOOKUP(INDIRECT("E73"),'18'!$A$4:$B$60,2,0),"")} | N73: 11 | O73: 12 | P73: 13 | Q73: 14 | R73: 15 | S73: 16 | T73: 17 | U73: 18 | V73: 19 | W73: 20 | Z73: {=IFERROR(VLOOKUP(INDIRECT("F13"),'18'!$A$4:$B$60,2,0),"")} | AA73: {=IFERROR(VLOOKUP(INDIRECT("G13"),'18'!$A$4:$B$60,2,0),"")}
H74: {=IFERROR(VLOOKUP(INDIRECT("E74"),'18'!$A$4:$B$60,2,0),"")} | N74: 21 | O74: 22 | P74: 23 | Q74: 24 | R74: 25 | S74: 26 | T74: 27 | U74: 28 | V74: 29 | W74: 30 | Y74: {=IFERROR(VLOOKUP(INDIRECT("E14"),'18'!$A$4:$B$60,2,0),"")} | Z74: {=IFERROR(VLOOKUP(INDIRECT("F14"),'18'!$A$4:$B$60,2,0),"")} | AA74: {=IFERROR(VLOOKUP(INDIRECT("G14"),'18'!$A$4:$B$60,2,0),"")}
H75: {=IFERROR(VLOOKUP(INDIRECT("E75"),'18'!$A$4:$B$60,2,0),"")} | N75: 31 | O75: 32 | P75: 33 | Q75: 34 | R75: 35 | S75: 36 | T75: 37 | U75: 38 | V75: 39 | W75: 40 | Y75: {=IFERROR(VLOOKUP(INDIRECT("E15"),'18'!$A$4:$B$60,2,0),"")} | Z75: {=IFERROR(VLOOKUP(INDIRECT("F15"),'18'!$A$4:$B$60,2,0),"")} | AA75: {=IFERROR(VLOOKUP(INDIRECT("G15"),'18'!$A$4:$B$60,2,0),"")}
H76: {=IFERROR(VLOOKUP(INDIRECT("E76"),'18'!$A$4:$B$60,2,0),"")} | N76: 41 | O76: 42 | P76: 43 | Q76: 44 | R76: 45 | S76: 46 | T76: 47 | U76: 48 | V76: 49 | W76: 50 | Y76: {=IFERROR(VLOOKUP(INDIRECT("E16"),'18'!$A$4:$B$60,2,0),"")} | Z76: {=IFERROR(VLOOKUP(INDIRECT("F16"),'18'!$A$4:$B$60,2,0),"")} | AA76: {=IFERROR(VLOOKUP(INDIRECT("G16"),'18'!$A$4:$B$60,2,0),"")}
H77: {=IFERROR(VLOOKUP(INDIRECT("E77"),'18'!$A$4:$B$60,2,0),"")} | N77: 51 | O77: 52 | Y77: {=IFERROR(VLOOKUP(INDIRECT("E17"),'18'!$A$4:$B$60,2,0),"")} | Z77: {=IFERROR(VLOOKUP(INDIRECT("F17"),'18'!$A$4:$B$60,2,0),"")} | AA77: {=IFERROR(VLOOKUP(INDIRECT("G17"),'18'!$A$4:$B$60,2,0),"")}
H78: {=IFERROR(VLOOKUP(INDIRECT("E78"),'18'!$A$4:$B$60,2,0),"")} | Y78: {=IFERROR(VLOOKUP(INDIRECT("E18"),'18'!$A$4:$B$60,2,0),"")} | Z78: {=IFERROR(VLOOKUP(INDIRECT("F18"),'18'!$A$4:$B$60,2,0),"")} | AA78: {=IFERROR(VLOOKUP(INDIRECT("G18"),'18'!$A$4:$B$60,2,0),"")}
H79: {=IFERROR(VLOOKUP(INDIRECT("E79"),'18'!$A$4:$B$60,2,0),"")} | O79: …省略する研修項目番号 | Y79: {=IFERROR(VLOOKUP(INDIRECT("E19"),'18'!$A$4:$B$60,2,0),"")} | Z79: {=IFERROR(VLOOKUP(INDIRECT("F19"),'18'!$A$4:$B$60,2,0),"")} | AA79: {=IFERROR(VLOOKUP(INDIRECT("G19"),'18'!$A$4:$B$60,2,0),"")}
H80: {=IFERROR(VLOOKUP(INDIRECT("E80"),'18'!$A$4:$B$60,2,0),"")} | Y80: {=IFERROR(VLOOKUP(INDIRECT("E20"),'18'!$A$4:$B$60,2,0),"")} | Z80: {=IFERROR(VLOOKUP(INDIRECT("F20"),'18'!$A$4:$B$60,2,0),"")} | AA80: {=IFERROR(VLOOKUP(INDIRECT("G20"),'18'!$A$4:$B$60,2,0),"")}
H81: {=IFERROR(VLOOKUP(INDIRECT("E81"),'18'!$A$4:$B$60,2,0),"")} | Y81: {=IFERROR(VLOOKUP(INDIRECT("E21"),'18'!$A$4:$B$60,2,0),"")} | Z81: {=IFERROR(VLOOKUP(INDIRECT("F21"),'18'!$A$4:$B$60,2,0),"")} | AA81: {=IFERROR(VLOOKUP(INDIRECT("G21"),'18'!$A$4:$B$60,2,0),"")}
H82: {=IFERROR(VLOOKUP(INDIRECT("E82"),'18'!$A$4:$B$60,2,0),"")} | Y82: {=IFERROR(VLOOKUP(INDIRECT("E22"),'18'!$A$4:$B$60,2,0),"")} | Z82: {=IFERROR(VLOOKUP(INDIRECT("F22"),'18'!$A$4:$B$60,2,0),"")} | AA82: {=IFERROR(VLOOKUP(INDIRECT("G22"),'18'!$A$4:$B$60,2,0),"")}
H83: {=IFERROR(VLOOKUP(INDIRECT("E83"),'18'!$A$4:$B$60,2,0),"")} | Y83: {=IFERROR(VLOOKUP(INDIRECT("E23"),'18'!$A$4:$B$60,2,0),"")} | Z83: {=IFERROR(VLOOKUP(INDIRECT("F23"),'18'!$A$4:$B$60,2,0),"")} | AA83: {=IFERROR(VLOOKUP(INDIRECT("G23"),'18'!$A$4:$B$60,2,0),"")}
H84: {=IFERROR(VLOOKUP(INDIRECT("E84"),'18'!$A$4:$B$60,2,0),"")} | Y84: {=IFERROR(VLOOKUP(INDIRECT("E24"),'18'!$A$4:$B$60,2,0),"")} | Z84: {=IFERROR(VLOOKUP(INDIRECT("F24"),'18'!$A$4:$B$60,2,0),"")} | AA84: {=IFERROR(VLOOKUP(INDIRECT("G24"),'18'!$A$4:$B$60,2,0),"")}
H85: {=IFERROR(VLOOKUP(INDIRECT("E85"),'18'!$A$4:$B$60,2,0),"")} | Y85: {=IFERROR(VLOOKUP(INDIRECT("E25"),'18'!$A$4:$B$60,2,0),"")} | Z85: {=IFERROR(VLOOKUP(INDIRECT("F25"),'18'!$A$4:$B$60,2,0),"")} | AA85: {=IFERROR(VLOOKUP(INDIRECT("G25"),'18'!$A$4:$B$60,2,0),"")}

Sheet ７
B2: (2) センター等研修
F3: 学校名 | G3: {=INDIRECT("5!E5")} -> 0
F5: 初任者名 | G5: {=INDIRECT("5!A22")} -> 0
B7: 月 | C7: 日 | D7: 講座番号 | E7: 講 座 名 | F7: 場 所 | G7: 備 考
B8: {=IFERROR(VLOOKUP(INDIRECT("D8"),'20'!$A$3:$C$76,2,0),"")} | C8: {=IFERROR(VLOOKUP(INDIRECT("D8"),'20'!$A$3:$C$76,3,0),"")} | E8: {=IFERROR(VLOOKUP(INDIRECT("D8"),'20'!$D$3:$E$76,2,0),"")} | F8: {=IFERROR(VLOOKUP(INDIRECT("D8"),'20'!$D$3:$G$76,4,0),"")}
B9: {=IFERROR(VLOOKUP(INDIRECT("D9"),'20'!$A$3:$C$76,2,0),"")} | C9: {=IFERROR(VLOOKUP(INDIRECT("D9"),'20'!$A$3:$C$76,3,0),"")} | E9: {=IFERROR(VLOOKUP(INDIRECT("D9"),'20'!$D$3:$E$76,2,0),"")} | F9: {=IFERROR(VLOOKUP(INDIRECT("D9"),'20'!$D$3:$G$76,4,0),"")}
B10: {=IFERROR(VLOOKUP(INDIRECT("D10"),'20'!$A$3:$C$76,2,0),"")} | C10: {=IFERROR(VLOOKUP(INDIRECT("D10"),'20'!$A$3:$C$76,3,0),"")} | E10: {=IFERROR(VLOOKUP(INDIRECT("D10"),'20'!$D$3:$E$76,2,0),"")} | F10: {=IFERROR(VLOOKUP(INDIRECT("D10"),'20'!$D$3:$G$76,4,0),"")}
B11: {=IFERROR(VLOOKUP(INDIRECT("D11"),'20'!$A$3:$C$76,2,0),"")} | C11: {=IFERROR(VLOOKUP(INDIRECT("D11"),'20'!$A$3:$C$76,3,0),"")} | E11: {=IFERROR(VLOOKUP(INDIRECT("D11"),'20'!$D$3:$E$76,2,0),"")} | F11: {=IFERROR(VLOOKUP(INDIRECT("D11"),'20'!$D$3:$G$76,4,0),"")}
B12: {=IFERROR(VLOOKUP(INDIRECT("D12"),'20'!$A$3:$C$76,2,0),"")} | C12: {=IFERROR(VLOOKUP(INDIRECT("D12"),'20'!$A$3:$C$76,3,0),"")} | E12: {=IFERROR(VLOOKUP(INDIRECT("D12"),'20'!$D$3:$E$76,2,0),"")} | F12: {=IFERROR(VLOOKUP(INDIRECT("D12"),'20'!$D$3:$G$76,4,0),"")}
B13: {=IFERROR(VLOOKUP(INDIRECT("D13"),'20'!$A$3:$C$76,2,0),"")} | C13: {=IFERROR(VLOOKUP(INDIRECT("D13"),'20'!$A$3:$C$76,3,0),"")} | E13: {=IFERROR(VLOOKUP(INDIRECT("D13"),'20'!$D$3:$E$76,2,0),"")} | F13: {=IFERROR(VLOOKUP(INDIRECT("D13"),'20'!$D$3:$G$76,4,0),"")}
B14: {=IFERROR(VLOOKUP(INDIRECT("D14"),'20'!$A$3:$C$76,2,0),"")} | C14: {=IFERROR(VLOOKUP(INDIRECT("D14"),'20'!$A$3:$C$76,3,0),"")} | E14: {=IFERROR(VLOOKUP(INDIRECT("D14"),'20'!$D$3:$E$76,2,0),"")} | F14: {=IFERROR(VLOOKUP(INDIRECT("D14"),'20'!$D$3:$G$76,4,0),"")}
B15: {=IFERROR(VLOOKUP(INDIRECT("D15"),'20'!$A$3:$C$76,2,0),"")} | C15: {=IFERROR(VLOOKUP(INDIRECT("D15"),'20'!$A$3:$C$76,3,0),"")} | E15: {=IFERROR(VLOOKUP(INDIRECT("D15"),'20'!$D$3:$E$76,2,0),"")} | F15: {=IFERROR(VLOOKUP(INDIRECT("D15"),'20'!$D$3:$G$76,4,0),"")}
B16: {=IFERROR(VLOOKUP(INDIRECT("D16"),'20'!$A$3:$C$76,2,0),"")} | C16: {=IFERROR(VLOOKUP(INDIRECT("D16"),'20'!$A$3:$C$76,3,0),"")} | E16: {=IFERROR(VLOOKUP(INDIRECT("D16"),'20'!$D$3:$E$76,2,0),"")} | F16: {=IFERROR(VLOOKUP(INDIRECT("D16"),'20'!$D$3:$G$76,4,0),"")}
B17: {=IFERROR(VLOOKUP(INDIRECT("D17"),'20'!$A$3:$C$76,2,0),"")} | C17: {=IFERROR(VLOOKUP(INDIRECT("D17"),'20'!$A$3:$C$76,3,0),"")} | E17: {=IFERROR(VLOOKUP(INDIRECT("D17"),'20'!$D$3:$E$76,2,0),"")} | F17: {=IFERROR(VLOOKUP(INDIRECT("D17"),'20'!$D$3:$G$76,4,0),"")}
B18: {=IFERROR(VLOOKUP(INDIRECT("D18"),'20'!$A$3:$C$76,2,0),"")} | C18: {=IFERROR(VLOOKUP(INDIRECT("D18"),'20'!$A$3:$C$76,3,0),"")} | E18: {=IFERROR(VLOOKUP(INDIRECT("D18"),'20'!$D$3:$E$76,2,0),"")} | F18: {=IFERROR(VLOOKUP(INDIRECT("D18"),'20'!$D$3:$G$76,4,0),"")}
B19: {=IFERROR(VLOOKUP(INDIRECT("D19"),'20'!$A$3:$C$76,2,0),"")} | C19: {=IFERROR(VLOOKUP(INDIRECT("D19"),'20'!$A$3:$C$76,3,0),"")} | E19: {=IFERROR(VLOOKUP(INDIRECT("D19"),'20'!$D$3:$E$76,2,0),"")} | F19: {=IFERROR(VLOOKUP(INDIRECT("D19"),'20'!$D$3:$G$76,4,0),"")}
B20: {=IFERROR(VLOOKUP(INDIRECT("D20"),'20'!$A$3:$C$76,2,0),"")} | C20: {=IFERROR(VLOOKUP(INDIRECT("D20"),'20'!$A$3:$C$76,3,0),"")} | E20: {=IFERROR(VLOOKUP(INDIRECT("D20"),'20'!$D$3:$E$76,2,0),"")} | F20: {=IFERROR(VLOOKUP(INDIRECT("D20"),'20'!$D$3:$G$76,4,0),"")}
B21: {=IFERROR(VLOOKUP(INDIRECT("D21"),'20'!$A$3:$C$76,2,0),"")} | C21: {=IFERROR(VLOOKUP(INDIRECT("D21"),'20'!$A$3:$C$76,3,0),"")} | E21: {=IFERROR(VLOOKUP(INDIRECT("D21"),'20'!$D$3:$E$76,2,0),"")} | F21: {=IFERROR(VLOOKUP(INDIRECT("D21"),'20'!$D$3:$G$76,4,0),"")}
B22: {=IFERROR(VLOOKUP(INDIRECT("D22"),'20'!$A$3:$C$76,2,0),"")} | C22: {=IFERROR(VLOOKUP(INDIRECT("D22"),'20'!$A$3:$C$76,3,0),"")} | E22: {=IFERROR(VLOOKUP(INDIRECT("D22"),'20'!$D$3:$E$76,2,0),"")} | F22: {=IFERROR(VLOOKUP(INDIRECT("D22"),'20'!$D$3:$G$76,4,0),"")}
B23: {=IFERROR(VLOOKUP(INDIRECT("D23"),'20'!$A$3:$C$76,2,0),"")} | C23: {=IFERROR(VLOOKUP(INDIRECT("D23"),'20'!$A$3:$C$76,3,0),"")} | E23: {=IFERROR(VLOOKUP(INDIRECT("D23"),'20'!$D$3:$E$76,2,0),"")} | F23: {=IFERROR(VLOOKUP(INDIRECT("D23"),'20'!$D$3:$G$76,4,0),"")}
B24: {=IFERROR(VLOOKUP(INDIRECT("D24"),'20'!$A$3:$C$76,2,0),"")} | C24: {=IFERROR(VLOOKUP(INDIRECT("D24"),'20'!$A$3:$C$76,3,0),"")} | E24: {=IFERROR(VLOOKUP(INDIRECT("D24"),'20'!$D$3:$E$76,2,0),"")} | F24: {=IFERROR(VLOOKUP(INDIRECT("D24"),'20'!$D$3:$G$76,4,0),"")}
B25: {=IFERROR(VLOOKUP(INDIRECT("D25"),'20'!$A$3:$C$76,2,0),"")} | C25: {=IFERROR(VLOOKUP(INDIRECT("D25"),'20'!$A$3:$C$76,3,0),"")} | E25: {=IFERROR(VLOOKUP(INDIRECT("D25"),'20'!$D$3:$E$76,2,0),"")} | F25: {=IFERROR(VLOOKUP(INDIRECT("D25"),'20'!$D$3:$G$76,4,0),"")}
B26: 他 校 種 体 験 研 修
B27: 月 | C27: 日 | D27: 内 容 | F27: 場 所 | G27: 備 考
E31: 合計 | G31: 日
B36: １ 初任者が２人以上の場合、それぞれ別葉に作成する。
B37: ２ 実施予定時期の早い順に記入する。
B38: ３ 実施日が確定していない場合は、空欄とする。
B39: ４ 実施場所が確定していない場合は、「未定」と記入する。

Sheet ８
A1: (様式３－１－２)
B2: ５ 年間指導計画
B3: (1) 勤務校研修
I4: 学校名 | J4: {=INDIRECT("5!E5")} -> 0
I6: 初任者名 | J6: {=INDIRECT("5!A23")} -> 0 | N6: ★入力者 確認用データ | AD6: ★センター担当者 整理用データ
B8: 回数 | C8: 月 | D8: 日 | E8: 項目番号 | H8: 研 修 項 目 | I8: 講 師 | J8: 備 考（研究大会名・研修会名称等） | N8: ①実施予定の研修項目番号 | AD8: ①項目別の実施予定回数
B9: 1 | H9: =_xlfn.CONCAT(Y9&" "&Z9&" "&AA9) | Y9: {=IFERROR(VLOOKUP(INDIRECT("E9"),'18'!$A$4:$B$60,2,0),"")} | Z9: {=IFERROR(VLOOKUP(INDIRECT("F9"),'18'!$A$4:$B$60,2,0),"")} | AA9: {=IFERROR(VLOOKUP(INDIRECT("G9"),'18'!$A$4:$B$60,2,0),"")} | AD9: 1 | AE9: 2 | AF9: 3 | AG9: 4 | AH9: 5 | AI9: 6 | AJ9: 7 | AK9: 8 | AL9: 9 | AM9: 10 | AN9: 11 | AO9: 12 | AP9: 13
B10: 2 | H10: =_xlfn.CONCAT(Y10&" "&Z10&" "&AA10) | N10: 52項目中 | Q10: {=SUM(--(FREQUENCY(IF((項目番号全体>=1)*(項目番号全体<=52), 項目番号全体), ROW(INDIRECT("1:52")))>0))} -> 0 | T10: 項目実施予定 | Y10: {=IFERROR(VLOOKUP(INDIRECT("E10"),'18'!$A$4:$B$60,2,0),"")} | Z10: {=IFERROR(VLOOKUP(INDIRECT("F10"),'18'!$A$4:$B$60,2,0),"")} | AA10: {=IFERROR(VLOOKUP(INDIRECT("G10"),'18'!$A$4:$B$60,2,0),"")} | AD10: =COUNTIF(項目番号全体,AD9) -> 0 | AE10: =COUNTIF(項目番号全体,AE9) -> 0 | AF10: =COUNTIF(項目番号全体,AF9) -> 0 | AG10: =COUNTIF(項目番号全体,AG9) -> 0 | AH10: =COUNTIF(項目番号全体,AH9) -> 0 | AI10: =COUNTIF(項目番号全体,AI9) -> 0 | AJ10: =COUNTIF(項目番号全体,AJ9) -> 0 | AK10: =COUNTIF(項目番号全体,AK9) -> 0 | ... AP10: =COUNTIF(項目番号全体,AP9) -> 0
B11: 3 | H11: =_xlfn.CONCAT(Y11&" "&Z11&" "&AA11) | Y11: {=IFERROR(VLOOKUP(INDIRECT("E11"),'18'!$A$4:$B$60,2,0),"")} | Z11: {=IFERROR(VLOOKUP(INDIRECT("F11"),'18'!$A$4:$B$60,2,0),"")} | AA11: {=IFERROR(VLOOKUP(INDIRECT("G11"),'18'!$A$4:$B$60,2,0),"")}
B12: 4 | H12: =_xlfn.CONCAT(Y12&" "&Z12&" "&AA12) | N12: 1 | O12: 2 | P12: 3 | Q12: 4 | R12: 5 | S12: 6 | T12: 7 | U12: 8 | V12: 9 | W12: 10 | Y12: {=IFERROR(VLOOKUP(INDIRECT("E12"),'18'!$A$4:$B$60,2,0),"")} | Z12: {=IFERROR(VLOOKUP(INDIRECT("F12"),'18'!$A$4:$B$60,2,0),"")} | AA12: {=IFERROR(VLOOKUP(INDIRECT("G12"),'18'!$A$4:$B$60,2,0),"")} | AD12: 14 | AE12: 15 | AF12: 16 | AG12: 17 | AH12: 18 | AI12: 19 | AJ12: 20 | AK12: 21 | AL12: 22 | AM12: 23 | AN12: 24 | AO12: 25 | AP12: 26
B13: 5 | H13: =_xlfn.CONCAT(Y13&" "&Z13&" "&AA13) | N13: 11 | O13: 12 | P13: 13 | Q13: 14 | R13: 15 | S13: 16 | T13: 17 | U13: 18 | V13: 19 | W13: 20 | Y13: {=IFERROR(VLOOKUP(INDIRECT("E13"),'18'!$A$4:$B$60,2,0),"")} | Z13: {=IFERROR(VLOOKUP(INDIRECT("F13"),'18'!$A$4:$B$60,2,0),"")} | AA13: {=IFERROR(VLOOKUP(INDIRECT("G13"),'18'!$A$4:$B$60,2,0),"")} | AD13: =COUNTIF(項目番号全体,AD12) -> 0 | AE13: =COUNTIF(項目番号全体,AE12) -> 0 | AF13: =COUNTIF(項目番号全体,AF12) -> 0 | AG13: =COUNTIF(項目番号全体,AG12) -> 0 | AH13: =COUNTIF(項目番号全体,AH12) -> 0 | AI13: =COUNTIF(項目番号全体,AI12) -> 0 | AJ13: =COUNTIF(項目番号全体,AJ12) -> 0 | AK13: =COUNTIF(項目番号全体,AK12) -> 0 | ... AP13: =COUNTIF(項目番号全体,AP12) -> 0
B14: 6 | H14: =_xlfn.CONCAT(Y14&" "&Z14&" "&AA14) | N14: 21 | O14: 22 | P14: 23 | Q14: 24 | R14: 25 | S14: 26 | T14: 27 | U14: 28 | V14: 29 | W14: 30 | Y14: {=IFERROR(VLOOKUP(INDIRECT("E14"),'18'!$A$4:$B$60,2,0),"")} | Z14: {=IFERROR(VLOOKUP(INDIRECT("F14"),'18'!$A$4:$B$60,2,0),"")} | AA14: {=IFERROR(VLOOKUP(INDIRECT("G14"),'18'!$A$4:$B$60,2,0),"")}
B15: 7 | H15: =_xlfn.CONCAT(Y15&" "&Z15&" "&AA15) | N15: 31 | O15: 32 | P15: 33 | Q15: 34 | R15: 35 | S15: 36 | T15: 37 | U15: 38 | V15: 39 | W15: 40 | Y15: {=IFERROR(VLOOKUP(INDIRECT("E15"),'18'!$A$4:$B$60,2,0),"")} | Z15: {=IFERROR(VLOOKUP(INDIRECT("F15"),'18'!$A$4:$B$60,2,0),"")} | AA15: {=IFERROR(VLOOKUP(INDIRECT("G15"),'18'!$A$4:$B$60,2,0),"")} | AD15: 27 | AE15: 28 | AF15: 29 | AG15: 30 | AH15: 31 | AI15: 32 | AJ15: 33 | AK15: 34 | AL15: 35 | AM15: 36 | AN15: 37 | AO15: 38 | AP15: 39
B16: 8 | H16: =_xlfn.CONCAT(Y16&" "&Z16&" "&AA16) | N16: 41 | O16: 42 | P16: 43 | Q16: 44 | R16: 45 | S16: 46 | T16: 47 | U16: 48 | V16: 49 | W16: 50 | Y16: {=IFERROR(VLOOKUP(INDIRECT("E16"),'18'!$A$4:$B$60,2,0),"")} | Z16: {=IFERROR(VLOOKUP(INDIRECT("F16"),'18'!$A$4:$B$60,2,0),"")} | AA16: {=IFERROR(VLOOKUP(INDIRECT("G16"),'18'!$A$4:$B$60,2,0),"")} | AD16: =COUNTIF(項目番号全体,AD15) -> 0 | AE16: =COUNTIF(項目番号全体,AE15) -> 0 | AF16: =COUNTIF(項目番号全体,AF15) -> 0 | AG16: =COUNTIF(項目番号全体,AG15) -> 0 | AH16: =COUNTIF(項目番号全体,AH15) -> 0 | AI16: =COUNTIF(項目番号全体,AI15) -> 0 | AJ16: =COUNTIF(項目番号全体,AJ15) -> 0 | AK16: =COUNTIF(項目番号全体,AK15) -> 0 | ... AP16: =COUNTIF(項目番号全体,AP15) -> 0
B17: 9 | H17: =_xlfn.CONCAT(Y17&" "&Z17&" "&AA17) | N17: 51 | O17: 52 | Y17: {=IFERROR(VLOOKUP(INDIRECT("E17"),'18'!$A$4:$B$60,2,0),"")} | Z17: {=IFERROR(VLOOKUP(INDIRECT("F17"),'18'!$A$4:$B$60,2,0),"")} | AA17: {=IFERROR(VLOOKUP(INDIRECT("G17"),'18'!$A$4:$B$60,2,0),"")}
B18: 10 | H18: =_xlfn.CONCAT(Y18&" "&Z18&" "&AA18) | Y18: {=IFERROR(VLOOKUP(INDIRECT("E18"),'18'!$A$4:$B$60,2,0),"")} | Z18: {=IFERROR(VLOOKUP(INDIRECT("F18"),'18'!$A$4:$B$60,2,0),"")} | AA18: {=IFERROR(VLOOKUP(INDIRECT("G18"),'18'!$A$4:$B$60,2,0),"")} | AD18: 40 | AE18: 41 | AF18: 42 | AG18: 43 | AH18: 44 | AI18: 45 | AJ18: 46 | AK18: 47 | AL18: 48 | AM18: 49 | AN18: 50 | AO18: 51 | AP18: 52
B19: 11 | H19: =_xlfn.CONCAT(Y19&" "&Z19&" "&AA19) | O19: …１回以上実施予定の研修項目番号 | Y19: {=IFERROR(VLOOKUP(INDIRECT("E19"),'18'!$A$4:$B$60,2,0),"")} | Z19: {=IFERROR(VLOOKUP(INDIRECT("F19"),'18'!$A$4:$B$60,2,0),"")} | AA19: {=IFERROR(VLOOKUP(INDIRECT("G19"),'18'!$A$4:$B$60,2,0),"")} | AD19: =COUNTIF(項目番号全体,AD18) -> 0 | AE19: =COUNTIF(項目番号全体,AE18) -> 0 | AF19: =COUNTIF(項目番号全体,AF18) -> 0 | AG19: =COUNTIF(項目番号全体,AG18) -> 0 | AH19: =COUNTIF(項目番号全体,AH18) -> 0 | AI19: =COUNTIF(項目番号全体,AI18) -> 0 | AJ19: =COUNTIF(項目番号全体,AJ18) -> 0 | AK19: =COUNTIF(項目番号全体,AK18) -> 0 | ... AP19: =COUNTIF(項目番号全体,AP18) -> 0
B20: 12 | H20: =_xlfn.CONCAT(Y20&" "&Z20&" "&AA20) | Y20: {=IFERROR(VLOOKUP(INDIRECT("E20"),'18'!$A$4:$B$60,2,0),"")} | Z20: {=IFERROR(VLOOKUP(INDIRECT("F20"),'18'!$A$4:$B$60,2,0),"")} | AA20: {=IFERROR(VLOOKUP(INDIRECT("G20"),'18'!$A$4:$B$60,2,0),"")}
B21: 13 | H21: =_xlfn.CONCAT(Y21&" "&Z21&" "&AA21) | N21: ②実施予定の勤務校研修の回数 | Y21: {=IFERROR(VLOOKUP(INDIRECT("E21"),'18'!$A$4:$B$60,2,0),"")} | Z21: {=IFERROR(VLOOKUP(INDIRECT("F21"),'18'!$A$4:$B$60,2,0),"")} | AA21: {=IFERROR(VLOOKUP(INDIRECT("G21"),'18'!$A$4:$B$60,2,0),"")} | AD21: ②実施予定の勤務校研修の項目数
B22: 14 | H22: =_xlfn.CONCAT(Y22&" "&Z22&" "&AA22) | Y22: {=IFERROR(VLOOKUP(INDIRECT("E22"),'18'!$A$4:$B$60,2,0),"")} | Z22: {=IFERROR(VLOOKUP(INDIRECT("F22"),'18'!$A$4:$B$60,2,0),"")} | AA22: {=IFERROR(VLOOKUP(INDIRECT("G22"),'18'!$A$4:$B$60,2,0),"")}
B23: 15 | H23: =_xlfn.CONCAT(Y23&" "&Z23&" "&AA23) | Q23: {=SUMPRODUCT(--((ISNUMBER(項目番号１)+ISNUMBER(項目番号２)+ISNUMBER(項目番号３))>0))} -> 0 | T23: 回 | Y23: {=IFERROR(VLOOKUP(INDIRECT("E23"),'18'!$A$4:$B$60,2,0),"")} | Z23: {=IFERROR(VLOOKUP(INDIRECT("F23"),'18'!$A$4:$B$60,2,0),"")} | AA23: {=IFERROR(VLOOKUP(INDIRECT("G23"),'18'!$A$4:$B$60,2,0),"")} | AD23: {=INDIRECT("Q10")} -> 0 | AF23: 項目
B24: 16 | H24: =_xlfn.CONCAT(Y24&" "&Z24&" "&AA24) | Y24: {=IFERROR(VLOOKUP(INDIRECT("E24"),'18'!$A$4:$B$60,2,0),"")} | Z24: {=IFERROR(VLOOKUP(INDIRECT("F24"),'18'!$A$4:$B$60,2,0),"")} | AA24: {=IFERROR(VLOOKUP(INDIRECT("G24"),'18'!$A$4:$B$60,2,0),"")}
B25: 17 | H25: =_xlfn.CONCAT(Y25&" "&Z25&" "&AA25) | N25: ＊勤務校研修の回数は、35～52回の間 になるように予定を立ててください。 | Y25: {=IFERROR(VLOOKUP(INDIRECT("E25"),'18'!$A$4:$B$60,2,0),"")} | Z25: {=IFERROR(VLOOKUP(INDIRECT("F25"),'18'!$A$4:$B$60,2,0),"")} | AA25: {=IFERROR(VLOOKUP(INDIRECT("G25"),'18'!$A$4:$B$60,2,0),"")} | AD25: ③実施予定の勤務校研修の回数
B26: 18 | H26: =_xlfn.CONCAT(Y26&" "&Z26&" "&AA26) | Y26: {=IFERROR(VLOOKUP(INDIRECT("E26"),'18'!$A$4:$B$60,2,0),"")} | Z26: {=IFERROR(VLOOKUP(INDIRECT("F26"),'18'!$A$4:$B$60,2,0),"")} | AA26: {=IFERROR(VLOOKUP(INDIRECT("G26"),'18'!$A$4:$B$60,2,0),"")}
B27: 19 | H27: =_xlfn.CONCAT(Y27&" "&Z27&" "&AA27) | Y27: {=IFERROR(VLOOKUP(INDIRECT("E27"),'18'!$A$4:$B$60,2,0),"")} | Z27: {=IFERROR(VLOOKUP(INDIRECT("F27"),'18'!$A$4:$B$60,2,0),"")} | AA27: {=IFERROR(VLOOKUP(INDIRECT("G27"),'18'!$A$4:$B$60,2,0),"")} | AD27: {=INDIRECT("Q23")} -> 0 | AF27: 回
B28: 20 | H28: =_xlfn.CONCAT(Y28&" "&Z28&" "&AA28) | Y28: {=IFERROR(VLOOKUP(INDIRECT("E28"),'18'!$A$4:$B$60,2,0),"")} | Z28: {=IFERROR(VLOOKUP(INDIRECT("F28"),'18'!$A$4:$B$60,2,0),"")} | AA28: {=IFERROR(VLOOKUP(INDIRECT("G28"),'18'!$A$4:$B$60,2,0),"")}
B29: 21 | H29: =_xlfn.CONCAT(Y29&" "&Z29&" "&AA29) | Y29: {=IFERROR(VLOOKUP(INDIRECT("E29"),'18'!$A$4:$B$60,2,0),"")} | Z29: {=IFERROR(VLOOKUP(INDIRECT("F29"),'18'!$A$4:$B$60,2,0),"")} | AA29: {=IFERROR(VLOOKUP(INDIRECT("G29"),'18'!$A$4:$B$60,2,0),"")}
B30: 22 | H30: =_xlfn.CONCAT(Y30&" "&Z30&" "&AA30) | Y30: {=IFERROR(VLOOKUP(INDIRECT("E30"),'18'!$A$4:$B$60,2,0),"")} | Z30: {=IFERROR(VLOOKUP(INDIRECT("F30"),'18'!$A$4:$B$60,2,0),"")} | AA30: {=IFERROR(VLOOKUP(INDIRECT("G30"),'18'!$A$4:$B$60,2,0),"")}
B31: 23 | H31: =_xlfn.CONCAT(Y31&" "&Z31&" "&AA31) | Y31: {=IFERROR(VLOOKUP(INDIRECT("E31"),'18'!$A$4:$B$60,2,0),"")} | Z31: {=IFERROR(VLOOKUP(INDIRECT("F31"),'18'!$A$4:$B$60,2,0),"")} | AA31: {=IFERROR(VLOOKUP(INDIRECT("G31"),'18'!$A$4:$B$60,2,0),"")}
B32: 24 | H32: =_xlfn.CONCAT(Y32&" "&Z32&" "&AA32) | Y32: {=IFERROR(VLOOKUP(INDIRECT("E32"),'18'!$A$4:$B$60,2,0),"")} | Z32: {=IFERROR(VLOOKUP(INDIRECT("F32"),'18'!$A$4:$B$60,2,0),"")} | AA32: {=IFERROR(VLOOKUP(INDIRECT("G32"),'18'!$A$4:$B$60,2,0),"")}
B33: 25 | H33: =_xlfn.CONCAT(Y33&" "&Z33&" "&AA33) | Y33: {=IFERROR(VLOOKUP(INDIRECT("E33"),'18'!$A$4:$B$60,2,0),"")} | Z33: {=IFERROR(VLOOKUP(INDIRECT("F33"),'18'!$A$4:$B$60,2,0),"")} | AA33: {=IFERROR(VLOOKUP(INDIRECT("G33"),'18'!$A$4:$B$60,2,0),"")}
B34: 26 | H34: =_xlfn.CONCAT(Y34&" "&Z34&" "&AA34) | Y34: {=IFERROR(VLOOKUP(INDIRECT("E34"),'18'!$A$4:$B$60,2,0),"")} | Z34: {=IFERROR(VLOOKUP(INDIRECT("F34"),'18'!$A$4:$B$60,2,0),"")} | AA34: {=IFERROR(VLOOKUP(INDIRECT("G34"),'18'!$A$4:$B$60,2,0),"")}
B35: 27 | H35: =_xlfn.CONCAT(Y35&" "&Z35&" "&AA35) | Y35: {=IFERROR(VLOOKUP(INDIRECT("E35"),'18'!$A$4:$B$60,2,0),"")} | Z35: {=IFERROR(VLOOKUP(INDIRECT("F35"),'18'!$A$4:$B$60,2,0),"")} | AA35: {=IFERROR(VLOOKUP(INDIRECT("G35"),'18'!$A$4:$B$60,2,0),"")}
B36: 28 | H36: =_xlfn.CONCAT(Y36&" "&Z36&" "&AA36) | Y36: {=IFERROR(VLOOKUP(INDIRECT("E36"),'18'!$A$4:$B$60,2,0),"")} | Z36: {=IFERROR(VLOOKUP(INDIRECT("F36"),'18'!$A$4:$B$60,2,0),"")} | AA36: {=IFERROR(VLOOKUP(INDIRECT("G36"),'18'!$A$4:$B$60,2,0),"")}
B37: 29 | H37: =_xlfn.CONCAT(Y37&" "&Z37&" "&AA37) | Y37: {=IFERROR(VLOOKUP(INDIRECT("E37"),'18'!$A$4:$B$60,2,0),"")} | Z37: {=IFERROR(VLOOKUP(INDIRECT("F37"),'18'!$A$4:$B$60,2,0),"")} | AA37: {=IFERROR(VLOOKUP(INDIRECT("G37"),'18'!$A$4:$B$60,2,0),"")}
B38: 30 | H38: =_xlfn.CONCAT(Y38&" "&Z38&" "&AA38) | Y38: {=IFERROR(VLOOKUP(INDIRECT("E38"),'18'!$A$4:$B$60,2,0),"")} | Z38: {=IFERROR(VLOOKUP(INDIRECT("F38"),'18'!$A$4:$B$60,2,0),"")} | AA38: {=IFERROR(VLOOKUP(INDIRECT("G38"),'18'!$A$4:$B$60,2,0),"")}
B39: 31 | H39: =_xlfn.CONCAT(Y39&" "&Z39&" "&AA39) | Y39: {=IFERROR(VLOOKUP(INDIRECT("E39"),'18'!$A$4:$B$60,2,0),"")} | Z39: {=IFERROR(VLOOKUP(INDIRECT("F39"),'18'!$A$4:$B$60,2,0),"")} | AA39: {=IFERROR(VLOOKUP(INDIRECT("G39"),'18'!$A$4:$B$60,2,0),"")}
B40: 32 | H40: =_xlfn.CONCAT(Y40&" "&Z40&" "&AA40) | Y40: {=IFERROR(VLOOKUP(INDIRECT("E40"),'18'!$A$4:$B$60,2,0),"")} | Z40: {=IFERROR(VLOOKUP(INDIRECT("F40"),'18'!$A$4:$B$60,2,0),"")} | AA40: {=IFERROR(VLOOKUP(INDIRECT("G40"),'18'!$A$4:$B$60,2,0),"")}
B41: 33 | H41: =_xlfn.CONCAT(Y41&" "&Z41&" "&AA41) | Y41: {=IFERROR(VLOOKUP(INDIRECT("E41"),'18'!$A$4:$B$60,2,0),"")} | Z41: {=IFERROR(VLOOKUP(INDIRECT("F41"),'18'!$A$4:$B$60,2,0),"")} | AA41: {=IFERROR(VLOOKUP(INDIRECT("G41"),'18'!$A$4:$B$60,2,0),"")}
B42: 34 | H42: =_xlfn.CONCAT(Y42&" "&Z42&" "&AA42) | Y42: {=IFERROR(VLOOKUP(INDIRECT("E42"),'18'!$A$4:$B$60,2,0),"")} | Z42: {=IFERROR(VLOOKUP(INDIRECT("F42"),'18'!$A$4:$B$60,2,0),"")} | AA42: {=IFERROR(VLOOKUP(INDIRECT("G42"),'18'!$A$4:$B$60,2,0),"")}
B43: 35 | H43: =_xlfn.CONCAT(Y43&" "&Z43&" "&AA43) | Y43: {=IFERROR(VLOOKUP(INDIRECT("E43"),'18'!$A$4:$B$60,2,0),"")} | Z43: {=IFERROR(VLOOKUP(INDIRECT("F43"),'18'!$A$4:$B$60,2,0),"")} | AA43: {=IFERROR(VLOOKUP(INDIRECT("G43"),'18'!$A$4:$B$60,2,0),"")}
B44: 36 | H44: =_xlfn.CONCAT(Y44&" "&Z44&" "&AA44) | Y44: {=IFERROR(VLOOKUP(INDIRECT("E44"),'18'!$A$4:$B$60,2,0),"")} | Z44: {=IFERROR(VLOOKUP(INDIRECT("F44"),'18'!$A$4:$B$60,2,0),"")} | AA44: {=IFERROR(VLOOKUP(INDIRECT("G44"),'18'!$A$4:$B$60,2,0),"")}
B45: 37 | H45: =_xlfn.CONCAT(Y45&" "&Z45&" "&AA45) | Y45: {=IFERROR(VLOOKUP(INDIRECT("E45"),'18'!$A$4:$B$60,2,0),"")} | Z45: {=IFERROR(VLOOKUP(INDIRECT("F45"),'18'!$A$4:$B$60,2,0),"")} | AA45: {=IFERROR(VLOOKUP(INDIRECT("G45"),'18'!$A$4:$B$60,2,0),"")}
B46: 38 | H46: =_xlfn.CONCAT(Y46&" "&Z46&" "&AA46) | Y46: {=IFERROR(VLOOKUP(INDIRECT("E46"),'18'!$A$4:$B$60,2,0),"")} | Z46: {=IFERROR(VLOOKUP(INDIRECT("F46"),'18'!$A$4:$B$60,2,0),"")} | AA46: {=IFERROR(VLOOKUP(INDIRECT("G46"),'18'!$A$4:$B$60,2,0),"")}
B47: 39 | H47: =_xlfn.CONCAT(Y47&" "&Z47&" "&AA47) | Y47: {=IFERROR(VLOOKUP(INDIRECT("E47"),'18'!$A$4:$B$60,2,0),"")} | Z47: {=IFERROR(VLOOKUP(INDIRECT("F47"),'18'!$A$4:$B$60,2,0),"")} | AA47: {=IFERROR(VLOOKUP(INDIRECT("G47"),'18'!$A$4:$B$60,2,0),"")}
B48: 40 | H48: =_xlfn.CONCAT(Y48&" "&Z48&" "&AA48) | Y48: {=IFERROR(VLOOKUP(INDIRECT("E48"),'18'!$A$4:$B$60,2,0),"")} | Z48: {=IFERROR(VLOOKUP(INDIRECT("F48"),'18'!$A$4:$B$60,2,0),"")} | AA48: {=IFERROR(VLOOKUP(INDIRECT("G48"),'18'!$A$4:$B$60,2,0),"")}
B49: 41 | H49: =_xlfn.CONCAT(Y49&" "&Z49&" "&AA49) | Y49: {=IFERROR(VLOOKUP(INDIRECT("E49"),'18'!$A$4:$B$60,2,0),"")} | Z49: {=IFERROR(VLOOKUP(INDIRECT("F49"),'18'!$A$4:$B$60,2,0),"")} | AA49: {=IFERROR(VLOOKUP(INDIRECT("G49"),'18'!$A$4:$B$60,2,0),"")}
B50: 42 | H50: =_xlfn.CONCAT(Y50&" "&Z50&" "&AA50) | Y50: {=IFERROR(VLOOKUP(INDIRECT("E50"),'18'!$A$4:$B$60,2,0),"")} | Z50: {=IFERROR(VLOOKUP(INDIRECT("F50"),'18'!$A$4:$B$60,2,0),"")} | AA50: {=IFERROR(VLOOKUP(INDIRECT("G50"),'18'!$A$4:$B$60,2,0),"")}
B51: 43 | H51: =_xlfn.CONCAT(Y51&" "&Z51&" "&AA51) | Y51: {=IFERROR(VLOOKUP(INDIRECT("E51"),'18'!$A$4:$B$60,2,0),"")} | Z51: {=IFERROR(VLOOKUP(INDIRECT("F51"),'18'!$A$4:$B$60,2,0),"")} | AA51: {=IFERROR(VLOOKUP(INDIRECT("G51"),'18'!$A$4:$B$60,2,0),"")}
B52: 44 | H52: =_xlfn.CONCAT(Y52&" "&Z52&" "&AA52) | Y52: {=IFERROR(VLOOKUP(INDIRECT("E52"),'18'!$A$4:$B$60,2,0),"")} | Z52: {=IFERROR(VLOOKUP(INDIRECT("F52"),'18'!$A$4:$B$60,2,0),"")} | AA52: {=IFERROR(VLOOKUP(INDIRECT("G52"),'18'!$A$4:$B$60,2,0),"")}
B53: 45 | H53: =_xlfn.CONCAT(Y53&" "&Z53&" "&AA53) | Y53: {=IFERROR(VLOOKUP(INDIRECT("E53"),'18'!$A$4:$B$60,2,0),"")} | Z53: {=IFERROR(VLOOKUP(INDIRECT("F53"),'18'!$A$4:$B$60,2,0),"")} | AA53: {=IFERROR(VLOOKUP(INDIRECT("G53"),'18'!$A$4:$B$60,2,0),"")}
B54: 46 | H54: =_xlfn.CONCAT(Y54&" "&Z54&" "&AA54) | Y54: {=IFERROR(VLOOKUP(INDIRECT("E54"),'18'!$A$4:$B$60,2,0),"")} | Z54: {=IFERROR(VLOOKUP(INDIRECT("F54"),'18'!$A$4:$B$60,2,0),"")} | AA54: {=IFERROR(VLOOKUP(INDIRECT("G54"),'18'!$A$4:$B$60,2,0),"")}
B55: 47 | H55: =_xlfn.CONCAT(Y55&" "&Z55&" "&AA55) | Y55: {=IFERROR(VLOOKUP(INDIRECT("E55"),'18'!$A$4:$B$60,2,0),"")} | Z55: {=IFERROR(VLOOKUP(INDIRECT("F55"),'18'!$A$4:$B$60,2,0),"")} | AA55: {=IFERROR(VLOOKUP(INDIRECT("G55"),'18'!$A$4:$B$60,2,0),"")}
B56: 48 | H56: =_xlfn.CONCAT(Y56&" "&Z56&" "&AA56) | Y56: {=IFERROR(VLOOKUP(INDIRECT("E56"),'18'!$A$4:$B$60,2,0),"")} | Z56: {=IFERROR(VLOOKUP(INDIRECT("F56"),'18'!$A$4:$B$60,2,0),"")} | AA56: {=IFERROR(VLOOKUP(INDIRECT("G56"),'18'!$A$4:$B$60,2,0),"")}
B57: 49 | H57: =_xlfn.CONCAT(Y57&" "&Z57&" "&AA57) | Y57: {=IFERROR(VLOOKUP(INDIRECT("E57"),'18'!$A$4:$B$60,2,0),"")} | Z57: {=IFERROR(VLOOKUP(INDIRECT("F57"),'18'!$A$4:$B$60,2,0),"")} | AA57: {=IFERROR(VLOOKUP(INDIRECT("G57"),'18'!$A$4:$B$60,2,0),"")}
B58: 50 | H58: =_xlfn.CONCAT(Y58&" "&Z58&" "&AA58) | Y58: {=IFERROR(VLOOKUP(INDIRECT("E58"),'18'!$A$4:$B$60,2,0),"")} | Z58: {=IFERROR(VLOOKUP(INDIRECT("F58"),'18'!$A$4:$B$60,2,0),"")} | AA58: {=IFERROR(VLOOKUP(INDIRECT("G58"),'18'!$A$4:$B$60,2,0),"")}
B59: 51 | H59: =_xlfn.CONCAT(Y59&" "&Z59&" "&AA59) | Y59: {=IFERROR(VLOOKUP(INDIRECT("E59"),'18'!$A$4:$B$60,2,0),"")} | Z59: {=IFERROR(VLOOKUP(INDIRECT("F59"),'18'!$A$4:$B$60,2,0),"")} | AA59: {=IFERROR(VLOOKUP(INDIRECT("G59"),'18'!$A$4:$B$60,2,0),"")}
B60: 52 | H60: =_xlfn.CONCAT(Y60&" "&Z60&" "&AA60) | Y60: {=IFERROR(VLOOKUP(INDIRECT("E60"),'18'!$A$4:$B$60,2,0),"")} | Z60: {=IFERROR(VLOOKUP(INDIRECT("F60"),'18'!$A$4:$B$60,2,0),"")} | AA60: {=IFERROR(VLOOKUP(INDIRECT("G60"),'18'!$A$4:$B$60,2,0),"")}
B62: 1 | C62: 初任者が２人以上の場合、それぞれ別葉に作成する。
B63: 2 | C63: 実施日の確定が難しい場合は、実施の「月」のみを記入したり空欄にしたりする。
E66: ＜省略する研修項目＞
E68: 項目番号 | H68: 研 修 項 目 | I68: 研修項目を省略する理由 | N68: ③省略する研修項目番号
H69: {=IFERROR(VLOOKUP(INDIRECT("E69"),'18'!$A$4:$B$60,2,0),"")} | Z69: {=IFERROR(VLOOKUP(INDIRECT("F9"),'18'!$A$4:$B$60,2,0),"")} | AA69: {=IFERROR(VLOOKUP(INDIRECT("G9"),'18'!$A$4:$B$60,2,0),"")}
H70: {=IFERROR(VLOOKUP(INDIRECT("E70"),'18'!$A$4:$B$60,2,0),"")} | N70: 52項目中 | Q70: =52-Q10 -> 52 | T70: 項目省略する | Z70: {=IFERROR(VLOOKUP(INDIRECT("F10"),'18'!$A$4:$B$60,2,0),"")} | AA70: {=IFERROR(VLOOKUP(INDIRECT("G10"),'18'!$A$4:$B$60,2,0),"")}
H71: {=IFERROR(VLOOKUP(INDIRECT("E71"),'18'!$A$4:$B$60,2,0),"")}
H72: {=IFERROR(VLOOKUP(INDIRECT("E72"),'18'!$A$4:$B$60,2,0),"")} | N72: 1 | O72: 2 | P72: 3 | Q72: 4 | R72: 5 | S72: 6 | T72: 7 | U72: 8 | V72: 9 | W72: 10 | Z72: {=IFERROR(VLOOKUP(INDIRECT("F12"),'18'!$A$4:$B$60,2,0),"")} | AA72: {=IFERROR(VLOOKUP(INDIRECT("G12"),'18'!$A$4:$B$60,2,0),"")}
H73: {=IFERROR(VLOOKUP(INDIRECT("E73"),'18'!$A$4:$B$60,2,0),"")} | N73: 11 | O73: 12 | P73: 13 | Q73: 14 | R73: 15 | S73: 16 | T73: 17 | U73: 18 | V73: 19 | W73: 20 | Z73: {=IFERROR(VLOOKUP(INDIRECT("F13"),'18'!$A$4:$B$60,2,0),"")} | AA73: {=IFERROR(VLOOKUP(INDIRECT("G13"),'18'!$A$4:$B$60,2,0),"")}
H74: {=IFERROR(VLOOKUP(INDIRECT("E74"),'18'!$A$4:$B$60,2,0),"")} | N74: 21 | O74: 22 | P74: 23 | Q74: 24 | R74: 25 | S74: 26 | T74: 27 | U74: 28 | V74: 29 | W74: 30 | Y74: {=IFERROR(VLOOKUP(INDIRECT("E14"),'18'!$A$4:$B$60,2,0),"")} | Z74: {=IFERROR(VLOOKUP(INDIRECT("F14"),'18'!$A$4:$B$60,2,0),"")} | AA74: {=IFERROR(VLOOKUP(INDIRECT("G14"),'18'!$A$4:$B$60,2,0),"")}
H75: {=IFERROR(VLOOKUP(INDIRECT("E75"),'18'!$A$4:$B$60,2,0),"")} | N75: 31 | O75: 32 | P75: 33 | Q75: 34 | R75: 35 | S75: 36 | T75: 37 | U75: 38 | V75: 39 | W75: 40 | Y75: {=IFERROR(VLOOKUP(INDIRECT("E15"),'18'!$A$4:$B$60,2,0),"")} | Z75: {=IFERROR(VLOOKUP(INDIRECT("F15"),'18'!$A$4:$B$60,2,0),"")} | AA75: {=IFERROR(VLOOKUP(INDIRECT("G15"),'18'!$A$4:$B$60,2,0),"")}
H76: {=IFERROR(VLOOKUP(INDIRECT("E76"),'18'!$A$4:$B$60,2,0),"")} | N76: 41 | O76: 42 | P76: 43 | Q76: 44 | R76: 45 | S76: 46 | T76: 47 | U76: 48 | V76: 49 | W76: 50 | Y76: {=IFERROR(VLOOKUP(INDIRECT("E16"),'18'!$A$4:$B$60,2,0),"")} | Z76: {=IFERROR(VLOOKUP(INDIRECT("F16"),'18'!$A$4:$B$60,2,0),"")} | AA76: {=IFERROR(VLOOKUP(INDIRECT("G16"),'18'!$A$4:$B$60,2,0),"")}
H77: {=IFERROR(VLOOKUP(INDIRECT("E77"),'18'!$A$4:$B$60,2,0),"")} | N77: 51 | O77: 52 | Y77: {=IFERROR(VLOOKUP(INDIRECT("E17"),'18'!$A$4:$B$60,2,0),"")} | Z77: {=IFERROR(VLOOKUP(INDIRECT("F17"),'18'!$A$4:$B$60,2,0),"")} | AA77: {=IFERROR(VLOOKUP(INDIRECT("G17"),'18'!$A$4:$B$60,2,0),"")}
H78: {=IFERROR(VLOOKUP(INDIRECT("E78"),'18'!$A$4:$B$60,2,0),"")} | Y78: {=IFERROR(VLOOKUP(INDIRECT("E18"),'18'!$A$4:$B$60,2,0),"")} | Z78: {=IFERROR(VLOOKUP(INDIRECT("F18"),'18'!$A$4:$B$60,2,0),"")} | AA78: {=IFERROR(VLOOKUP(INDIRECT("G18"),'18'!$A$4:$B$60,2,0),"")}
H79: {=IFERROR(VLOOKUP(INDIRECT("E79"),'18'!$A$4:$B$60,2,0),"")} | O79: …省略する研修項目番号 | Y79: {=IFERROR(VLOOKUP(INDIRECT("E19"),'18'!$A$4:$B$60,2,0),"")} | Z79: {=IFERROR(VLOOKUP(INDIRECT("F19"),'18'!$A$4:$B$60,2,0),"")} | AA79: {=IFERROR(VLOOKUP(INDIRECT("G19"),'18'!$A$4:$B$60,2,0),"")}
H80: {=IFERROR(VLOOKUP(INDIRECT("E80"),'18'!$A$4:$B$60,2,0),"")} | Y80: {=IFERROR(VLOOKUP(INDIRECT("E20"),'18'!$A$4:$B$60,2,0),"")} | Z80: {=IFERROR(VLOOKUP(INDIRECT("F20"),'18'!$A$4:$B$60,2,0),"")} | AA80: {=IFERROR(VLOOKUP(INDIRECT("G20"),'18'!$A$4:$B$60,2,0),"")}
H81: {=IFERROR(VLOOKUP(INDIRECT("E81"),'18'!$A$4:$B$60,2,0),"")} | Y81: {=IFERROR(VLOOKUP(INDIRECT("E21"),'18'!$A$4:$B$60,2,0),"")} | Z81: {=IFERROR(VLOOKUP(INDIRECT("F21"),'18'!$A$4:$B$60,2,0),"")} | AA81: {=IFERROR(VLOOKUP(INDIRECT("G21"),'18'!$A$4:$B$60,2,0),"")}
H82: {=IFERROR(VLOOKUP(INDIRECT("E82"),'18'!$A$4:$B$60,2,0),"")} | Y82: {=IFERROR(VLOOKUP(INDIRECT("E22"),'18'!$A$4:$B$60,2,0),"")} | Z82: {=IFERROR(VLOOKUP(INDIRECT("F22"),'18'!$A$4:$B$60,2,0),"")} | AA82: {=IFERROR(VLOOKUP(INDIRECT("G22"),'18'!$A$4:$B$60,2,0),"")}
H83: {=IFERROR(VLOOKUP(INDIRECT("E83"),'18'!$A$4:$B$60,2,0),"")} | Y83: {=IFERROR(VLOOKUP(INDIRECT("E23"),'18'!$A$4:$B$60,2,0),"")} | Z83: {=IFERROR(VLOOKUP(INDIRECT("F23"),'18'!$A$4:$B$60,2,0),"")} | AA83: {=IFERROR(VLOOKUP(INDIRECT("G23"),'18'!$A$4:$B$60,2,0),"")}
H84: {=IFERROR(VLOOKUP(INDIRECT("E84"),'18'!$A$4:$B$60,2,0),"")} | Y84: {=IFERROR(VLOOKUP(INDIRECT("E24"),'18'!$A$4:$B$60,2,0),"")} | Z84: {=IFERROR(VLOOKUP(INDIRECT("F24"),'18'!$A$4:$B$60,2,0),"")} | AA84: {=IFERROR(VLOOKUP(INDIRECT("G24"),'18'!$A$4:$B$60,2,0),"")}
H85: {=IFERROR(VLOOKUP(INDIRECT("E85"),'18'!$A$4:$B$60,2,0),"")} | Y85: {=IFERROR(VLOOKUP(INDIRECT("E25"),'18'!$A$4:$B$60,2,0),"")} | Z85: {=IFERROR(VLOOKUP(INDIRECT("F25"),'18'!$A$4:$B$60,2,0),"")} | AA85: {=IFERROR(VLOOKUP(INDIRECT("G25"),'18'!$A$4:$B$60,2,0),"")}

Sheet ９
B2: (2) センター等研修
F3: 学校名 | G3: {=INDIRECT("5!E5")} -> 0
F5: 初任者名 | G5: {=INDIRECT("5!A23")} -> 0
B7: 月 | C7: 日 | D7: 講座番号 | E7: 講 座 名 | F7: 場 所 | G7: 備 考
B8: {=IFERROR(VLOOKUP(INDIRECT("D8"),'20'!$A$3:$C$76,2,0),"")} | C8: {=IFERROR(VLOOKUP(INDIRECT("D8"),'20'!$A$3:$C$76,3,0),"")} | E8: {=IFERROR(VLOOKUP(INDIRECT("D8"),'20'!$D$3:$E$76,2,0),"")} | F8: {=IFERROR(VLOOKUP(INDIRECT("D8"),'20'!$D$3:$G$76,4,0),"")}
B9: {=IFERROR(VLOOKUP(INDIRECT("D9"),'20'!$A$3:$C$76,2,0),"")} | C9: {=IFERROR(VLOOKUP(INDIRECT("D9"),'20'!$A$3:$C$76,3,0),"")} | E9: {=IFERROR(VLOOKUP(INDIRECT("D9"),'20'!$D$3:$E$76,2,0),"")} | F9: {=IFERROR(VLOOKUP(INDIRECT("D9"),'20'!$D$3:$G$76,4,0),"")}
B10: {=IFERROR(VLOOKUP(INDIRECT("D10"),'20'!$A$3:$C$76,2,0),"")} | C10: {=IFERROR(VLOOKUP(INDIRECT("D10"),'20'!$A$3:$C$76,3,0),"")} | E10: {=IFERROR(VLOOKUP(INDIRECT("D10"),'20'!$D$3:$E$76,2,0),"")} | F10: {=IFERROR(VLOOKUP(INDIRECT("D10"),'20'!$D$3:$G$76,4,0),"")}
B11: {=IFERROR(VLOOKUP(INDIRECT("D11"),'20'!$A$3:$C$76,2,0),"")} | C11: {=IFERROR(VLOOKUP(INDIRECT("D11"),'20'!$A$3:$C$76,3,0),"")} | E11: {=IFERROR(VLOOKUP(INDIRECT("D11"),'20'!$D$3:$E$76,2,0),"")} | F11: {=IFERROR(VLOOKUP(INDIRECT("D11"),'20'!$D$3:$G$76,4,0),"")}
B12: {=IFERROR(VLOOKUP(INDIRECT("D12"),'20'!$A$3:$C$76,2,0),"")} | C12: {=IFERROR(VLOOKUP(INDIRECT("D12"),'20'!$A$3:$C$76,3,0),"")} | E12: {=IFERROR(VLOOKUP(INDIRECT("D12"),'20'!$D$3:$E$76,2,0),"")} | F12: {=IFERROR(VLOOKUP(INDIRECT("D12"),'20'!$D$3:$G$76,4,0),"")}
B13: {=IFERROR(VLOOKUP(INDIRECT("D13"),'20'!$A$3:$C$76,2,0),"")} | C13: {=IFERROR(VLOOKUP(INDIRECT("D13"),'20'!$A$3:$C$76,3,0),"")} | E13: {=IFERROR(VLOOKUP(INDIRECT("D13"),'20'!$D$3:$E$76,2,0),"")} | F13: {=IFERROR(VLOOKUP(INDIRECT("D13"),'20'!$D$3:$G$76,4,0),"")}
B14: {=IFERROR(VLOOKUP(INDIRECT("D14"),'20'!$A$3:$C$76,2,0),"")} | C14: {=IFERROR(VLOOKUP(INDIRECT("D14"),'20'!$A$3:$C$76,3,0),"")} | E14: {=IFERROR(VLOOKUP(INDIRECT("D14"),'20'!$D$3:$E$76,2,0),"")} | F14: {=IFERROR(VLOOKUP(INDIRECT("D14"),'20'!$D$3:$G$76,4,0),"")}
B15: {=IFERROR(VLOOKUP(INDIRECT("D15"),'20'!$A$3:$C$76,2,0),"")} | C15: {=IFERROR(VLOOKUP(INDIRECT("D15"),'20'!$A$3:$C$76,3,0),"")} | E15: {=IFERROR(VLOOKUP(INDIRECT("D15"),'20'!$D$3:$E$76,2,0),"")} | F15: {=IFERROR(VLOOKUP(INDIRECT("D15"),'20'!$D$3:$G$76,4,0),"")}
B16: {=IFERROR(VLOOKUP(INDIRECT("D16"),'20'!$A$3:$C$76,2,0),"")} | C16: {=IFERROR(VLOOKUP(INDIRECT("D16"),'20'!$A$3:$C$76,3,0),"")} | E16: {=IFERROR(VLOOKUP(INDIRECT("D16"),'20'!$D$3:$E$76,2,0),"")} | F16: {=IFERROR(VLOOKUP(INDIRECT("D16"),'20'!$D$3:$G$76,4,0),"")}
B17: {=IFERROR(VLOOKUP(INDIRECT("D17"),'20'!$A$3:$C$76,2,0),"")} | C17: {=IFERROR(VLOOKUP(INDIRECT("D17"),'20'!$A$3:$C$76,3,0),"")} | E17: {=IFERROR(VLOOKUP(INDIRECT("D17"),'20'!$D$3:$E$76,2,0),"")} | F17: {=IFERROR(VLOOKUP(INDIRECT("D17"),'20'!$D$3:$G$76,4,0),"")}
B18: {=IFERROR(VLOOKUP(INDIRECT("D18"),'20'!$A$3:$C$76,2,0),"")} | C18: {=IFERROR(VLOOKUP(INDIRECT("D18"),'20'!$A$3:$C$76,3,0),"")} | E18: {=IFERROR(VLOOKUP(INDIRECT("D18"),'20'!$D$3:$E$76,2,0),"")} | F18: {=IFERROR(VLOOKUP(INDIRECT("D18"),'20'!$D$3:$G$76,4,0),"")}
B19: {=IFERROR(VLOOKUP(INDIRECT("D19"),'20'!$A$3:$C$76,2,0),"")} | C19: {=IFERROR(VLOOKUP(INDIRECT("D19"),'20'!$A$3:$C$76,3,0),"")} | E19: {=IFERROR(VLOOKUP(INDIRECT("D19"),'20'!$D$3:$E$76,2,0),"")} | F19: {=IFERROR(VLOOKUP(INDIRECT("D19"),'20'!$D$3:$G$76,4,0),"")}
B20: {=IFERROR(VLOOKUP(INDIRECT("D20"),'20'!$A$3:$C$76,2,0),"")} | C20: {=IFERROR(VLOOKUP(INDIRECT("D20"),'20'!$A$3:$C$76,3,0),"")} | E20: {=IFERROR(VLOOKUP(INDIRECT("D20"),'20'!$D$3:$E$76,2,0),"")} | F20: {=IFERROR(VLOOKUP(INDIRECT("D20"),'20'!$D$3:$G$76,4,0),"")}
B21: {=IFERROR(VLOOKUP(INDIRECT("D21"),'20'!$A$3:$C$76,2,0),"")} | C21: {=IFERROR(VLOOKUP(INDIRECT("D21"),'20'!$A$3:$C$76,3,0),"")} | E21: {=IFERROR(VLOOKUP(INDIRECT("D21"),'20'!$D$3:$E$76,2,0),"")} | F21: {=IFERROR(VLOOKUP(INDIRECT("D21"),'20'!$D$3:$G$76,4,0),"")}
B22: {=IFERROR(VLOOKUP(INDIRECT("D22"),'20'!$A$3:$C$76,2,0),"")} | C22: {=IFERROR(VLOOKUP(INDIRECT("D22"),'20'!$A$3:$C$76,3,0),"")} | E22: {=IFERROR(VLOOKUP(INDIRECT("D22"),'20'!$D$3:$E$76,2,0),"")} | F22: {=IFERROR(VLOOKUP(INDIRECT("D22"),'20'!$D$3:$G$76,4,0),"")}
B23: {=IFERROR(VLOOKUP(INDIRECT("D23"),'20'!$A$3:$C$76,2,0),"")} | C23: {=IFERROR(VLOOKUP(INDIRECT("D23"),'20'!$A$3:$C$76,3,0),"")} | E23: {=IFERROR(VLOOKUP(INDIRECT("D23"),'20'!$D$3:$E$76,2,0),"")} | F23: {=IFERROR(VLOOKUP(INDIRECT("D23"),'20'!$D$3:$G$76,4,0),"")}
B24: {=IFERROR(VLOOKUP(INDIRECT("D24"),'20'!$A$3:$C$76,2,0),"")} | C24: {=IFERROR(VLOOKUP(INDIRECT("D24"),'20'!$A$3:$C$76,3,0),"")} | E24: {=IFERROR(VLOOKUP(INDIRECT("D24"),'20'!$D$3:$E$76,2,0),"")} | F24: {=IFERROR(VLOOKUP(INDIRECT("D24"),'20'!$D$3:$G$76,4,0),"")}
B25: {=IFERROR(VLOOKUP(INDIRECT("D25"),'20'!$A$3:$C$76,2,0),"")} | C25: {=IFERROR(VLOOKUP(INDIRECT("D25"),'20'!$A$3:$C$76,3,0),"")} | E25: {=IFERROR(VLOOKUP(INDIRECT("D25"),'20'!$D$3:$E$76,2,0),"")} | F25: {=IFERROR(VLOOKUP(INDIRECT("D25"),'20'!$D$3:$G$76,4,0),"")}
B26: 他 校 種 体 験 研 修
B27: 月 | C27: 日 | D27: 内 容 | F27: 場 所 | G27: 備 考
E31: 合計 | G31: 日
B36: １ 初任者が２人以上の場合、それぞれ別葉に作成する。
B37: ２ 実施予定時期の早い順に記入する。
B38: ３ 実施日が確定していない場合は、空欄とする。
B39: ４ 実施場所が確定していない場合は、「未定」と記入する。

Sheet 10
A1: (様式３－１－２)
B2: ５ 年間指導計画
B3: (1) 勤務校研修
I4: 学校名 | J4: {=INDIRECT("5!E5")} -> 0
I6: 初任者名 | J6: {=INDIRECT("5!A24")} -> 0 | N6: ★入力者 確認用データ | AD6: ★センター担当者 整理用データ
B8: 回数 | C8: 月 | D8: 日 | E8: 項目番号 | H8: 研 修 項 目 | I8: 講 師 | J8: 備 考（研究大会名・研修会名称等） | N8: ①実施予定の研修項目番号 | AD8: ①項目別の実施予定回数
B9: 1 | H9: =_xlfn.CONCAT(Y9&" "&Z9&" "&AA9) | Y9: {=IFERROR(VLOOKUP(INDIRECT("E9"),'18'!$A$4:$B$60,2,0),"")} | Z9: {=IFERROR(VLOOKUP(INDIRECT("F9"),'18'!$A$4:$B$60,2,0),"")} | AA9: {=IFERROR(VLOOKUP(INDIRECT("G9"),'18'!$A$4:$B$60,2,0),"")} | AD9: 1 | AE9: 2 | AF9: 3 | AG9: 4 | AH9: 5 | AI9: 6 | AJ9: 7 | AK9: 8 | AL9: 9 | AM9: 10 | AN9: 11 | AO9: 12 | AP9: 13
B10: 2 | H10: =_xlfn.CONCAT(Y10&" "&Z10&" "&AA10) | N10: 52項目中 | Q10: {=SUM(--(FREQUENCY(IF((項目番号全体>=1)*(項目番号全体<=52), 項目番号全体), ROW(INDIRECT("1:52")))>0))} -> 0 | T10: 項目実施予定 | Y10: {=IFERROR(VLOOKUP(INDIRECT("E10"),'18'!$A$4:$B$60,2,0),"")} | Z10: {=IFERROR(VLOOKUP(INDIRECT("F10"),'18'!$A$4:$B$60,2,0),"")} | AA10: {=IFERROR(VLOOKUP(INDIRECT("G10"),'18'!$A$4:$B$60,2,0),"")} | AD10: =COUNTIF(項目番号全体,AD9) -> 0 | AE10: =COUNTIF(項目番号全体,AE9) -> 0 | AF10: =COUNTIF(項目番号全体,AF9) -> 0 | AG10: =COUNTIF(項目番号全体,AG9) -> 0 | AH10: =COUNTIF(項目番号全体,AH9) -> 0 | AI10: =COUNTIF(項目番号全体,AI9) -> 0 | AJ10: =COUNTIF(項目番号全体,AJ9) -> 0 | AK10: =COUNTIF(項目番号全体,AK9) -> 0 | ... AP10: =COUNTIF(項目番号全体,AP9) -> 0
B11: 3 | H11: =_xlfn.CONCAT(Y11&" "&Z11&" "&AA11) | Y11: {=IFERROR(VLOOKUP(INDIRECT("E11"),'18'!$A$4:$B$60,2,0),"")} | Z11: {=IFERROR(VLOOKUP(INDIRECT("F11"),'18'!$A$4:$B$60,2,0),"")} | AA11: {=IFERROR(VLOOKUP(INDIRECT("G11"),'18'!$A$4:$B$60,2,0),"")}
B12: 4 | H12: =_xlfn.CONCAT(Y12&" "&Z12&" "&AA12) | N12: 1 | O12: 2 | P12: 3 | Q12: 4 | R12: 5 | S12: 6 | T12: 7 | U12: 8 | V12: 9 | W12: 10 | Y12: {=IFERROR(VLOOKUP(INDIRECT("E12"),'18'!$A$4:$B$60,2,0),"")} | Z12: {=IFERROR(VLOOKUP(INDIRECT("F12"),'18'!$A$4:$B$60,2,0),"")} | AA12: {=IFERROR(VLOOKUP(INDIRECT("G12"),'18'!$A$4:$B$60,2,0),"")} | AD12: 14 | AE12: 15 | AF12: 16 | AG12: 17 | AH12: 18 | AI12: 19 | AJ12: 20 | AK12: 21 | AL12: 22 | AM12: 23 | AN12: 24 | AO12: 25 | AP12: 26
B13: 5 | H13: =_xlfn.CONCAT(Y13&" "&Z13&" "&AA13) | N13: 11 | O13: 12 | P13: 13 | Q13: 14 | R13: 15 | S13: 16 | T13: 17 | U13: 18 | V13: 19 | W13: 20 | Y13: {=IFERROR(VLOOKUP(INDIRECT("E13"),'18'!$A$4:$B$60,2,0),"")} | Z13: {=IFERROR(VLOOKUP(INDIRECT("F13"),'18'!$A$4:$B$60,2,0),"")} | AA13: {=IFERROR(VLOOKUP(INDIRECT("G13"),'18'!$A$4:$B$60,2,0),"")} | AD13: =COUNTIF(項目番号全体,AD12) -> 0 | AE13: =COUNTIF(項目番号全体,AE12) -> 0 | AF13: =COUNTIF(項目番号全体,AF12) -> 0 | AG13: =COUNTIF(項目番号全体,AG12) -> 0 | AH13: =COUNTIF(項目番号全体,AH12) -> 0 | AI13: =COUNTIF(項目番号全体,AI12) -> 0 | AJ13: =COUNTIF(項目番号全体,AJ12) -> 0 | AK13: =COUNTIF(項目番号全体,AK12) -> 0 | ... AP13: =COUNTIF(項目番号全体,AP12) -> 0
B14: 6 | H14: =_xlfn.CONCAT(Y14&" "&Z14&" "&AA14) | N14: 21 | O14: 22 | P14: 23 | Q14: 24 | R14: 25 | S14: 26 | T14: 27 | U14: 28 | V14: 29 | W14: 30 | Y14: {=IFERROR(VLOOKUP(INDIRECT("E14"),'18'!$A$4:$B$60,2,0),"")} | Z14: {=IFERROR(VLOOKUP(INDIRECT("F14"),'18'!$A$4:$B$60,2,0),"")} | AA14: {=IFERROR(VLOOKUP(INDIRECT("G14"),'18'!$A$4:$B$60,2,0),"")}
B15: 7 | H15: =_xlfn.CONCAT(Y15&" "&Z15&" "&AA15) | N15: 31 | O15: 32 | P15: 33 | Q15: 34 | R15: 35 | S15: 36 | T15: 37 | U15: 38 | V15: 39 | W15: 40 | Y15: {=IFERROR(VLOOKUP(INDIRECT("E15"),'18'!$A$4:$B$60,2,0),"")} | Z15: {=IFERROR(VLOOKUP(INDIRECT("F15"),'18'!$A$4:$B$60,2,0),"")} | AA15: {=IFERROR(VLOOKUP(INDIRECT("G15"),'18'!$A$4:$B$60,2,0),"")} | AD15: 27 | AE15: 28 | AF15: 29 | AG15: 30 | AH15: 31 | AI15: 32 | AJ15: 33 | AK15: 34 | AL15: 35 | AM15: 36 | AN15: 37 | AO15: 38 | AP15: 39
B16: 8 | H16: =_xlfn.CONCAT(Y16&" "&Z16&" "&AA16) | N16: 41 | O16: 42 | P16: 43 | Q16: 44 | R16: 45 | S16: 46 | T16: 47 | U16: 48 | V16: 49 | W16: 50 | Y16: {=IFERROR(VLOOKUP(INDIRECT("E16"),'18'!$A$4:$B$60,2,0),"")} | Z16: {=IFERROR(VLOOKUP(INDIRECT("F16"),'18'!$A$4:$B$60,2,0),"")} | AA16: {=IFERROR(VLOOKUP(INDIRECT("G16"),'18'!$A$4:$B$60,2,0),"")} | AD16: =COUNTIF(項目番号全体,AD15) -> 0 | AE16: =COUNTIF(項目番号全体,AE15) -> 0 | AF16: =COUNTIF(項目番号全体,AF15) -> 0 | AG16: =COUNTIF(項目番号全体,AG15) -> 0 | AH16: =COUNTIF(項目番号全体,AH15) -> 0 | AI16: =COUNTIF(項目番号全体,AI15) -> 0 | AJ16: =COUNTIF(項目番号全体,AJ15) -> 0 | AK16: =COUNTIF(項目番号全体,AK15) -> 0 | ... AP16: =COUNTIF(項目番号全体,AP15) -> 0
B17: 9 | H17: =_xlfn.CONCAT(Y17&" "&Z17&" "&AA17) | N17: 51 | O17: 52 | Y17: {=IFERROR(VLOOKUP(INDIRECT("E17"),'18'!$A$4:$B$60,2,0),"")} | Z17: {=IFERROR(VLOOKUP(INDIRECT("F17"),'18'!$A$4:$B$60,2,0),"")} | AA17: {=IFERROR(VLOOKUP(INDIRECT("G17"),'18'!$A$4:$B$60,2,0),"")}
B18: 10 | H18: =_xlfn.CONCAT(Y18&" "&Z18&" "&AA18) | Y18: {=IFERROR(VLOOKUP(INDIRECT("E18"),'18'!$A$4:$B$60,2,0),"")} | Z18: {=IFERROR(VLOOKUP(INDIRECT("F18"),'18'!$A$4:$B$60,2,0),"")} | AA18: {=IFERROR(VLOOKUP(INDIRECT("G18"),'18'!$A$4:$B$60,2,0),"")} | AD18: 40 | AE18: 41 | AF18: 42 | AG18: 43 | AH18: 44 | AI18: 45 | AJ18: 46 | AK18: 47 | AL18: 48 | AM18: 49 | AN18: 50 | AO18: 51 | AP18: 52
B19: 11 | H19: =_xlfn.CONCAT(Y19&" "&Z19&" "&AA19) | O19: …１回以上実施予定の研修項目番号 | Y19: {=IFERROR(VLOOKUP(INDIRECT("E19"),'18'!$A$4:$B$60,2,0),"")} | Z19: {=IFERROR(VLOOKUP(INDIRECT("F19"),'18'!$A$4:$B$60,2,0),"")} | AA19: {=IFERROR(VLOOKUP(INDIRECT("G19"),'18'!$A$4:$B$60,2,0),"")} | AD19: =COUNTIF(項目番号全体,AD18) -> 0 | AE19: =COUNTIF(項目番号全体,AE18) -> 0 | AF19: =COUNTIF(項目番号全体,AF18) -> 0 | AG19: =COUNTIF(項目番号全体,AG18) -> 0 | AH19: =COUNTIF(項目番号全体,AH18) -> 0 | AI19: =COUNTIF(項目番号全体,AI18) -> 0 | AJ19: =COUNTIF(項目番号全体,AJ18) -> 0 | AK19: =COUNTIF(項目番号全体,AK18) -> 0 | ... AP19: =COUNTIF(項目番号全体,AP18) -> 0
B20: 12 | H20: =_xlfn.CONCAT(Y20&" "&Z20&" "&AA20) | Y20: {=IFERROR(VLOOKUP(INDIRECT("E20"),'18'!$A$4:$B$60,2,0),"")} | Z20: {=IFERROR(VLOOKUP(INDIRECT("F20"),'18'!$A$4:$B$60,2,0),"")} | AA20: {=IFERROR(VLOOKUP(INDIRECT("G20"),'18'!$A$4:$B$60,2,0),"")}
B21: 13 | H21: =_xlfn.CONCAT(Y21&" "&Z21&" "&AA21) | N21: ②実施予定の勤務校研修の回数 | Y21: {=IFERROR(VLOOKUP(INDIRECT("E21"),'18'!$A$4:$B$60,2,0),"")} | Z21: {=IFERROR(VLOOKUP(INDIRECT("F21"),'18'!$A$4:$B$60,2,0),"")} | AA21: {=IFERROR(VLOOKUP(INDIRECT("G21"),'18'!$A$4:$B$60,2,0),"")} | AD21: ②実施予定の勤務校研修の項目数
B22: 14 | H22: =_xlfn.CONCAT(Y22&" "&Z22&" "&AA22) | Y22: {=IFERROR(VLOOKUP(INDIRECT("E22"),'18'!$A$4:$B$60,2,0),"")} | Z22: {=IFERROR(VLOOKUP(INDIRECT("F22"),'18'!$A$4:$B$60,2,0),"")} | AA22: {=IFERROR(VLOOKUP(INDIRECT("G22"),'18'!$A$4:$B$60,2,0),"")}
B23: 15 | H23: =_xlfn.CONCAT(Y23&" "&Z23&" "&AA23) | Q23: {=SUMPRODUCT(--((ISNUMBER(項目番号１)+ISNUMBER(項目番号２)+ISNUMBER(項目番号３))>0))} -> 0 | T23: 回 | Y23: {=IFERROR(VLOOKUP(INDIRECT("E23"),'18'!$A$4:$B$60,2,0),"")} | Z23: {=IFERROR(VLOOKUP(INDIRECT("F23"),'18'!$A$4:$B$60,2,0),"")} | AA23: {=IFERROR(VLOOKUP(INDIRECT("G23"),'18'!$A$4:$B$60,2,0),"")} | AD23: {=INDIRECT("Q10")} -> 0 | AF23: 項目
B24: 16 | H24: =_xlfn.CONCAT(Y24&" "&Z24&" "&AA24) | Y24: {=IFERROR(VLOOKUP(INDIRECT("E24"),'18'!$A$4:$B$60,2,0),"")} | Z24: {=IFERROR(VLOOKUP(INDIRECT("F24"),'18'!$A$4:$B$60,2,0),"")} | AA24: {=IFERROR(VLOOKUP(INDIRECT("G24"),'18'!$A$4:$B$60,2,0),"")}
B25: 17 | H25: =_xlfn.CONCAT(Y25&" "&Z25&" "&AA25) | N25: ＊勤務校研修の回数は、35～52回の間 になるように予定を立ててください。 | Y25: {=IFERROR(VLOOKUP(INDIRECT("E25"),'18'!$A$4:$B$60,2,0),"")} | Z25: {=IFERROR(VLOOKUP(INDIRECT("F25"),'18'!$A$4:$B$60,2,0),"")} | AA25: {=IFERROR(VLOOKUP(INDIRECT("G25"),'18'!$A$4:$B$60,2,0),"")} | AD25: ③実施予定の勤務校研修の回数
B26: 18 | H26: =_xlfn.CONCAT(Y26&" "&Z26&" "&AA26) | Y26: {=IFERROR(VLOOKUP(INDIRECT("E26"),'18'!$A$4:$B$60,2,0),"")} | Z26: {=IFERROR(VLOOKUP(INDIRECT("F26"),'18'!$A$4:$B$60,2,0),"")} | AA26: {=IFERROR(VLOOKUP(INDIRECT("G26"),'18'!$A$4:$B$60,2,0),"")}
B27: 19 | H27: =_xlfn.CONCAT(Y27&" "&Z27&" "&AA27) | Y27: {=IFERROR(VLOOKUP(INDIRECT("E27"),'18'!$A$4:$B$60,2,0),"")} | Z27: {=IFERROR(VLOOKUP(INDIRECT("F27"),'18'!$A$4:$B$60,2,0),"")} | AA27: {=IFERROR(VLOOKUP(INDIRECT("G27"),'18'!$A$4:$B$60,2,0),"")} | AD27: {=INDIRECT("Q23")} -> 0 | AF27: 回
B28: 20 | H28: =_xlfn.CONCAT(Y28&" "&Z28&" "&AA28) | Y28: {=IFERROR(VLOOKUP(INDIRECT("E28"),'18'!$A$4:$B$60,2,0),"")} | Z28: {=IFERROR(VLOOKUP(INDIRECT("F28"),'18'!$A$4:$B$60,2,0),"")} | AA28: {=IFERROR(VLOOKUP(INDIRECT("G28"),'18'!$A$4:$B$60,2,0),"")}
B29: 21 | H29: =_xlfn.CONCAT(Y29&" "&Z29&" "&AA29) | Y29: {=IFERROR(VLOOKUP(INDIRECT("E29"),'18'!$A$4:$B$60,2,0),"")} | Z29: {=IFERROR(VLOOKUP(INDIRECT("F29"),'18'!$A$4:$B$60,2,0),"")} | AA29: {=IFERROR(VLOOKUP(INDIRECT("G29"),'18'!$A$4:$B$60,2,0),"")}
B30: 22 | H30: =_xlfn.CONCAT(Y30&" "&Z30&" "&AA30) | Y30: {=IFERROR(VLOOKUP(INDIRECT("E30"),'18'!$A$4:$B$60,2,0),"")} | Z30: {=IFERROR(VLOOKUP(INDIRECT("F30"),'18'!$A$4:$B$60,2,0),"")} | AA30: {=IFERROR(VLOOKUP(INDIRECT("G30"),'18'!$A$4:$B$60,2,0),"")}
B31: 23 | H31: =_xlfn.CONCAT(Y31&" "&Z31&" "&AA31) | Y31: {=IFERROR(VLOOKUP(INDIRECT("E31"),'18'!$A$4:$B$60,2,0),"")} | Z31: {=IFERROR(VLOOKUP(INDIRECT("F31"),'18'!$A$4:$B$60,2,0),"")} | AA31: {=IFERROR(VLOOKUP(INDIRECT("G31"),'18'!$A$4:$B$60,2,0),"")}
B32: 24 | H32: =_xlfn.CONCAT(Y32&" "&Z32&" "&AA32) | Y32: {=IFERROR(VLOOKUP(INDIRECT("E32"),'18'!$A$4:$B$60,2,0),"")} | Z32: {=IFERROR(VLOOKUP(INDIRECT("F32"),'18'!$A$4:$B$60,2,0),"")} | AA32: {=IFERROR(VLOOKUP(INDIRECT("G32"),'18'!$A$4:$B$60,2,0),"")}
B33: 25 | H33: =_xlfn.CONCAT(Y33&" "&Z33&" "&AA33) | Y33: {=IFERROR(VLOOKUP(INDIRECT("E33"),'18'!$A$4:$B$60,2,0),"")} | Z33: {=IFERROR(VLOOKUP(INDIRECT("F33"),'18'!$A$4:$B$60,2,0),"")} | AA33: {=IFERROR(VLOOKUP(INDIRECT("G33"),'18'!$A$4:$B$60,2,0),"")}
B34: 26 | H34: =_xlfn.CONCAT(Y34&" "&Z34&" "&AA34) | Y34: {=IFERROR(VLOOKUP(INDIRECT("E34"),'18'!$A$4:$B$60,2,0),"")} | Z34: {=IFERROR(VLOOKUP(INDIRECT("F34"),'18'!$A$4:$B$60,2,0),"")} | AA34: {=IFERROR(VLOOKUP(INDIRECT("G34"),'18'!$A$4:$B$60,2,0),"")}
B35: 27 | H35: =_xlfn.CONCAT(Y35&" "&Z35&" "&AA35) | Y35: {=IFERROR(VLOOKUP(INDIRECT("E35"),'18'!$A$4:$B$60,2,0),"")} | Z35: {=IFERROR(VLOOKUP(INDIRECT("F35"),'18'!$A$4:$B$60,2,0),"")} | AA35: {=IFERROR(VLOOKUP(INDIRECT("G35"),'18'!$A$4:$B$60,2,0),"")}
B36: 28 | H36: =_xlfn.CONCAT(Y36&" "&Z36&" "&AA36) | Y36: {=IFERROR(VLOOKUP(INDIRECT("E36"),'18'!$A$4:$B$60,2,0),"")} | Z36: {=IFERROR(VLOOKUP(INDIRECT("F36"),'18'!$A$4:$B$60,2,0),"")} | AA36: {=IFERROR(VLOOKUP(INDIRECT("G36"),'18'!$A$4:$B$60,2,0),"")}
B37: 29 | H37: =_xlfn.CONCAT(Y37&" "&Z37&" "&AA37) | Y37: {=IFERROR(VLOOKUP(INDIRECT("E37"),'18'!$A$4:$B$60,2,0),"")} | Z37: {=IFERROR(VLOOKUP(INDIRECT("F37"),'18'!$A$4:$B$60,2,0),"")} | AA37: {=IFERROR(VLOOKUP(INDIRECT("G37"),'18'!$A$4:$B$60,2,0),"")}
B38: 30 | H38: =_xlfn.CONCAT(Y38&" "&Z38&" "&AA38) | Y38: {=IFERROR(VLOOKUP(INDIRECT("E38"),'18'!$A$4:$B$60,2,0),"")} | Z38: {=IFERROR(VLOOKUP(INDIRECT("F38"),'18'!$A$4:$B$60,2,0),"")} | AA38: {=IFERROR(VLOOKUP(INDIRECT("G38"),'18'!$A$4:$B$60,2,0),"")}
B39: 31 | H39: =_xlfn.CONCAT(Y39&" "&Z39&" "&AA39) | Y39: {=IFERROR(VLOOKUP(INDIRECT("E39"),'18'!$A$4:$B$60,2,0),"")} | Z39: {=IFERROR(VLOOKUP(INDIRECT("F39"),'18'!$A$4:$B$60,2,0),"")} | AA39: {=IFERROR(VLOOKUP(INDIRECT("G39"),'18'!$A$4:$B$60,2,0),"")}
B40: 32 | H40: =_xlfn.CONCAT(Y40&" "&Z40&" "&AA40) | Y40: {=IFERROR(VLOOKUP(INDIRECT("E40"),'18'!$A$4:$B$60,2,0),"")} | Z40: {=IFERROR(VLOOKUP(INDIRECT("F40"),'18'!$A$4:$B$60,2,0),"")} | AA40: {=IFERROR(VLOOKUP(INDIRECT("G40"),'18'!$A$4:$B$60,2,0),"")}
B41: 33 | H41: =_xlfn.CONCAT(Y41&" "&Z41&" "&AA41) | Y41: {=IFERROR(VLOOKUP(INDIRECT("E41"),'18'!$A$4:$B$60,2,0),"")} | Z41: {=IFERROR(VLOOKUP(INDIRECT("F41"),'18'!$A$4:$B$60,2,0),"")} | AA41: {=IFERROR(VLOOKUP(INDIRECT("G41"),'18'!$A$4:$B$60,2,0),"")}
B42: 34 | H42: =_xlfn.CONCAT(Y42&" "&Z42&" "&AA42) | Y42: {=IFERROR(VLOOKUP(INDIRECT("E42"),'18'!$A$4:$B$60,2,0),"")} | Z42: {=IFERROR(VLOOKUP(INDIRECT("F42"),'18'!$A$4:$B$60,2,0),"")} | AA42: {=IFERROR(VLOOKUP(INDIRECT("G42"),'18'!$A$4:$B$60,2,0),"")}
B43: 35 | H43: =_xlfn.CONCAT(Y43&" "&Z43&" "&AA43) | Y43: {=IFERROR(VLOOKUP(INDIRECT("E43"),'18'!$A$4:$B$60,2,0),"")} | Z43: {=IFERROR(VLOOKUP(INDIRECT("F43"),'18'!$A$4:$B$60,2,0),"")} | AA43: {=IFERROR(VLOOKUP(INDIRECT("G43"),'18'!$A$4:$B$60,2,0),"")}
B44: 36 | H44: =_xlfn.CONCAT(Y44&" "&Z44&" "&AA44) | Y44: {=IFERROR(VLOOKUP(INDIRECT("E44"),'18'!$A$4:$B$60,2,0),"")} | Z44: {=IFERROR(VLOOKUP(INDIRECT("F44"),'18'!$A$4:$B$60,2,0),"")} | AA44: {=IFERROR(VLOOKUP(INDIRECT("G44"),'18'!$A$4:$B$60,2,0),"")}
B45: 37 | H45: =_xlfn.CONCAT(Y45&" "&Z45&" "&AA45) | Y45: {=IFERROR(VLOOKUP(INDIRECT("E45"),'18'!$A$4:$B$60,2,0),"")} | Z45: {=IFERROR(VLOOKUP(INDIRECT("F45"),'18'!$A$4:$B$60,2,0),"")} | AA45: {=IFERROR(VLOOKUP(INDIRECT("G45"),'18'!$A$4:$B$60,2,0),"")}
B46: 38 | H46: =_xlfn.CONCAT(Y46&" "&Z46&" "&AA46) | Y46: {=IFERROR(VLOOKUP(INDIRECT("E46"),'18'!$A$4:$B$60,2,0),"")} | Z46: {=IFERROR(VLOOKUP(INDIRECT("F46"),'18'!$A$4:$B$60,2,0),"")} | AA46: {=IFERROR(VLOOKUP(INDIRECT("G46"),'18'!$A$4:$B$60,2,0),"")}
B47: 39 | H47: =_xlfn.CONCAT(Y47&" "&Z47&" "&AA47) | Y47: {=IFERROR(VLOOKUP(INDIRECT("E47"),'18'!$A$4:$B$60,2,0),"")} | Z47: {=IFERROR(VLOOKUP(INDIRECT("F47"),'18'!$A$4:$B$60,2,0),"")} | AA47: {=IFERROR(VLOOKUP(INDIRECT("G47"),'18'!$A$4:$B$60,2,0),"")}
B48: 40 | H48: =_xlfn.CONCAT(Y48&" "&Z48&" "&AA48) | Y48: {=IFERROR(VLOOKUP(INDIRECT("E48"),'18'!$A$4:$B$60,2,0),"")} | Z48: {=IFERROR(VLOOKUP(INDIRECT("F48"),'18'!$A$4:$B$60,2,0),"")} | AA48: {=IFERROR(VLOOKUP(INDIRECT("G48"),'18'!$A$4:$B$60,2,0),"")}
B49: 41 | H49: =_xlfn.CONCAT(Y49&" "&Z49&" "&AA49) | Y49: {=IFERROR(VLOOKUP(INDIRECT("E49"),'18'!$A$4:$B$60,2,0),"")} | Z49: {=IFERROR(VLOOKUP(INDIRECT("F49"),'18'!$A$4:$B$60,2,0),"")} | AA49: {=IFERROR(VLOOKUP(INDIRECT("G49"),'18'!$A$4:$B$60,2,0),"")}
B50: 42 | H50: =_xlfn.CONCAT(Y50&" "&Z50&" "&AA50) | Y50: {=IFERROR(VLOOKUP(INDIRECT("E50"),'18'!$A$4:$B$60,2,0),"")} | Z50: {=IFERROR(VLOOKUP(INDIRECT("F50"),'18'!$A$4:$B$60,2,0),"")} | AA50: {=IFERROR(VLOOKUP(INDIRECT("G50"),'18'!$A$4:$B$60,2,0),"")}
B51: 43 | H51: =_xlfn.CONCAT(Y51&" "&Z51&" "&AA51) | Y51: {=IFERROR(VLOOKUP(INDIRECT("E51"),'18'!$A$4:$B$60,2,0),"")} | Z51: {=IFERROR(VLOOKUP(INDIRECT("F51"),'18'!$A$4:$B$60,2,0),"")} | AA51: {=IFERROR(VLOOKUP(INDIRECT("G51"),'18'!$A$4:$B$60,2,0),"")}
B52: 44 | H52: =_xlfn.CONCAT(Y52&" "&Z52&" "&AA52) | Y52: {=IFERROR(VLOOKUP(INDIRECT("E52"),'18'!$A$4:$B$60,2,0),"")} | Z52: {=IFERROR(VLOOKUP(INDIRECT("F52"),'18'!$A$4:$B$60,2,0),"")} | AA52: {=IFERROR(VLOOKUP(INDIRECT("G52"),'18'!$A$4:$B$60,2,0),"")}
B53: 45 | H53: =_xlfn.CONCAT(Y53&" "&Z53&" "&AA53) | Y53: {=IFERROR(VLOOKUP(INDIRECT("E53"),'18'!$A$4:$B$60,2,0),"")} | Z53: {=IFERROR(VLOOKUP(INDIRECT("F53"),'18'!$A$4:$B$60,2,0),"")} | AA53: {=IFERROR(VLOOKUP(INDIRECT("G53"),'18'!$A$4:$B$60,2,0),"")}
B54: 46 | H54: =_xlfn.CONCAT(Y54&" "&Z54&" "&AA54) | Y54: {=IFERROR(VLOOKUP(INDIRECT("E54"),'18'!$A$4:$B$60,2,0),"")} | Z54: {=IFERROR(VLOOKUP(INDIRECT("F54"),'18'!$A$4:$B$60,2,0),"")} | AA54: {=IFERROR(VLOOKUP(INDIRECT("G54"),'18'!$A$4:$B$60,2,0),"")}
B55: 47 | H55: =_xlfn.CONCAT(Y55&" "&Z55&" "&AA55) | Y55: {=IFERROR(VLOOKUP(INDIRECT("E55"),'18'!$A$4:$B$60,2,0),"")} | Z55: {=IFERROR(VLOOKUP(INDIRECT("F55"),'18'!$A$4:$B$60,2,0),"")} | AA55: {=IFERROR(VLOOKUP(INDIRECT("G55"),'18'!$A$4:$B$60,2,0),"")}
B56: 48 | H56: =_xlfn.CONCAT(Y56&" "&Z56&" "&AA56) | Y56: {=IFERROR(VLOOKUP(INDIRECT("E56"),'18'!$A$4:$B$60,2,0),"")} | Z56: {=IFERROR(VLOOKUP(INDIRECT("F56"),'18'!$A$4:$B$60,2,0),"")} | AA56: {=IFERROR(VLOOKUP(INDIRECT("G56"),'18'!$A$4:$B$60,2,0),"")}
B57: 49 | H57: =_xlfn.CONCAT(Y57&" "&Z57&" "&AA57) | Y57: {=IFERROR(VLOOKUP(INDIRECT("E57"),'18'!$A$4:$B$60,2,0),"")} | Z57: {=IFERROR(VLOOKUP(INDIRECT("F57"),'18'!$A$4:$B$60,2,0),"")} | AA57: {=IFERROR(VLOOKUP(INDIRECT("G57"),'18'!$A$4:$B$60,2,0),"")}
B58: 50 | H58: =_xlfn.CONCAT(Y58&" "&Z58&" "&AA58) | Y58: {=IFERROR(VLOOKUP(INDIRECT("E58"),'18'!$A$4:$B$60,2,0),"")} | Z58: {=IFERROR(VLOOKUP(INDIRECT("F58"),'18'!$A$4:$B$60,2,0),"")} | AA58: {=IFERROR(VLOOKUP(INDIRECT("G58"),'18'!$A$4:$B$60,2,0),"")}
B59: 51 | H59: =_xlfn.CONCAT(Y59&" "&Z59&" "&AA59) | Y59: {=IFERROR(VLOOKUP(INDIRECT("E59"),'18'!$A$4:$B$60,2,0),"")} | Z59: {=IFERROR(VLOOKUP(INDIRECT("F59"),'18'!$A$4:$B$60,2,0),"")} | AA59: {=IFERROR(VLOOKUP(INDIRECT("G59"),'18'!$A$4:$B$60,2,0),"")}
B60: 52 | H60: =_xlfn.CONCAT(Y60&" "&Z60&" "&AA60) | Y60: {=IFERROR(VLOOKUP(INDIRECT("E60"),'18'!$A$4:$B$60,2,0),"")} | Z60: {=IFERROR(VLOOKUP(INDIRECT("F60"),'18'!$A$4:$B$60,2,0),"")} | AA60: {=IFERROR(VLOOKUP(INDIRECT("G60"),'18'!$A$4:$B$60,2,0),"")}
B62: 1 | C62: 初任者が２人以上の場合、それぞれ別葉に作成する。
B63: 2 | C63: 実施日の確定が難しい場合は、実施の「月」のみを記入したり空欄にしたりする。
E66: ＜省略する研修項目＞
E68: 項目番号 | H68: 研 修 項 目 | I68: 研修項目を省略する理由 | N68: ③省略する研修項目番号
H69: {=IFERROR(VLOOKUP(INDIRECT("E69"),'18'!$A$4:$B$60,2,0),"")} | Z69: {=IFERROR(VLOOKUP(INDIRECT("F9"),'18'!$A$4:$B$60,2,0),"")} | AA69: {=IFERROR(VLOOKUP(INDIRECT("G9"),'18'!$A$4:$B$60,2,0),"")}
H70: {=IFERROR(VLOOKUP(INDIRECT("E70"),'18'!$A$4:$B$60,2,0),"")} | N70: 52項目中 | Q70: =52-Q10 -> 52 | T70: 項目省略する | Z70: {=IFERROR(VLOOKUP(INDIRECT("F10"),'18'!$A$4:$B$60,2,0),"")} | AA70: {=IFERROR(VLOOKUP(INDIRECT("G10"),'18'!$A$4:$B$60,2,0),"")}
H71: {=IFERROR(VLOOKUP(INDIRECT("E71"),'18'!$A$4:$B$60,2,0),"")}
H72: {=IFERROR(VLOOKUP(INDIRECT("E72"),'18'!$A$4:$B$60,2,0),"")} | N72: 1 | O72: 2 | P72: 3 | Q72: 4 | R72: 5 | S72: 6 | T72: 7 | U72: 8 | V72: 9 | W72: 10 | Z72: {=IFERROR(VLOOKUP(INDIRECT("F12"),'18'!$A$4:$B$60,2,0),"")} | AA72: {=IFERROR(VLOOKUP(INDIRECT("G12"),'18'!$A$4:$B$60,2,0),"")}
H73: {=IFERROR(VLOOKUP(INDIRECT("E73"),'18'!$A$4:$B$60,2,0),"")} | N73: 11 | O73: 12 | P73: 13 | Q73: 14 | R73: 15 | S73: 16 | T73: 17 | U73: 18 | V73: 19 | W73: 20 | Z73: {=IFERROR(VLOOKUP(INDIRECT("F13"),'18'!$A$4:$B$60,2,0),"")} | AA73: {=IFERROR(VLOOKUP(INDIRECT("G13"),'18'!$A$4:$B$60,2,0),"")}
H74: {=IFERROR(VLOOKUP(INDIRECT("E74"),'18'!$A$4:$B$60,2,0),"")} | N74: 21 | O74: 22 | P74: 23 | Q74: 24 | R74: 25 | S74: 26 | T74: 27 | U74: 28 | V74: 29 | W74: 30 | Y74: {=IFERROR(VLOOKUP(INDIRECT("E14"),'18'!$A$4:$B$60,2,0),"")} | Z74: {=IFERROR(VLOOKUP(INDIRECT("F14"),'18'!$A$4:$B$60,2,0),"")} | AA74: {=IFERROR(VLOOKUP(INDIRECT("G14"),'18'!$A$4:$B$60,2,0),"")}
H75: {=IFERROR(VLOOKUP(INDIRECT("E75"),'18'!$A$4:$B$60,2,0),"")} | N75: 31 | O75: 32 | P75: 33 | Q75: 34 | R75: 35 | S75: 36 | T75: 37 | U75: 38 | V75: 39 | W75: 40 | Y75: {=IFERROR(VLOOKUP(INDIRECT("E15"),'18'!$A$4:$B$60,2,0),"")} | Z75: {=IFERROR(VLOOKUP(INDIRECT("F15"),'18'!$A$4:$B$60,2,0),"")} | AA75: {=IFERROR(VLOOKUP(INDIRECT("G15"),'18'!$A$4:$B$60,2,0),"")}
H76: {=IFERROR(VLOOKUP(INDIRECT("E76"),'18'!$A$4:$B$60,2,0),"")} | N76: 41 | O76: 42 | P76: 43 | Q76: 44 | R76: 45 | S76: 46 | T76: 47 | U76: 48 | V76: 49 | W76: 50 | Y76: {=IFERROR(VLOOKUP(INDIRECT("E16"),'18'!$A$4:$B$60,2,0),"")} | Z76: {=IFERROR(VLOOKUP(INDIRECT("F16"),'18'!$A$4:$B$60,2,0),"")} | AA76: {=IFERROR(VLOOKUP(INDIRECT("G16"),'18'!$A$4:$B$60,2,0),"")}
H77: {=IFERROR(VLOOKUP(INDIRECT("E77"),'18'!$A$4:$B$60,2,0),"")} | N77: 51 | O77: 52 | Y77: {=IFERROR(VLOOKUP(INDIRECT("E17"),'18'!$A$4:$B$60,2,0),"")} | Z77: {=IFERROR(VLOOKUP(INDIRECT("F17"),'18'!$A$4:$B$60,2,0),"")} | AA77: {=IFERROR(VLOOKUP(INDIRECT("G17"),'18'!$A$4:$B$60,2,0),"")}
H78: {=IFERROR(VLOOKUP(INDIRECT("E78"),'18'!$A$4:$B$60,2,0),"")} | Y78: {=IFERROR(VLOOKUP(INDIRECT("E18"),'18'!$A$4:$B$60,2,0),"")} | Z78: {=IFERROR(VLOOKUP(INDIRECT("F18"),'18'!$A$4:$B$60,2,0),"")} | AA78: {=IFERROR(VLOOKUP(INDIRECT("G18"),'18'!$A$4:$B$60,2,0),"")}
H79: {=IFERROR(VLOOKUP(INDIRECT("E79"),'18'!$A$4:$B$60,2,0),"")} | O79: …省略する研修項目番号 | Y79: {=IFERROR(VLOOKUP(INDIRECT("E19"),'18'!$A$4:$B$60,2,0),"")} | Z79: {=IFERROR(VLOOKUP(INDIRECT("F19"),'18'!$A$4:$B$60,2,0),"")} | AA79: {=IFERROR(VLOOKUP(INDIRECT("G19"),'18'!$A$4:$B$60,2,0),"")}
H80: {=IFERROR(VLOOKUP(INDIRECT("E80"),'18'!$A$4:$B$60,2,0),"")} | Y80: {=IFERROR(VLOOKUP(INDIRECT("E20"),'18'!$A$4:$B$60,2,0),"")} | Z80: {=IFERROR(VLOOKUP(INDIRECT("F20"),'18'!$A$4:$B$60,2,0),"")} | AA80: {=IFERROR(VLOOKUP(INDIRECT("G20"),'18'!$A$4:$B$60,2,0),"")}
H81: {=IFERROR(VLOOKUP(INDIRECT("E81"),'18'!$A$4:$B$60,2,0),"")} | Y81: {=IFERROR(VLOOKUP(INDIRECT("E21"),'18'!$A$4:$B$60,2,0),"")} | Z81: {=IFERROR(VLOOKUP(INDIRECT("F21"),'18'!$A$4:$B$60,2,0),"")} | AA81: {=IFERROR(VLOOKUP(INDIRECT("G21"),'18'!$A$4:$B$60,2,0),"")}
H82: {=IFERROR(VLOOKUP(INDIRECT("E82"),'18'!$A$4:$B$60,2,0),"")} | Y82: {=IFERROR(VLOOKUP(INDIRECT("E22"),'18'!$A$4:$B$60,2,0),"")} | Z82: {=IFERROR(VLOOKUP(INDIRECT("F22"),'18'!$A$4:$B$60,2,0),"")} | AA82: {=IFERROR(VLOOKUP(INDIRECT("G22"),'18'!$A$4:$B$60,2,0),"")}
H83: {=IFERROR(VLOOKUP(INDIRECT("E83"),'18'!$A$4:$B$60,2,0),"")} | Y83: {=IFERROR(VLOOKUP(INDIRECT("E23"),'18'!$A$4:$B$60,2,0),"")} | Z83: {=IFERROR(VLOOKUP(INDIRECT("F23"),'18'!$A$4:$B$60,2,0),"")} | AA83: {=IFERROR(VLOOKUP(INDIRECT("G23"),'18'!$A$4:$B$60,2,0),"")}
H84: {=IFERROR(VLOOKUP(INDIRECT("E84"),'18'!$A$4:$B$60,2,0),"")} | Y84: {=IFERROR(VLOOKUP(INDIRECT("E24"),'18'!$A$4:$B$60,2,0),"")} | Z84: {=IFERROR(VLOOKUP(INDIRECT("F24"),'18'!$A$4:$B$60,2,0),"")} | AA84: {=IFERROR(VLOOKUP(INDIRECT("G24"),'18'!$A$4:$B$60,2,0),"")}
H85: {=IFERROR(VLOOKUP(INDIRECT("E85"),'18'!$A$4:$B$60,2,0),"")} | Y85: {=IFERROR(VLOOKUP(INDIRECT("E25"),'18'!$A$4:$B$60,2,0),"")} | Z85: {=IFERROR(VLOOKUP(INDIRECT("F25"),'18'!$A$4:$B$60,2,0),"")} | AA85: {=IFERROR(VLOOKUP(INDIRECT("G25"),'18'!$A$4:$B$60,2,0),"")}

Sheet 11
B2: (2) センター等研修
F3: 学校名 | G3: {=INDIRECT("5!E5")} -> 0
F5: 初任者名 | G5: {=INDIRECT("5!A24")} -> 0
B7: 月 | C7: 日 | D7: 講座番号 | E7: 講 座 名 | F7: 場 所 | G7: 備 考
B8: {=IFERROR(VLOOKUP(INDIRECT("D8"),'20'!$A$3:$C$76,2,0),"")} | C8: {=IFERROR(VLOOKUP(INDIRECT("D8"),'20'!$A$3:$C$76,3,0),"")} | E8: {=IFERROR(VLOOKUP(INDIRECT("D8"),'20'!$D$3:$E$76,2,0),"")} | F8: {=IFERROR(VLOOKUP(INDIRECT("D8"),'20'!$D$3:$G$76,4,0),"")}
B9: {=IFERROR(VLOOKUP(INDIRECT("D9"),'20'!$A$3:$C$76,2,0),"")} | C9: {=IFERROR(VLOOKUP(INDIRECT("D9"),'20'!$A$3:$C$76,3,0),"")} | E9: {=IFERROR(VLOOKUP(INDIRECT("D9"),'20'!$D$3:$E$76,2,0),"")} | F9: {=IFERROR(VLOOKUP(INDIRECT("D9"),'20'!$D$3:$G$76,4,0),"")}
B10: {=IFERROR(VLOOKUP(INDIRECT("D10"),'20'!$A$3:$C$76,2,0),"")} | C10: {=IFERROR(VLOOKUP(INDIRECT("D10"),'20'!$A$3:$C$76,3,0),"")} | E10: {=IFERROR(VLOOKUP(INDIRECT("D10"),'20'!$D$3:$E$76,2,0),"")} | F10: {=IFERROR(VLOOKUP(INDIRECT("D10"),'20'!$D$3:$G$76,4,0),"")}
B11: {=IFERROR(VLOOKUP(INDIRECT("D11"),'20'!$A$3:$C$76,2,0),"")} | C11: {=IFERROR(VLOOKUP(INDIRECT("D11"),'20'!$A$3:$C$76,3,0),"")} | E11: {=IFERROR(VLOOKUP(INDIRECT("D11"),'20'!$D$3:$E$76,2,0),"")} | F11: {=IFERROR(VLOOKUP(INDIRECT("D11"),'20'!$D$3:$G$76,4,0),"")}
B12: {=IFERROR(VLOOKUP(INDIRECT("D12"),'20'!$A$3:$C$76,2,0),"")} | C12: {=IFERROR(VLOOKUP(INDIRECT("D12"),'20'!$A$3:$C$76,3,0),"")} | E12: {=IFERROR(VLOOKUP(INDIRECT("D12"),'20'!$D$3:$E$76,2,0),"")} | F12: {=IFERROR(VLOOKUP(INDIRECT("D12"),'20'!$D$3:$G$76,4,0),"")}
B13: {=IFERROR(VLOOKUP(INDIRECT("D13"),'20'!$A$3:$C$76,2,0),"")} | C13: {=IFERROR(VLOOKUP(INDIRECT("D13"),'20'!$A$3:$C$76,3,0),"")} | E13: {=IFERROR(VLOOKUP(INDIRECT("D13"),'20'!$D$3:$E$76,2,0),"")} | F13: {=IFERROR(VLOOKUP(INDIRECT("D13"),'20'!$D$3:$G$76,4,0),"")}
B14: {=IFERROR(VLOOKUP(INDIRECT("D14"),'20'!$A$3:$C$76,2,0),"")} | C14: {=IFERROR(VLOOKUP(INDIRECT("D14"),'20'!$A$3:$C$76,3,0),"")} | E14: {=IFERROR(VLOOKUP(INDIRECT("D14"),'20'!$D$3:$E$76,2,0),"")} | F14: {=IFERROR(VLOOKUP(INDIRECT("D14"),'20'!$D$3:$G$76,4,0),"")}
B15: {=IFERROR(VLOOKUP(INDIRECT("D15"),'20'!$A$3:$C$76,2,0),"")} | C15: {=IFERROR(VLOOKUP(INDIRECT("D15"),'20'!$A$3:$C$76,3,0),"")} | E15: {=IFERROR(VLOOKUP(INDIRECT("D15"),'20'!$D$3:$E$76,2,0),"")} | F15: {=IFERROR(VLOOKUP(INDIRECT("D15"),'20'!$D$3:$G$76,4,0),"")}
B16: {=IFERROR(VLOOKUP(INDIRECT("D16"),'20'!$A$3:$C$76,2,0),"")} | C16: {=IFERROR(VLOOKUP(INDIRECT("D16"),'20'!$A$3:$C$76,3,0),"")} | E16: {=IFERROR(VLOOKUP(INDIRECT("D16"),'20'!$D$3:$E$76,2,0),"")} | F16: {=IFERROR(VLOOKUP(INDIRECT("D16"),'20'!$D$3:$G$76,4,0),"")}
B17: {=IFERROR(VLOOKUP(INDIRECT("D17"),'20'!$A$3:$C$76,2,0),"")} | C17: {=IFERROR(VLOOKUP(INDIRECT("D17"),'20'!$A$3:$C$76,3,0),"")} | E17: {=IFERROR(VLOOKUP(INDIRECT("D17"),'20'!$D$3:$E$76,2,0),"")} | F17: {=IFERROR(VLOOKUP(INDIRECT("D17"),'20'!$D$3:$G$76,4,0),"")}
B18: {=IFERROR(VLOOKUP(INDIRECT("D18"),'20'!$A$3:$C$76,2,0),"")} | C18: {=IFERROR(VLOOKUP(INDIRECT("D18"),'20'!$A$3:$C$76,3,0),"")} | E18: {=IFERROR(VLOOKUP(INDIRECT("D18"),'20'!$D$3:$E$76,2,0),"")} | F18: {=IFERROR(VLOOKUP(INDIRECT("D18"),'20'!$D$3:$G$76,4,0),"")}
B19: {=IFERROR(VLOOKUP(INDIRECT("D19"),'20'!$A$3:$C$76,2,0),"")} | C19: {=IFERROR(VLOOKUP(INDIRECT("D19"),'20'!$A$3:$C$76,3,0),"")} | E19: {=IFERROR(VLOOKUP(INDIRECT("D19"),'20'!$D$3:$E$76,2,0),"")} | F19: {=IFERROR(VLOOKUP(INDIRECT("D19"),'20'!$D$3:$G$76,4,0),"")}
B20: {=IFERROR(VLOOKUP(INDIRECT("D20"),'20'!$A$3:$C$76,2,0),"")} | C20: {=IFERROR(VLOOKUP(INDIRECT("D20"),'20'!$A$3:$C$76,3,0),"")} | E20: {=IFERROR(VLOOKUP(INDIRECT("D20"),'20'!$D$3:$E$76,2,0),"")} | F20: {=IFERROR(VLOOKUP(INDIRECT("D20"),'20'!$D$3:$G$76,4,0),"")}
B21: {=IFERROR(VLOOKUP(INDIRECT("D21"),'20'!$A$3:$C$76,2,0),"")} | C21: {=IFERROR(VLOOKUP(INDIRECT("D21"),'20'!$A$3:$C$76,3,0),"")} | E21: {=IFERROR(VLOOKUP(INDIRECT("D21"),'20'!$D$3:$E$76,2,0),"")} | F21: {=IFERROR(VLOOKUP(INDIRECT("D21"),'20'!$D$3:$G$76,4,0),"")}
B22: {=IFERROR(VLOOKUP(INDIRECT("D22"),'20'!$A$3:$C$76,2,0),"")} | C22: {=IFERROR(VLOOKUP(INDIRECT("D22"),'20'!$A$3:$C$76,3,0),"")} | E22: {=IFERROR(VLOOKUP(INDIRECT("D22"),'20'!$D$3:$E$76,2,0),"")} | F22: {=IFERROR(VLOOKUP(INDIRECT("D22"),'20'!$D$3:$G$76,4,0),"")}
B23: {=IFERROR(VLOOKUP(INDIRECT("D23"),'20'!$A$3:$C$76,2,0),"")} | C23: {=IFERROR(VLOOKUP(INDIRECT("D23"),'20'!$A$3:$C$76,3,0),"")} | E23: {=IFERROR(VLOOKUP(INDIRECT("D23"),'20'!$D$3:$E$76,2,0),"")} | F23: {=IFERROR(VLOOKUP(INDIRECT("D23"),'20'!$D$3:$G$76,4,0),"")}
B24: {=IFERROR(VLOOKUP(INDIRECT("D24"),'20'!$A$3:$C$76,2,0),"")} | C24: {=IFERROR(VLOOKUP(INDIRECT("D24"),'20'!$A$3:$C$76,3,0),"")} | E24: {=IFERROR(VLOOKUP(INDIRECT("D24"),'20'!$D$3:$E$76,2,0),"")} | F24: {=IFERROR(VLOOKUP(INDIRECT("D24"),'20'!$D$3:$G$76,4,0),"")}
B25: {=IFERROR(VLOOKUP(INDIRECT("D25"),'20'!$A$3:$C$76,2,0),"")} | C25: {=IFERROR(VLOOKUP(INDIRECT("D25"),'20'!$A$3:$C$76,3,0),"")} | E25: {=IFERROR(VLOOKUP(INDIRECT("D25"),'20'!$D$3:$E$76,2,0),"")} | F25: {=IFERROR(VLOOKUP(INDIRECT("D25"),'20'!$D$3:$G$76,4,0),"")}
B26: 他 校 種 体 験 研 修
B27: 月 | C27: 日 | D27: 内 容 | F27: 場 所 | G27: 備 考
E31: 合計 | G31: 日
B36: １ 初任者が２人以上の場合、それぞれ別葉に作成する。
B37: ２ 実施予定時期の早い順に記入する。
B38: ３ 実施日が確定していない場合は、空欄とする。
B39: ４ 実施場所が確定していない場合は、「未定」と記入する。

Sheet 12
A1: (様式３－１－２)
B2: ５ 年間指導計画
B3: (1) 勤務校研修
I4: 学校名 | J4: {=INDIRECT("5!E5")} -> 0
I6: 初任者名 | J6: {=INDIRECT("5!A25")} -> 0 | N6: ★入力者 確認用データ | AD6: ★センター担当者 整理用データ
B8: 回数 | C8: 月 | D8: 日 | E8: 項目番号 | H8: 研 修 項 目 | I8: 講 師 | J8: 備 考（研究大会名・研修会名称等） | N8: ①実施予定の研修項目番号 | AD8: ①項目別の実施予定回数
B9: 1 | H9: =_xlfn.CONCAT(Y9&" "&Z9&" "&AA9) | Y9: {=IFERROR(VLOOKUP(INDIRECT("E9"),'18'!$A$4:$B$60,2,0),"")} | Z9: {=IFERROR(VLOOKUP(INDIRECT("F9"),'18'!$A$4:$B$60,2,0),"")} | AA9: {=IFERROR(VLOOKUP(INDIRECT("G9"),'18'!$A$4:$B$60,2,0),"")} | AD9: 1 | AE9: 2 | AF9: 3 | AG9: 4 | AH9: 5 | AI9: 6 | AJ9: 7 | AK9: 8 | AL9: 9 | AM9: 10 | AN9: 11 | AO9: 12 | AP9: 13
B10: 2 | H10: =_xlfn.CONCAT(Y10&" "&Z10&" "&AA10) | N10: 52項目中 | Q10: {=SUM(--(FREQUENCY(IF((項目番号全体>=1)*(項目番号全体<=52), 項目番号全体), ROW(INDIRECT("1:52")))>0))} -> 0 | T10: 項目実施予定 | Y10: {=IFERROR(VLOOKUP(INDIRECT("E10"),'18'!$A$4:$B$60,2,0),"")} | Z10: {=IFERROR(VLOOKUP(INDIRECT("F10"),'18'!$A$4:$B$60,2,0),"")} | AA10: {=IFERROR(VLOOKUP(INDIRECT("G10"),'18'!$A$4:$B$60,2,0),"")} | AD10: =COUNTIF(項目番号全体,AD9) -> 0 | AE10: =COUNTIF(項目番号全体,AE9) -> 0 | AF10: =COUNTIF(項目番号全体,AF9) -> 0 | AG10: =COUNTIF(項目番号全体,AG9) -> 0 | AH10: =COUNTIF(項目番号全体,AH9) -> 0 | AI10: =COUNTIF(項目番号全体,AI9) -> 0 | AJ10: =COUNTIF(項目番号全体,AJ9) -> 0 | AK10: =COUNTIF(項目番号全体,AK9) -> 0 | ... AP10: =COUNTIF(項目番号全体,AP9) -> 0
B11: 3 | H11: =_xlfn.CONCAT(Y11&" "&Z11&" "&AA11) | Y11: {=IFERROR(VLOOKUP(INDIRECT("E11"),'18'!$A$4:$B$60,2,0),"")} | Z11: {=IFERROR(VLOOKUP(INDIRECT("F11"),'18'!$A$4:$B$60,2,0),"")} | AA11: {=IFERROR(VLOOKUP(INDIRECT("G11"),'18'!$A$4:$B$60,2,0),"")}
B12: 4 | H12: =_xlfn.CONCAT(Y12&" "&Z12&" "&AA12) | N12: 1 | O12: 2 | P12: 3 | Q12: 4 | R12: 5 | S12: 6 | T12: 7 | U12: 8 | V12: 9 | W12: 10 | Y12: {=IFERROR(VLOOKUP(INDIRECT("E12"),'18'!$A$4:$B$60,2,0),"")} | Z12: {=IFERROR(VLOOKUP(INDIRECT("F12"),'18'!$A$4:$B$60,2,0),"")} | AA12: {=IFERROR(VLOOKUP(INDIRECT("G12"),'18'!$A$4:$B$60,2,0),"")} | AD12: 14 | AE12: 15 | AF12: 16 | AG12: 17 | AH12: 18 | AI12: 19 | AJ12: 20 | AK12: 21 | AL12: 22 | AM12: 23 | AN12: 24 | AO12: 25 | AP12: 26
B13: 5 | H13: =_xlfn.CONCAT(Y13&" "&Z13&" "&AA13) | N13: 11 | O13: 12 | P13: 13 | Q13: 14 | R13: 15 | S13: 16 | T13: 17 | U13: 18 | V13: 19 | W13: 20 | Y13: {=IFERROR(VLOOKUP(INDIRECT("E13"),'18'!$A$4:$B$60,2,0),"")} | Z13: {=IFERROR(VLOOKUP(INDIRECT("F13"),'18'!$A$4:$B$60,2,0),"")} | AA13: {=IFERROR(VLOOKUP(INDIRECT("G13"),'18'!$A$4:$B$60,2,0),"")} | AD13: =COUNTIF(項目番号全体,AD12) -> 0 | AE13: =COUNTIF(項目番号全体,AE12) -> 0 | AF13: =COUNTIF(項目番号全体,AF12) -> 0 | AG13: =COUNTIF(項目番号全体,AG12) -> 0 | AH13: =COUNTIF(項目番号全体,AH12) -> 0 | AI13: =COUNTIF(項目番号全体,AI12) -> 0 | AJ13: =COUNTIF(項目番号全体,AJ12) -> 0 | AK13: =COUNTIF(項目番号全体,AK12) -> 0 | ... AP13: =COUNTIF(項目番号全体,AP12) -> 0
B14: 6 | H14: =_xlfn.CONCAT(Y14&" "&Z14&" "&AA14) | N14: 21 | O14: 22 | P14: 23 | Q14: 24 | R14: 25 | S14: 26 | T14: 27 | U14: 28 | V14: 29 | W14: 30 | Y14: {=IFERROR(VLOOKUP(INDIRECT("E14"),'18'!$A$4:$B$60,2,0),"")} | Z14: {=IFERROR(VLOOKUP(INDIRECT("F14"),'18'!$A$4:$B$60,2,0),"")} | AA14: {=IFERROR(VLOOKUP(INDIRECT("G14"),'18'!$A$4:$B$60,2,0),"")}
B15: 7 | H15: =_xlfn.CONCAT(Y15&" "&Z15&" "&AA15) | N15: 31 | O15: 32 | P15: 33 | Q15: 34 | R15: 35 | S15: 36 | T15: 37 | U15: 38 | V15: 39 | W15: 40 | Y15: {=IFERROR(VLOOKUP(INDIRECT("E15"),'18'!$A$4:$B$60,2,0),"")} | Z15: {=IFERROR(VLOOKUP(INDIRECT("F15"),'18'!$A$4:$B$60,2,0),"")} | AA15: {=IFERROR(VLOOKUP(INDIRECT("G15"),'18'!$A$4:$B$60,2,0),"")} | AD15: 27 | AE15: 28 | AF15: 29 | AG15: 30 | AH15: 31 | AI15: 32 | AJ15: 33 | AK15: 34 | AL15: 35 | AM15: 36 | AN15: 37 | AO15: 38 | AP15: 39
B16: 8 | H16: =_xlfn.CONCAT(Y16&" "&Z16&" "&AA16) | N16: 41 | O16: 42 | P16: 43 | Q16: 44 | R16: 45 | S16: 46 | T16: 47 | U16: 48 | V16: 49 | W16: 50 | Y16: {=IFERROR(VLOOKUP(INDIRECT("E16"),'18'!$A$4:$B$60,2,0),"")} | Z16: {=IFERROR(VLOOKUP(INDIRECT("F16"),'18'!$A$4:$B$60,2,0),"")} | AA16: {=IFERROR(VLOOKUP(INDIRECT("G16"),'18'!$A$4:$B$60,2,0),"")} | AD16: =COUNTIF(項目番号全体,AD15) -> 0 | AE16: =COUNTIF(項目番号全体,AE15) -> 0 | AF16: =COUNTIF(項目番号全体,AF15) -> 0 | AG16: =COUNTIF(項目番号全体,AG15) -> 0 | AH16: =COUNTIF(項目番号全体,AH15) -> 0 | AI16: =COUNTIF(項目番号全体,AI15) -> 0 | AJ16: =COUNTIF(項目番号全体,AJ15) -> 0 | AK16: =COUNTIF(項目番号全体,AK15) -> 0 | ... AP16: =COUNTIF(項目番号全体,AP15) -> 0
B17: 9 | H17: =_xlfn.CONCAT(Y17&" "&Z17&" "&AA17) | N17: 51 | O17: 52 | Y17: {=IFERROR(VLOOKUP(INDIRECT("E17"),'18'!$A$4:$B$60,2,0),"")} | Z17: {=IFERROR(VLOOKUP(INDIRECT("F17"),'18'!$A$4:$B$60,2,0),"")} | AA17: {=IFERROR(VLOOKUP(INDIRECT("G17"),'18'!$A$4:$B$60,2,0),"")}
B18: 10 | H18: =_xlfn.CONCAT(Y18&" "&Z18&" "&AA18) | Y18: {=IFERROR(VLOOKUP(INDIRECT("E18"),'18'!$A$4:$B$60,2,0),"")} | Z18: {=IFERROR(VLOOKUP(INDIRECT("F18"),'18'!$A$4:$B$60,2,0),"")} | AA18: {=IFERROR(VLOOKUP(INDIRECT("G18"),'18'!$A$4:$B$60,2,0),"")} | AD18: 40 | AE18: 41 | AF18: 42 | AG18: 43 | AH18: 44 | AI18: 45 | AJ18: 46 | AK18: 47 | AL18: 48 | AM18: 49 | AN18: 50 | AO18: 51 | AP18: 52
B19: 11 | H19: =_xlfn.CONCAT(Y19&" "&Z19&" "&AA19) | O19: …１回以上実施予定の研修項目番号 | Y19: {=IFERROR(VLOOKUP(INDIRECT("E19"),'18'!$A$4:$B$60,2,0),"")} | Z19: {=IFERROR(VLOOKUP(INDIRECT("F19"),'18'!$A$4:$B$60,2,0),"")} | AA19: {=IFERROR(VLOOKUP(INDIRECT("G19"),'18'!$A$4:$B$60,2,0),"")} | AD19: =COUNTIF(項目番号全体,AD18) -> 0 | AE19: =COUNTIF(項目番号全体,AE18) -> 0 | AF19: =COUNTIF(項目番号全体,AF18) -> 0 | AG19: =COUNTIF(項目番号全体,AG18) -> 0 | AH19: =COUNTIF(項目番号全体,AH18) -> 0 | AI19: =COUNTIF(項目番号全体,AI18) -> 0 | AJ19: =COUNTIF(項目番号全体,AJ18) -> 0 | AK19: =COUNTIF(項目番号全体,AK18) -> 0 | ... AP19: =COUNTIF(項目番号全体,AP18) -> 0
B20: 12 | H20: =_xlfn.CONCAT(Y20&" "&Z20&" "&AA20) | Y20: {=IFERROR(VLOOKUP(INDIRECT("E20"),'18'!$A$4:$B$60,2,0),"")} | Z20: {=IFERROR(VLOOKUP(INDIRECT("F20"),'18'!$A$4:$B$60,2,0),"")} | AA20: {=IFERROR(VLOOKUP(INDIRECT("G20"),'18'!$A$4:$B$60,2,0),"")}
B21: 13 | H21: =_xlfn.CONCAT(Y21&" "&Z21&" "&AA21) | N21: ②実施予定の勤務校研修の回数 | Y21: {=IFERROR(VLOOKUP(INDIRECT("E21"),'18'!$A$4:$B$60,2,0),"")} | Z21: {=IFERROR(VLOOKUP(INDIRECT("F21"),'18'!$A$4:$B$60,2,0),"")} | AA21: {=IFERROR(VLOOKUP(INDIRECT("G21"),'18'!$A$4:$B$60,2,0),"")} | AD21: ②実施予定の勤務校研修の項目数
B22: 14 | H22: =_xlfn.CONCAT(Y22&" "&Z22&" "&AA22) | Y22: {=IFERROR(VLOOKUP(INDIRECT("E22"),'18'!$A$4:$B$60,2,0),"")} | Z22: {=IFERROR(VLOOKUP(INDIRECT("F22"),'18'!$A$4:$B$60,2,0),"")} | AA22: {=IFERROR(VLOOKUP(INDIRECT("G22"),'18'!$A$4:$B$60,2,0),"")}
B23: 15 | H23: =_xlfn.CONCAT(Y23&" "&Z23&" "&AA23) | Q23: {=SUMPRODUCT(--((ISNUMBER(項目番号１)+ISNUMBER(項目番号２)+ISNUMBER(項目番号３))>0))} -> 0 | T23: 回 | Y23: {=IFERROR(VLOOKUP(INDIRECT("E23"),'18'!$A$4:$B$60,2,0),"")} | Z23: {=IFERROR(VLOOKUP(INDIRECT("F23"),'18'!$A$4:$B$60,2,0),"")} | AA23: {=IFERROR(VLOOKUP(INDIRECT("G23"),'18'!$A$4:$B$60,2,0),"")} | AD23: {=INDIRECT("Q10")} -> 0 | AF23: 項目
B24: 16 | H24: =_xlfn.CONCAT(Y24&" "&Z24&" "&AA24) | Y24: {=IFERROR(VLOOKUP(INDIRECT("E24"),'18'!$A$4:$B$60,2,0),"")} | Z24: {=IFERROR(VLOOKUP(INDIRECT("F24"),'18'!$A$4:$B$60,2,0),"")} | AA24: {=IFERROR(VLOOKUP(INDIRECT("G24"),'18'!$A$4:$B$60,2,0),"")}
B25: 17 | H25: =_xlfn.CONCAT(Y25&" "&Z25&" "&AA25) | N25: ＊勤務校研修の回数は、35～52回の間 になるように予定を立ててください。 | Y25: {=IFERROR(VLOOKUP(INDIRECT("E25"),'18'!$A$4:$B$60,2,0),"")} | Z25: {=IFERROR(VLOOKUP(INDIRECT("F25"),'18'!$A$4:$B$60,2,0),"")} | AA25: {=IFERROR(VLOOKUP(INDIRECT("G25"),'18'!$A$4:$B$60,2,0),"")} | AD25: ③実施予定の勤務校研修の回数
B26: 18 | H26: =_xlfn.CONCAT(Y26&" "&Z26&" "&AA26) | Y26: {=IFERROR(VLOOKUP(INDIRECT("E26"),'18'!$A$4:$B$60,2,0),"")} | Z26: {=IFERROR(VLOOKUP(INDIRECT("F26"),'18'!$A$4:$B$60,2,0),"")} | AA26: {=IFERROR(VLOOKUP(INDIRECT("G26"),'18'!$A$4:$B$60,2,0),"")}
B27: 19 | H27: =_xlfn.CONCAT(Y27&" "&Z27&" "&AA27) | Y27: {=IFERROR(VLOOKUP(INDIRECT("E27"),'18'!$A$4:$B$60,2,0),"")} | Z27: {=IFERROR(VLOOKUP(INDIRECT("F27"),'18'!$A$4:$B$60,2,0),"")} | AA27: {=IFERROR(VLOOKUP(INDIRECT("G27"),'18'!$A$4:$B$60,2,0),"")} | AD27: {=INDIRECT("Q23")} -> 0 | AF27: 回
B28: 20 | H28: =_xlfn.CONCAT(Y28&" "&Z28&" "&AA28) | Y28: {=IFERROR(VLOOKUP(INDIRECT("E28"),'18'!$A$4:$B$60,2,0),"")} | Z28: {=IFERROR(VLOOKUP(INDIRECT("F28"),'18'!$A$4:$B$60,2,0),"")} | AA28: {=IFERROR(VLOOKUP(INDIRECT("G28"),'18'!$A$4:$B$60,2,0),"")}
B29: 21 | H29: =_xlfn.CONCAT(Y29&" "&Z29&" "&AA29) | Y29: {=IFERROR(VLOOKUP(INDIRECT("E29"),'18'!$A$4:$B$60,2,0),"")} | Z29: {=IFERROR(VLOOKUP(INDIRECT("F29"),'18'!$A$4:$B$60,2,0),"")} | AA29: {=IFERROR(VLOOKUP(INDIRECT("G29"),'18'!$A$4:$B$60,2,0),"")}
B30: 22 | H30: =_xlfn.CONCAT(Y30&" "&Z30&" "&AA30) | Y30: {=IFERROR(VLOOKUP(INDIRECT("E30"),'18'!$A$4:$B$60,2,0),"")} | Z30: {=IFERROR(VLOOKUP(INDIRECT("F30"),'18'!$A$4:$B$60,2,0),"")} | AA30: {=IFERROR(VLOOKUP(INDIRECT("G30"),'18'!$A$4:$B$60,2,0),"")}
B31: 23 | H31: =_xlfn.CONCAT(Y31&" "&Z31&" "&AA31) | Y31: {=IFERROR(VLOOKUP(INDIRECT("E31"),'18'!$A$4:$B$60,2,0),"")} | Z31: {=IFERROR(VLOOKUP(INDIRECT("F31"),'18'!$A$4:$B$60,2,0),"")} | AA31: {=IFERROR(VLOOKUP(INDIRECT("G31"),'18'!$A$4:$B$60,2,0),"")}
B32: 24 | H32: =_xlfn.CONCAT(Y32&" "&Z32&" "&AA32) | Y32: {=IFERROR(VLOOKUP(INDIRECT("E32"),'18'!$A$4:$B$60,2,0),"")} | Z32: {=IFERROR(VLOOKUP(INDIRECT("F32"),'18'!$A$4:$B$60,2,0),"")} | AA32: {=IFERROR(VLOOKUP(INDIRECT("G32"),'18'!$A$4:$B$60,2,0),"")}
B33: 25 | H33: =_xlfn.CONCAT(Y33&" "&Z33&" "&AA33) | Y33: {=IFERROR(VLOOKUP(INDIRECT("E33"),'18'!$A$4:$B$60,2,0),"")} | Z33: {=IFERROR(VLOOKUP(INDIRECT("F33"),'18'!$A$4:$B$60,2,0),"")} | AA33: {=IFERROR(VLOOKUP(INDIRECT("G33"),'18'!$A$4:$B$60,2,0),"")}
B34: 26 | H34: =_xlfn.CONCAT(Y34&" "&Z34&" "&AA34) | Y34: {=IFERROR(VLOOKUP(INDIRECT("E34"),'18'!$A$4:$B$60,2,0),"")} | Z34: {=IFERROR(VLOOKUP(INDIRECT("F34"),'18'!$A$4:$B$60,2,0),"")} | AA34: {=IFERROR(VLOOKUP(INDIRECT("G34"),'18'!$A$4:$B$60,2,0),"")}
B35: 27 | H35: =_xlfn.CONCAT(Y35&" "&Z35&" "&AA35) | Y35: {=IFERROR(VLOOKUP(INDIRECT("E35"),'18'!$A$4:$B$60,2,0),"")} | Z35: {=IFERROR(VLOOKUP(INDIRECT("F35"),'18'!$A$4:$B$60,2,0),"")} | AA35: {=IFERROR(VLOOKUP(INDIRECT("G35"),'18'!$A$4:$B$60,2,0),"")}
B36: 28 | H36: =_xlfn.CONCAT(Y36&" "&Z36&" "&AA36) | Y36: {=IFERROR(VLOOKUP(INDIRECT("E36"),'18'!$A$4:$B$60,2,0),"")} | Z36: {=IFERROR(VLOOKUP(INDIRECT("F36"),'18'!$A$4:$B$60,2,0),"")} | AA36: {=IFERROR(VLOOKUP(INDIRECT("G36"),'18'!$A$4:$B$60,2,0),"")}
B37: 29 | H37: =_xlfn.CONCAT(Y37&" "&Z37&" "&AA37) | Y37: {=IFERROR(VLOOKUP(INDIRECT("E37"),'18'!$A$4:$B$60,2,0),"")} | Z37: {=IFERROR(VLOOKUP(INDIRECT("F37"),'18'!$A$4:$B$60,2,0),"")} | AA37: {=IFERROR(VLOOKUP(INDIRECT("G37"),'18'!$A$4:$B$60,2,0),"")}
B38: 30 | H38: =_xlfn.CONCAT(Y38&" "&Z38&" "&AA38) | Y38: {=IFERROR(VLOOKUP(INDIRECT("E38"),'18'!$A$4:$B$60,2,0),"")} | Z38: {=IFERROR(VLOOKUP(INDIRECT("F38"),'18'!$A$4:$B$60,2,0),"")} | AA38: {=IFERROR(VLOOKUP(INDIRECT("G38"),'18'!$A$4:$B$60,2,0),"")}
B39: 31 | H39: =_xlfn.CONCAT(Y39&" "&Z39&" "&AA39) | Y39: {=IFERROR(VLOOKUP(INDIRECT("E39"),'18'!$A$4:$B$60,2,0),"")} | Z39: {=IFERROR(VLOOKUP(INDIRECT("F39"),'18'!$A$4:$B$60,2,0),"")} | AA39: {=IFERROR(VLOOKUP(INDIRECT("G39"),'18'!$A$4:$B$60,2,0),"")}
B40: 32 | H40: =_xlfn.CONCAT(Y40&" "&Z40&" "&AA40) | Y40: {=IFERROR(VLOOKUP(INDIRECT("E40"),'18'!$A$4:$B$60,2,0),"")} | Z40: {=IFERROR(VLOOKUP(INDIRECT("F40"),'18'!$A$4:$B$60,2,0),"")} | AA40: {=IFERROR(VLOOKUP(INDIRECT("G40"),'18'!$A$4:$B$60,2,0),"")}
B41: 33 | H41: =_xlfn.CONCAT(Y41&" "&Z41&" "&AA41) | Y41: {=IFERROR(VLOOKUP(INDIRECT("E41"),'18'!$A$4:$B$60,2,0),"")} | Z41: {=IFERROR(VLOOKUP(INDIRECT("F41"),'18'!$A$4:$B$60,2,0),"")} | AA41: {=IFERROR(VLOOKUP(INDIRECT("G41"),'18'!$A$4:$B$60,2,0),"")}
B42: 34 | H42: =_xlfn.CONCAT(Y42&" "&Z42&" "&AA42) | Y42: {=IFERROR(VLOOKUP(INDIRECT("E42"),'18'!$A$4:$B$60,2,0),"")} | Z42: {=IFERROR(VLOOKUP(INDIRECT("F42"),'18'!$A$4:$B$60,2,0),"")} | AA42: {=IFERROR(VLOOKUP(INDIRECT("G42"),'18'!$A$4:$B$60,2,0),"")}
B43: 35 | H43: =_xlfn.CONCAT(Y43&" "&Z43&" "&AA43) | Y43: {=IFERROR(VLOOKUP(INDIRECT("E43"),'18'!$A$4:$B$60,2,0),"")} | Z43: {=IFERROR(VLOOKUP(INDIRECT("F43"),'18'!$A$4:$B$60,2,0),"")} | AA43: {=IFERROR(VLOOKUP(INDIRECT("G43"),'18'!$A$4:$B$60,2,0),"")}
B44: 36 | H44: =_xlfn.CONCAT(Y44&" "&Z44&" "&AA44) | Y44: {=IFERROR(VLOOKUP(INDIRECT("E44"),'18'!$A$4:$B$60,2,0),"")} | Z44: {=IFERROR(VLOOKUP(INDIRECT("F44"),'18'!$A$4:$B$60,2,0),"")} | AA44: {=IFERROR(VLOOKUP(INDIRECT("G44"),'18'!$A$4:$B$60,2,0),"")}
B45: 37 | H45: =_xlfn.CONCAT(Y45&" "&Z45&" "&AA45) | Y45: {=IFERROR(VLOOKUP(INDIRECT("E45"),'18'!$A$4:$B$60,2,0),"")} | Z45: {=IFERROR(VLOOKUP(INDIRECT("F45"),'18'!$A$4:$B$60,2,0),"")} | AA45: {=IFERROR(VLOOKUP(INDIRECT("G45"),'18'!$A$4:$B$60,2,0),"")}
B46: 38 | H46: =_xlfn.CONCAT(Y46&" "&Z46&" "&AA46) | Y46: {=IFERROR(VLOOKUP(INDIRECT("E46"),'18'!$A$4:$B$60,2,0),"")} | Z46: {=IFERROR(VLOOKUP(INDIRECT("F46"),'18'!$A$4:$B$60,2,0),"")} | AA46: {=IFERROR(VLOOKUP(INDIRECT("G46"),'18'!$A$4:$B$60,2,0),"")}
B47: 39 | H47: =_xlfn.CONCAT(Y47&" "&Z47&" "&AA47) | Y47: {=IFERROR(VLOOKUP(INDIRECT("E47"),'18'!$A$4:$B$60,2,0),"")} | Z47: {=IFERROR(VLOOKUP(INDIRECT("F47"),'18'!$A$4:$B$60,2,0),"")} | AA47: {=IFERROR(VLOOKUP(INDIRECT("G47"),'18'!$A$4:$B$60,2,0),"")}
B48: 40 | H48: =_xlfn.CONCAT(Y48&" "&Z48&" "&AA48) | Y48: {=IFERROR(VLOOKUP(INDIRECT("E48"),'18'!$A$4:$B$60,2,0),"")} | Z48: {=IFERROR(VLOOKUP(INDIRECT("F48"),'18'!$A$4:$B$60,2,0),"")} | AA48: {=IFERROR(VLOOKUP(INDIRECT("G48"),'18'!$A$4:$B$60,2,0),"")}
B49: 41 | H49: =_xlfn.CONCAT(Y49&" "&Z49&" "&AA49) | Y49: {=IFERROR(VLOOKUP(INDIRECT("E49"),'18'!$A$4:$B$60,2,0),"")} | Z49: {=IFERROR(VLOOKUP(INDIRECT("F49"),'18'!$A$4:$B$60,2,0),"")} | AA49: {=IFERROR(VLOOKUP(INDIRECT("G49"),'18'!$A$4:$B$60,2,0),"")}
B50: 42 | H50: =_xlfn.CONCAT(Y50&" "&Z50&" "&AA50) | Y50: {=IFERROR(VLOOKUP(INDIRECT("E50"),'18'!$A$4:$B$60,2,0),"")} | Z50: {=IFERROR(VLOOKUP(INDIRECT("F50"),'18'!$A$4:$B$60,2,0),"")} | AA50: {=IFERROR(VLOOKUP(INDIRECT("G50"),'18'!$A$4:$B$60,2,0),"")}
B51: 43 | H51: =_xlfn.CONCAT(Y51&" "&Z51&" "&AA51) | Y51: {=IFERROR(VLOOKUP(INDIRECT("E51"),'18'!$A$4:$B$60,2,0),"")} | Z51: {=IFERROR(VLOOKUP(INDIRECT("F51"),'18'!$A$4:$B$60,2,0),"")} | AA51: {=IFERROR(VLOOKUP(INDIRECT("G51"),'18'!$A$4:$B$60,2,0),"")}
B52: 44 | H52: =_xlfn.CONCAT(Y52&" "&Z52&" "&AA52) | Y52: {=IFERROR(VLOOKUP(INDIRECT("E52"),'18'!$A$4:$B$60,2,0),"")} | Z52: {=IFERROR(VLOOKUP(INDIRECT("F52"),'18'!$A$4:$B$60,2,0),"")} | AA52: {=IFERROR(VLOOKUP(INDIRECT("G52"),'18'!$A$4:$B$60,2,0),"")}
B53: 45 | H53: =_xlfn.CONCAT(Y53&" "&Z53&" "&AA53) | Y53: {=IFERROR(VLOOKUP(INDIRECT("E53"),'18'!$A$4:$B$60,2,0),"")} | Z53: {=IFERROR(VLOOKUP(INDIRECT("F53"),'18'!$A$4:$B$60,2,0),"")} | AA53: {=IFERROR(VLOOKUP(INDIRECT("G53"),'18'!$A$4:$B$60,2,0),"")}
B54: 46 | H54: =_xlfn.CONCAT(Y54&" "&Z54&" "&AA54) | Y54: {=IFERROR(VLOOKUP(INDIRECT("E54"),'18'!$A$4:$B$60,2,0),"")} | Z54: {=IFERROR(VLOOKUP(INDIRECT("F54"),'18'!$A$4:$B$60,2,0),"")} | AA54: {=IFERROR(VLOOKUP(INDIRECT("G54"),'18'!$A$4:$B$60,2,0),"")}
B55: 47 | H55: =_xlfn.CONCAT(Y55&" "&Z55&" "&AA55) | Y55: {=IFERROR(VLOOKUP(INDIRECT("E55"),'18'!$A$4:$B$60,2,0),"")} | Z55: {=IFERROR(VLOOKUP(INDIRECT("F55"),'18'!$A$4:$B$60,2,0),"")} | AA55: {=IFERROR(VLOOKUP(INDIRECT("G55"),'18'!$A$4:$B$60,2,0),"")}
B56: 48 | H56: =_xlfn.CONCAT(Y56&" "&Z56&" "&AA56) | Y56: {=IFERROR(VLOOKUP(INDIRECT("E56"),'18'!$A$4:$B$60,2,0),"")} | Z56: {=IFERROR(VLOOKUP(INDIRECT("F56"),'18'!$A$4:$B$60,2,0),"")} | AA56: {=IFERROR(VLOOKUP(INDIRECT("G56"),'18'!$A$4:$B$60,2,0),"")}
B57: 49 | H57: =_xlfn.CONCAT(Y57&" "&Z57&" "&AA57) | Y57: {=IFERROR(VLOOKUP(INDIRECT("E57"),'18'!$A$4:$B$60,2,0),"")} | Z57: {=IFERROR(VLOOKUP(INDIRECT("F57"),'18'!$A$4:$B$60,2,0),"")} | AA57: {=IFERROR(VLOOKUP(INDIRECT("G57"),'18'!$A$4:$B$60,2,0),"")}
B58: 50 | H58: =_xlfn.CONCAT(Y58&" "&Z58&" "&AA58) | Y58: {=IFERROR(VLOOKUP(INDIRECT("E58"),'18'!$A$4:$B$60,2,0),"")} | Z58: {=IFERROR(VLOOKUP(INDIRECT("F58"),'18'!$A$4:$B$60,2,0),"")} | AA58: {=IFERROR(VLOOKUP(INDIRECT("G58"),'18'!$A$4:$B$60,2,0),"")}
B59: 51 | H59: =_xlfn.CONCAT(Y59&" "&Z59&" "&AA59) | Y59: {=IFERROR(VLOOKUP(INDIRECT("E59"),'18'!$A$4:$B$60,2,0),"")} | Z59: {=IFERROR(VLOOKUP(INDIRECT("F59"),'18'!$A$4:$B$60,2,0),"")} | AA59: {=IFERROR(VLOOKUP(INDIRECT("G59"),'18'!$A$4:$B$60,2,0),"")}
B60: 52 | H60: =_xlfn.CONCAT(Y60&" "&Z60&" "&AA60) | Y60: {=IFERROR(VLOOKUP(INDIRECT("E60"),'18'!$A$4:$B$60,2,0),"")} | Z60: {=IFERROR(VLOOKUP(INDIRECT("F60"),'18'!$A$4:$B$60,2,0),"")} | AA60: {=IFERROR(VLOOKUP(INDIRECT("G60"),'18'!$A$4:$B$60,2,0),"")}
B62: 1 | C62: 初任者が２人以上の場合、それぞれ別葉に作成する。
B63: 2 | C63: 実施日の確定が難しい場合は、実施の「月」のみを記入したり空欄にしたりする。
E66: ＜省略する研修項目＞
E68: 項目番号 | H68: 研 修 項 目 | I68: 研修項目を省略する理由 | N68: ③省略する研修項目番号
H69: {=IFERROR(VLOOKUP(INDIRECT("E69"),'18'!$A$4:$B$60,2,0),"")} | Z69: {=IFERROR(VLOOKUP(INDIRECT("F9"),'18'!$A$4:$B$60,2,0),"")} | AA69: {=IFERROR(VLOOKUP(INDIRECT("G9"),'18'!$A$4:$B$60,2,0),"")}
H70: {=IFERROR(VLOOKUP(INDIRECT("E70"),'18'!$A$4:$B$60,2,0),"")} | N70: 52項目中 | Q70: =52-Q10 -> 52 | T70: 項目省略する | Z70: {=IFERROR(VLOOKUP(INDIRECT("F10"),'18'!$A$4:$B$60,2,0),"")} | AA70: {=IFERROR(VLOOKUP(INDIRECT("G10"),'18'!$A$4:$B$60,2,0),"")}
H71: {=IFERROR(VLOOKUP(INDIRECT("E71"),'18'!$A$4:$B$60,2,0),"")}
H72: {=IFERROR(VLOOKUP(INDIRECT("E72"),'18'!$A$4:$B$60,2,0),"")} | N72: 1 | O72: 2 | P72: 3 | Q72: 4 | R72: 5 | S72: 6 | T72: 7 | U72: 8 | V72: 9 | W72: 10 | Z72: {=IFERROR(VLOOKUP(INDIRECT("F12"),'18'!$A$4:$B$60,2,0),"")} | AA72: {=IFERROR(VLOOKUP(INDIRECT("G12"),'18'!$A$4:$B$60,2,0),"")}
H73: {=IFERROR(VLOOKUP(INDIRECT("E73"),'18'!$A$4:$B$60,2,0),"")} | N73: 11 | O73: 12 | P73: 13 | Q73: 14 | R73: 15 | S73: 16 | T73: 17 | U73: 18 | V73: 19 | W73: 20 | Z73: {=IFERROR(VLOOKUP(INDIRECT("F13"),'18'!$A$4:$B$60,2,0),"")} | AA73: {=IFERROR(VLOOKUP(INDIRECT("G13"),'18'!$A$4:$B$60,2,0),"")}
H74: {=IFERROR(VLOOKUP(INDIRECT("E74"),'18'!$A$4:$B$60,2,0),"")} | N74: 21 | O74: 22 | P74: 23 | Q74: 24 | R74: 25 | S74: 26 | T74: 27 | U74: 28 | V74: 29 | W74: 30 | Y74: {=IFERROR(VLOOKUP(INDIRECT("E14"),'18'!$A$4:$B$60,2,0),"")} | Z74: {=IFERROR(VLOOKUP(INDIRECT("F14"),'18'!$A$4:$B$60,2,0),"")} | AA74: {=IFERROR(VLOOKUP(INDIRECT("G14"),'18'!$A$4:$B$60,2,0),"")}
H75: {=IFERROR(VLOOKUP(INDIRECT("E75"),'18'!$A$4:$B$60,2,0),"")} | N75: 31 | O75: 32 | P75: 33 | Q75: 34 | R75: 35 | S75: 36 | T75: 37 | U75: 38 | V75: 39 | W75: 40 | Y75: {=IFERROR(VLOOKUP(INDIRECT("E15"),'18'!$A$4:$B$60,2,0),"")} | Z75: {=IFERROR(VLOOKUP(INDIRECT("F15"),'18'!$A$4:$B$60,2,0),"")} | AA75: {=IFERROR(VLOOKUP(INDIRECT("G15"),'18'!$A$4:$B$60,2,0),"")}
H76: {=IFERROR(VLOOKUP(INDIRECT("E76"),'18'!$A$4:$B$60,2,0),"")} | N76: 41 | O76: 42 | P76: 43 | Q76: 44 | R76: 45 | S76: 46 | T76: 47 | U76: 48 | V76: 49 | W76: 50 | Y76: {=IFERROR(VLOOKUP(INDIRECT("E16"),'18'!$A$4:$B$60,2,0),"")} | Z76: {=IFERROR(VLOOKUP(INDIRECT("F16"),'18'!$A$4:$B$60,2,0),"")} | AA76: {=IFERROR(VLOOKUP(INDIRECT("G16"),'18'!$A$4:$B$60,2,0),"")}
H77: {=IFERROR(VLOOKUP(INDIRECT("E77"),'18'!$A$4:$B$60,2,0),"")} | N77: 51 | O77: 52 | Y77: {=IFERROR(VLOOKUP(INDIRECT("E17"),'18'!$A$4:$B$60,2,0),"")} | Z77: {=IFERROR(VLOOKUP(INDIRECT("F17"),'18'!$A$4:$B$60,2,0),"")} | AA77: {=IFERROR(VLOOKUP(INDIRECT("G17"),'18'!$A$4:$B$60,2,0),"")}
H78: {=IFERROR(VLOOKUP(INDIRECT("E78"),'18'!$A$4:$B$60,2,0),"")} | Y78: {=IFERROR(VLOOKUP(INDIRECT("E18"),'18'!$A$4:$B$60,2,0),"")} | Z78: {=IFERROR(VLOOKUP(INDIRECT("F18"),'18'!$A$4:$B$60,2,0),"")} | AA78: {=IFERROR(VLOOKUP(INDIRECT("G18"),'18'!$A$4:$B$60,2,0),"")}
H79: {=IFERROR(VLOOKUP(INDIRECT("E79"),'18'!$A$4:$B$60,2,0),"")} | O79: …省略する研修項目番号 | Y79: {=IFERROR(VLOOKUP(INDIRECT("E19"),'18'!$A$4:$B$60,2,0),"")} | Z79: {=IFERROR(VLOOKUP(INDIRECT("F19"),'18'!$A$4:$B$60,2,0),"")} | AA79: {=IFERROR(VLOOKUP(INDIRECT("G19"),'18'!$A$4:$B$60,2,0),"")}
H80: {=IFERROR(VLOOKUP(INDIRECT("E80"),'18'!$A$4:$B$60,2,0),"")} | Y80: {=IFERROR(VLOOKUP(INDIRECT("E20"),'18'!$A$4:$B$60,2,0),"")} | Z80: {=IFERROR(VLOOKUP(INDIRECT("F20"),'18'!$A$4:$B$60,2,0),"")} | AA80: {=IFERROR(VLOOKUP(INDIRECT("G20"),'18'!$A$4:$B$60,2,0),"")}
H81: {=IFERROR(VLOOKUP(INDIRECT("E81"),'18'!$A$4:$B$60,2,0),"")} | Y81: {=IFERROR(VLOOKUP(INDIRECT("E21"),'18'!$A$4:$B$60,2,0),"")} | Z81: {=IFERROR(VLOOKUP(INDIRECT("F21"),'18'!$A$4:$B$60,2,0),"")} | AA81: {=IFERROR(VLOOKUP(INDIRECT("G21"),'18'!$A$4:$B$60,2,0),"")}
H82: {=IFERROR(VLOOKUP(INDIRECT("E82"),'18'!$A$4:$B$60,2,0),"")} | Y82: {=IFERROR(VLOOKUP(INDIRECT("E22"),'18'!$A$4:$B$60,2,0),"")} | Z82: {=IFERROR(VLOOKUP(INDIRECT("F22"),'18'!$A$4:$B$60,2,0),"")} | AA82: {=IFERROR(VLOOKUP(INDIRECT("G22"),'18'!$A$4:$B$60,2,0),"")}
H83: {=IFERROR(VLOOKUP(INDIRECT("E83"),'18'!$A$4:$B$60,2,0),"")} | Y83: {=IFERROR(VLOOKUP(INDIRECT("E23"),'18'!$A$4:$B$60,2,0),"")} | Z83: {=IFERROR(VLOOKUP(INDIRECT("F23"),'18'!$A$4:$B$60,2,0),"")} | AA83: {=IFERROR(VLOOKUP(INDIRECT("G23"),'18'!$A$4:$B$60,2,0),"")}
H84: {=IFERROR(VLOOKUP(INDIRECT("E84"),'18'!$A$4:$B$60,2,0),"")} | Y84: {=IFERROR(VLOOKUP(INDIRECT("E24"),'18'!$A$4:$B$60,2,0),"")} | Z84: {=IFERROR(VLOOKUP(INDIRECT("F24"),'18'!$A$4:$B$60,2,0),"")} | AA84: {=IFERROR(VLOOKUP(INDIRECT("G24"),'18'!$A$4:$B$60,2,0),"")}
H85: {=IFERROR(VLOOKUP(INDIRECT("E85"),'18'!$A$4:$B$60,2,0),"")} | Y85: {=IFERROR(VLOOKUP(INDIRECT("E25"),'18'!$A$4:$B$60,2,0),"")} | Z85: {=IFERROR(VLOOKUP(INDIRECT("F25"),'18'!$A$4:$B$60,2,0),"")} | AA85: {=IFERROR(VLOOKUP(INDIRECT("G25"),'18'!$A$4:$B$60,2,0),"")}

Sheet 13
B2: (2) センター等研修
F3: 学校名 | G3: {=INDIRECT("5!E5")} -> 0
F5: 初任者名 | G5: {=INDIRECT("5!A25")} -> 0
B7: 月 | C7: 日 | D7: 講座番号 | E7: 講 座 名 | F7: 場 所 | G7: 備 考
B8: {=IFERROR(VLOOKUP(INDIRECT("D8"),'20'!$A$3:$C$76,2,0),"")} | C8: {=IFERROR(VLOOKUP(INDIRECT("D8"),'20'!$A$3:$C$76,3,0),"")} | E8: {=IFERROR(VLOOKUP(INDIRECT("D8"),'20'!$D$3:$E$76,2,0),"")} | F8: {=IFERROR(VLOOKUP(INDIRECT("D8"),'20'!$D$3:$G$76,4,0),"")}
B9: {=IFERROR(VLOOKUP(INDIRECT("D9"),'20'!$A$3:$C$76,2,0),"")} | C9: {=IFERROR(VLOOKUP(INDIRECT("D9"),'20'!$A$3:$C$76,3,0),"")} | E9: {=IFERROR(VLOOKUP(INDIRECT("D9"),'20'!$D$3:$E$76,2,0),"")} | F9: {=IFERROR(VLOOKUP(INDIRECT("D9"),'20'!$D$3:$G$76,4,0),"")}
B10: {=IFERROR(VLOOKUP(INDIRECT("D10"),'20'!$A$3:$C$76,2,0),"")} | C10: {=IFERROR(VLOOKUP(INDIRECT("D10"),'20'!$A$3:$C$76,3,0),"")} | E10: {=IFERROR(VLOOKUP(INDIRECT("D10"),'20'!$D$3:$E$76,2,0),"")} | F10: {=IFERROR(VLOOKUP(INDIRECT("D10"),'20'!$D$3:$G$76,4,0),"")}
B11: {=IFERROR(VLOOKUP(INDIRECT("D11"),'20'!$A$3:$C$76,2,0),"")} | C11: {=IFERROR(VLOOKUP(INDIRECT("D11"),'20'!$A$3:$C$76,3,0),"")} | E11: {=IFERROR(VLOOKUP(INDIRECT("D11"),'20'!$D$3:$E$76,2,0),"")} | F11: {=IFERROR(VLOOKUP(INDIRECT("D11"),'20'!$D$3:$G$76,4,0),"")}
B12: {=IFERROR(VLOOKUP(INDIRECT("D12"),'20'!$A$3:$C$76,2,0),"")} | C12: {=IFERROR(VLOOKUP(INDIRECT("D12"),'20'!$A$3:$C$76,3,0),"")} | E12: {=IFERROR(VLOOKUP(INDIRECT("D12"),'20'!$D$3:$E$76,2,0),"")} | F12: {=IFERROR(VLOOKUP(INDIRECT("D12"),'20'!$D$3:$G$76,4,0),"")}
B13: {=IFERROR(VLOOKUP(INDIRECT("D13"),'20'!$A$3:$C$76,2,0),"")} | C13: {=IFERROR(VLOOKUP(INDIRECT("D13"),'20'!$A$3:$C$76,3,0),"")} | E13: {=IFERROR(VLOOKUP(INDIRECT("D13"),'20'!$D$3:$E$76,2,0),"")} | F13: {=IFERROR(VLOOKUP(INDIRECT("D13"),'20'!$D$3:$G$76,4,0),"")}
B14: {=IFERROR(VLOOKUP(INDIRECT("D14"),'20'!$A$3:$C$76,2,0),"")} | C14: {=IFERROR(VLOOKUP(INDIRECT("D14"),'20'!$A$3:$C$76,3,0),"")} | E14: {=IFERROR(VLOOKUP(INDIRECT("D14"),'20'!$D$3:$E$76,2,0),"")} | F14: {=IFERROR(VLOOKUP(INDIRECT("D14"),'20'!$D$3:$G$76,4,0),"")}
B15: {=IFERROR(VLOOKUP(INDIRECT("D15"),'20'!$A$3:$C$76,2,0),"")} | C15: {=IFERROR(VLOOKUP(INDIRECT("D15"),'20'!$A$3:$C$76,3,0),"")} | E15: {=IFERROR(VLOOKUP(INDIRECT("D15"),'20'!$D$3:$E$76,2,0),"")} | F15: {=IFERROR(VLOOKUP(INDIRECT("D15"),'20'!$D$3:$G$76,4,0),"")}
B16: {=IFERROR(VLOOKUP(INDIRECT("D16"),'20'!$A$3:$C$76,2,0),"")} | C16: {=IFERROR(VLOOKUP(INDIRECT("D16"),'20'!$A$3:$C$76,3,0),"")} | E16: {=IFERROR(VLOOKUP(INDIRECT("D16"),'20'!$D$3:$E$76,2,0),"")} | F16: {=IFERROR(VLOOKUP(INDIRECT("D16"),'20'!$D$3:$G$76,4,0),"")}
B17: {=IFERROR(VLOOKUP(INDIRECT("D17"),'20'!$A$3:$C$76,2,0),"")} | C17: {=IFERROR(VLOOKUP(INDIRECT("D17"),'20'!$A$3:$C$76,3,0),"")} | E17: {=IFERROR(VLOOKUP(INDIRECT("D17"),'20'!$D$3:$E$76,2,0),"")} | F17: {=IFERROR(VLOOKUP(INDIRECT("D17"),'20'!$D$3:$G$76,4,0),"")}
B18: {=IFERROR(VLOOKUP(INDIRECT("D18"),'20'!$A$3:$C$76,2,0),"")} | C18: {=IFERROR(VLOOKUP(INDIRECT("D18"),'20'!$A$3:$C$76,3,0),"")} | E18: {=IFERROR(VLOOKUP(INDIRECT("D18"),'20'!$D$3:$E$76,2,0),"")} | F18: {=IFERROR(VLOOKUP(INDIRECT("D18"),'20'!$D$3:$G$76,4,0),"")}
B19: {=IFERROR(VLOOKUP(INDIRECT("D19"),'20'!$A$3:$C$76,2,0),"")} | C19: {=IFERROR(VLOOKUP(INDIRECT("D19"),'20'!$A$3:$C$76,3,0),"")} | E19: {=IFERROR(VLOOKUP(INDIRECT("D19"),'20'!$D$3:$E$76,2,0),"")} | F19: {=IFERROR(VLOOKUP(INDIRECT("D19"),'20'!$D$3:$G$76,4,0),"")}
B20: {=IFERROR(VLOOKUP(INDIRECT("D20"),'20'!$A$3:$C$76,2,0),"")} | C20: {=IFERROR(VLOOKUP(INDIRECT("D20"),'20'!$A$3:$C$76,3,0),"")} | E20: {=IFERROR(VLOOKUP(INDIRECT("D20"),'20'!$D$3:$E$76,2,0),"")} | F20: {=IFERROR(VLOOKUP(INDIRECT("D20"),'20'!$D$3:$G$76,4,0),"")}
B21: {=IFERROR(VLOOKUP(INDIRECT("D21"),'20'!$A$3:$C$76,2,0),"")} | C21: {=IFERROR(VLOOKUP(INDIRECT("D21"),'20'!$A$3:$C$76,3,0),"")} | E21: {=IFERROR(VLOOKUP(INDIRECT("D21"),'20'!$D$3:$E$76,2,0),"")} | F21: {=IFERROR(VLOOKUP(INDIRECT("D21"),'20'!$D$3:$G$76,4,0),"")}
B22: {=IFERROR(VLOOKUP(INDIRECT("D22"),'20'!$A$3:$C$76,2,0),"")} | C22: {=IFERROR(VLOOKUP(INDIRECT("D22"),'20'!$A$3:$C$76,3,0),"")} | E22: {=IFERROR(VLOOKUP(INDIRECT("D22"),'20'!$D$3:$E$76,2,0),"")} | F22: {=IFERROR(VLOOKUP(INDIRECT("D22"),'20'!$D$3:$G$76,4,0),"")}
B23: {=IFERROR(VLOOKUP(INDIRECT("D23"),'20'!$A$3:$C$76,2,0),"")} | C23: {=IFERROR(VLOOKUP(INDIRECT("D23"),'20'!$A$3:$C$76,3,0),"")} | E23: {=IFERROR(VLOOKUP(INDIRECT("D23"),'20'!$D$3:$E$76,2,0),"")} | F23: {=IFERROR(VLOOKUP(INDIRECT("D23"),'20'!$D$3:$G$76,4,0),"")}
B24: {=IFERROR(VLOOKUP(INDIRECT("D24"),'20'!$A$3:$C$76,2,0),"")} | C24: {=IFERROR(VLOOKUP(INDIRECT("D24"),'20'!$A$3:$C$76,3,0),"")} | E24: {=IFERROR(VLOOKUP(INDIRECT("D24"),'20'!$D$3:$E$76,2,0),"")} | F24: {=IFERROR(VLOOKUP(INDIRECT("D24"),'20'!$D$3:$G$76,4,0),"")}
B25: {=IFERROR(VLOOKUP(INDIRECT("D25"),'20'!$A$3:$C$76,2,0),"")} | C25: {=IFERROR(VLOOKUP(INDIRECT("D25"),'20'!$A$3:$C$76,3,0),"")} | E25: {=IFERROR(VLOOKUP(INDIRECT("D25"),'20'!$D$3:$E$76,2,0),"")} | F25: {=IFERROR(VLOOKUP(INDIRECT("D25"),'20'!$D$3:$G$76,4,0),"")}
B26: 他 校 種 体 験 研 修
B27: 月 | C27: 日 | D27: 内 容 | F27: 場 所 | G27: 備 考
E31: 合計 | G31: 日
B36: １ 初任者が２人以上の場合、それぞれ別葉に作成する。
B37: ２ 実施予定時期の早い順に記入する。
B38: ３ 実施日が確定していない場合は、空欄とする。
B39: ４ 実施場所が確定していない場合は、「未定」と記入する。

Sheet 14
A1: (様式３－１－２)
B2: ５ 年間指導計画
B3: (1) 勤務校研修
I4: 学校名 | J4: {=INDIRECT("5!E5")} -> 0
I6: 初任者名 | J6: {=INDIRECT("5!A26")} -> 0 | N6: ★入力者 確認用データ | AD6: ★センター担当者 整理用データ
B8: 回数 | C8: 月 | D8: 日 | E8: 項目番号 | H8: 研 修 項 目 | I8: 講 師 | J8: 備 考（研究大会名・研修会名称等） | N8: ①実施予定の研修項目番号 | AD8: ①項目別の実施予定回数
B9: 1 | H9: =_xlfn.CONCAT(Y9&" "&Z9&" "&AA9) | Y9: {=IFERROR(VLOOKUP(INDIRECT("E9"),'18'!$A$4:$B$60,2,0),"")} | Z9: {=IFERROR(VLOOKUP(INDIRECT("F9"),'18'!$A$4:$B$60,2,0),"")} | AA9: {=IFERROR(VLOOKUP(INDIRECT("G9"),'18'!$A$4:$B$60,2,0),"")} | AD9: 1 | AE9: 2 | AF9: 3 | AG9: 4 | AH9: 5 | AI9: 6 | AJ9: 7 | AK9: 8 | AL9: 9 | AM9: 10 | AN9: 11 | AO9: 12 | AP9: 13
B10: 2 | H10: =_xlfn.CONCAT(Y10&" "&Z10&" "&AA10) | N10: 52項目中 | Q10: {=SUM(--(FREQUENCY(IF((項目番号全体>=1)*(項目番号全体<=52), 項目番号全体), ROW(INDIRECT("1:52")))>0))} -> 0 | T10: 項目実施予定 | Y10: {=IFERROR(VLOOKUP(INDIRECT("E10"),'18'!$A$4:$B$60,2,0),"")} | Z10: {=IFERROR(VLOOKUP(INDIRECT("F10"),'18'!$A$4:$B$60,2,0),"")} | AA10: {=IFERROR(VLOOKUP(INDIRECT("G10"),'18'!$A$4:$B$60,2,0),"")} | AD10: =COUNTIF(項目番号全体,AD9) -> 0 | AE10: =COUNTIF(項目番号全体,AE9) -> 0 | AF10: =COUNTIF(項目番号全体,AF9) -> 0 | AG10: =COUNTIF(項目番号全体,AG9) -> 0 | AH10: =COUNTIF(項目番号全体,AH9) -> 0 | AI10: =COUNTIF(項目番号全体,AI9) -> 0 | AJ10: =COUNTIF(項目番号全体,AJ9) -> 0 | AK10: =COUNTIF(項目番号全体,AK9) -> 0 | ... AP10: =COUNTIF(項目番号全体,AP9) -> 0
B11: 3 | H11: =_xlfn.CONCAT(Y11&" "&Z11&" "&AA11) | Y11: {=IFERROR(VLOOKUP(INDIRECT("E11"),'18'!$A$4:$B$60,2,0),"")} | Z11: {=IFERROR(VLOOKUP(INDIRECT("F11"),'18'!$A$4:$B$60,2,0),"")} | AA11: {=IFERROR(VLOOKUP(INDIRECT("G11"),'18'!$A$4:$B$60,2,0),"")}
B12: 4 | H12: =_xlfn.CONCAT(Y12&" "&Z12&" "&AA12) | N12: 1 | O12: 2 | P12: 3 | Q12: 4 | R12: 5 | S12: 6 | T12: 7 | U12: 8 | V12: 9 | W12: 10 | Y12: {=IFERROR(VLOOKUP(INDIRECT("E12"),'18'!$A$4:$B$60,2,0),"")} | Z12: {=IFERROR(VLOOKUP(INDIRECT("F12"),'18'!$A$4:$B$60,2,0),"")} | AA12: {=IFERROR(VLOOKUP(INDIRECT("G12"),'18'!$A$4:$B$60,2,0),"")} | AD12: 14 | AE12: 15 | AF12: 16 | AG12: 17 | AH12: 18 | AI12: 19 | AJ12: 20 | AK12: 21 | AL12: 22 | AM12: 23 | AN12: 24 | AO12: 25 | AP12: 26
B13: 5 | H13: =_xlfn.CONCAT(Y13&" "&Z13&" "&AA13) | N13: 11 | O13: 12 | P13: 13 | Q13: 14 | R13: 15 | S13: 16 | T13: 17 | U13: 18 | V13: 19 | W13: 20 | Y13: {=IFERROR(VLOOKUP(INDIRECT("E13"),'18'!$A$4:$B$60,2,0),"")} | Z13: {=IFERROR(VLOOKUP(INDIRECT("F13"),'18'!$A$4:$B$60,2,0),"")} | AA13: {=IFERROR(VLOOKUP(INDIRECT("G13"),'18'!$A$4:$B$60,2,0),"")} | AD13: =COUNTIF(項目番号全体,AD12) -> 0 | AE13: =COUNTIF(項目番号全体,AE12) -> 0 | AF13: =COUNTIF(項目番号全体,AF12) -> 0 | AG13: =COUNTIF(項目番号全体,AG12) -> 0 | AH13: =COUNTIF(項目番号全体,AH12) -> 0 | AI13: =COUNTIF(項目番号全体,AI12) -> 0 | AJ13: =COUNTIF(項目番号全体,AJ12) -> 0 | AK13: =COUNTIF(項目番号全体,AK12) -> 0 | ... AP13: =COUNTIF(項目番号全体,AP12) -> 0
B14: 6 | H14: =_xlfn.CONCAT(Y14&" "&Z14&" "&AA14) | N14: 21 | O14: 22 | P14: 23 | Q14: 24 | R14: 25 | S14: 26 | T14: 27 | U14: 28 | V14: 29 | W14: 30 | Y14: {=IFERROR(VLOOKUP(INDIRECT("E14"),'18'!$A$4:$B$60,2,0),"")} | Z14: {=IFERROR(VLOOKUP(INDIRECT("F14"),'18'!$A$4:$B$60,2,0),"")} | AA14: {=IFERROR(VLOOKUP(INDIRECT("G14"),'18'!$A$4:$B$60,2,0),"")}
B15: 7 | H15: =_xlfn.CONCAT(Y15&" "&Z15&" "&AA15) | N15: 31 | O15: 32 | P15: 33 | Q15: 34 | R15: 35 | S15: 36 | T15: 37 | U15: 38 | V15: 39 | W15: 40 | Y15: {=IFERROR(VLOOKUP(INDIRECT("E15"),'18'!$A$4:$B$60,2,0),"")} | Z15: {=IFERROR(VLOOKUP(INDIRECT("F15"),'18'!$A$4:$B$60,2,0),"")} | AA15: {=IFERROR(VLOOKUP(INDIRECT("G15"),'18'!$A$4:$B$60,2,0),"")} | AD15: 27 | AE15: 28 | AF15: 29 | AG15: 30 | AH15: 31 | AI15: 32 | AJ15: 33 | AK15: 34 | AL15: 35 | AM15: 36 | AN15: 37 | AO15: 38 | AP15: 39
B16: 8 | H16: =_xlfn.CONCAT(Y16&" "&Z16&" "&AA16) | N16: 41 | O16: 42 | P16: 43 | Q16: 44 | R16: 45 | S16: 46 | T16: 47 | U16: 48 | V16: 49 | W16: 50 | Y16: {=IFERROR(VLOOKUP(INDIRECT("E16"),'18'!$A$4:$B$60,2,0),"")} | Z16: {=IFERROR(VLOOKUP(INDIRECT("F16"),'18'!$A$4:$B$60,2,0),"")} | AA16: {=IFERROR(VLOOKUP(INDIRECT("G16"),'18'!$A$4:$B$60,2,0),"")} | AD16: =COUNTIF(項目番号全体,AD15) -> 0 | AE16: =COUNTIF(項目番号全体,AE15) -> 0 | AF16: =COUNTIF(項目番号全体,AF15) -> 0 | AG16: =COUNTIF(項目番号全体,AG15) -> 0 | AH16: =COUNTIF(項目番号全体,AH15) -> 0 | AI16: =COUNTIF(項目番号全体,AI15) -> 0 | AJ16: =COUNTIF(項目番号全体,AJ15) -> 0 | AK16: =COUNTIF(項目番号全体,AK15) -> 0 | ... AP16: =COUNTIF(項目番号全体,AP15) -> 0
B17: 9 | H17: =_xlfn.CONCAT(Y17&" "&Z17&" "&AA17) | N17: 51 | O17: 52 | Y17: {=IFERROR(VLOOKUP(INDIRECT("E17"),'18'!$A$4:$B$60,2,0),"")} | Z17: {=IFERROR(VLOOKUP(INDIRECT("F17"),'18'!$A$4:$B$60,2,0),"")} | AA17: {=IFERROR(VLOOKUP(INDIRECT("G17"),'18'!$A$4:$B$60,2,0),"")}
B18: 10 | H18: =_xlfn.CONCAT(Y18&" "&Z18&" "&AA18) | Y18: {=IFERROR(VLOOKUP(INDIRECT("E18"),'18'!$A$4:$B$60,2,0),"")} | Z18: {=IFERROR(VLOOKUP(INDIRECT("F18"),'18'!$A$4:$B$60,2,0),"")} | AA18: {=IFERROR(VLOOKUP(INDIRECT("G18"),'18'!$A$4:$B$60,2,0),"")} | AD18: 40 | AE18: 41 | AF18: 42 | AG18: 43 | AH18: 44 | AI18: 45 | AJ18: 46 | AK18: 47 | AL18: 48 | AM18: 49 | AN18: 50 | AO18: 51 | AP18: 52
B19: 11 | H19: =_xlfn.CONCAT(Y19&" "&Z19&" "&AA19) | O19: …１回以上実施予定の研修項目番号 | Y19: {=IFERROR(VLOOKUP(INDIRECT("E19"),'18'!$A$4:$B$60,2,0),"")} | Z19: {=IFERROR(VLOOKUP(INDIRECT("F19"),'18'!$A$4:$B$60,2,0),"")} | AA19: {=IFERROR(VLOOKUP(INDIRECT("G19"),'18'!$A$4:$B$60,2,0),"")} | AD19: =COUNTIF(項目番号全体,AD18) -> 0 | AE19: =COUNTIF(項目番号全体,AE18) -> 0 | AF19: =COUNTIF(項目番号全体,AF18) -> 0 | AG19: =COUNTIF(項目番号全体,AG18) -> 0 | AH19: =COUNTIF(項目番号全体,AH18) -> 0 | AI19: =COUNTIF(項目番号全体,AI18) -> 0 | AJ19: =COUNTIF(項目番号全体,AJ18) -> 0 | AK19: =COUNTIF(項目番号全体,AK18) -> 0 | ... AP19: =COUNTIF(項目番号全体,AP18) -> 0
B20: 12 | H20: =_xlfn.CONCAT(Y20&" "&Z20&" "&AA20) | Y20: {=IFERROR(VLOOKUP(INDIRECT("E20"),'18'!$A$4:$B$60,2,0),"")} | Z20: {=IFERROR(VLOOKUP(INDIRECT("F20"),'18'!$A$4:$B$60,2,0),"")} | AA20: {=IFERROR(VLOOKUP(INDIRECT("G20"),'18'!$A$4:$B$60,2,0),"")}
B21: 13 | H21: =_xlfn.CONCAT(Y21&" "&Z21&" "&AA21) | N21: ②実施予定の勤務校研修の回数 | Y21: {=IFERROR(VLOOKUP(INDIRECT("E21"),'18'!$A$4:$B$60,2,0),"")} | Z21: {=IFERROR(VLOOKUP(INDIRECT("F21"),'18'!$A$4:$B$60,2,0),"")} | AA21: {=IFERROR(VLOOKUP(INDIRECT("G21"),'18'!$A$4:$B$60,2,0),"")} | AD21: ②実施予定の勤務校研修の項目数
B22: 14 | H22: =_xlfn.CONCAT(Y22&" "&Z22&" "&AA22) | Y22: {=IFERROR(VLOOKUP(INDIRECT("E22"),'18'!$A$4:$B$60,2,0),"")} | Z22: {=IFERROR(VLOOKUP(INDIRECT("F22"),'18'!$A$4:$B$60,2,0),"")} | AA22: {=IFERROR(VLOOKUP(INDIRECT("G22"),'18'!$A$4:$B$60,2,0),"")}
B23: 15 | H23: =_xlfn.CONCAT(Y23&" "&Z23&" "&AA23) | Q23: {=SUMPRODUCT(--((ISNUMBER(項目番号１)+ISNUMBER(項目番号２)+ISNUMBER(項目番号３))>0))} -> 0 | T23: 回 | Y23: {=IFERROR(VLOOKUP(INDIRECT("E23"),'18'!$A$4:$B$60,2,0),"")} | Z23: {=IFERROR(VLOOKUP(INDIRECT("F23"),'18'!$A$4:$B$60,2,0),"")} | AA23: {=IFERROR(VLOOKUP(INDIRECT("G23"),'18'!$A$4:$B$60,2,0),"")} | AD23: {=INDIRECT("Q10")} -> 0 | AF23: 項目
B24: 16 | H24: =_xlfn.CONCAT(Y24&" "&Z24&" "&AA24) | Y24: {=IFERROR(VLOOKUP(INDIRECT("E24"),'18'!$A$4:$B$60,2,0),"")} | Z24: {=IFERROR(VLOOKUP(INDIRECT("F24"),'18'!$A$4:$B$60,2,0),"")} | AA24: {=IFERROR(VLOOKUP(INDIRECT("G24"),'18'!$A$4:$B$60,2,0),"")}
B25: 17 | H25: =_xlfn.CONCAT(Y25&" "&Z25&" "&AA25) | N25: ＊勤務校研修の回数は、35～52回の間 になるように予定を立ててください。 | Y25: {=IFERROR(VLOOKUP(INDIRECT("E25"),'18'!$A$4:$B$60,2,0),"")} | Z25: {=IFERROR(VLOOKUP(INDIRECT("F25"),'18'!$A$4:$B$60,2,0),"")} | AA25: {=IFERROR(VLOOKUP(INDIRECT("G25"),'18'!$A$4:$B$60,2,0),"")} | AD25: ③実施予定の勤務校研修の回数
B26: 18 | H26: =_xlfn.CONCAT(Y26&" "&Z26&" "&AA26) | Y26: {=IFERROR(VLOOKUP(INDIRECT("E26"),'18'!$A$4:$B$60,2,0),"")} | Z26: {=IFERROR(VLOOKUP(INDIRECT("F26"),'18'!$A$4:$B$60,2,0),"")} | AA26: {=IFERROR(VLOOKUP(INDIRECT("G26"),'18'!$A$4:$B$60,2,0),"")}
B27: 19 | H27: =_xlfn.CONCAT(Y27&" "&Z27&" "&AA27) | Y27: {=IFERROR(VLOOKUP(INDIRECT("E27"),'18'!$A$4:$B$60,2,0),"")} | Z27: {=IFERROR(VLOOKUP(INDIRECT("F27"),'18'!$A$4:$B$60,2,0),"")} | AA27: {=IFERROR(VLOOKUP(INDIRECT("G27"),'18'!$A$4:$B$60,2,0),"")} | AD27: {=INDIRECT("Q23")} -> 0 | AF27: 回
B28: 20 | H28: =_xlfn.CONCAT(Y28&" "&Z28&" "&AA28) | Y28: {=IFERROR(VLOOKUP(INDIRECT("E28"),'18'!$A$4:$B$60,2,0),"")} | Z28: {=IFERROR(VLOOKUP(INDIRECT("F28"),'18'!$A$4:$B$60,2,0),"")} | AA28: {=IFERROR(VLOOKUP(INDIRECT("G28"),'18'!$A$4:$B$60,2,0),"")}
B29: 21 | H29: =_xlfn.CONCAT(Y29&" "&Z29&" "&AA29) | Y29: {=IFERROR(VLOOKUP(INDIRECT("E29"),'18'!$A$4:$B$60,2,0),"")} | Z29: {=IFERROR(VLOOKUP(INDIRECT("F29"),'18'!$A$4:$B$60,2,0),"")} | AA29: {=IFERROR(VLOOKUP(INDIRECT("G29"),'18'!$A$4:$B$60,2,0),"")}
B30: 22 | H30: =_xlfn.CONCAT(Y30&" "&Z30&" "&AA30) | Y30: {=IFERROR(VLOOKUP(INDIRECT("E30"),'18'!$A$4:$B$60,2,0),"")} | Z30: {=IFERROR(VLOOKUP(INDIRECT("F30"),'18'!$A$4:$B$60,2,0),"")} | AA30: {=IFERROR(VLOOKUP(INDIRECT("G30"),'18'!$A$4:$B$60,2,0),"")}
B31: 23 | H31: =_xlfn.CONCAT(Y31&" "&Z31&" "&AA31) | Y31: {=IFERROR(VLOOKUP(INDIRECT("E31"),'18'!$A$4:$B$60,2,0),"")} | Z31: {=IFERROR(VLOOKUP(INDIRECT("F31"),'18'!$A$4:$B$60,2,0),"")} | AA31: {=IFERROR(VLOOKUP(INDIRECT("G31"),'18'!$A$4:$B$60,2,0),"")}
B32: 24 | H32: =_xlfn.CONCAT(Y32&" "&Z32&" "&AA32) | Y32: {=IFERROR(VLOOKUP(INDIRECT("E32"),'18'!$A$4:$B$60,2,0),"")} | Z32: {=IFERROR(VLOOKUP(INDIRECT("F32"),'18'!$A$4:$B$60,2,0),"")} | AA32: {=IFERROR(VLOOKUP(INDIRECT("G32"),'18'!$A$4:$B$60,2,0),"")}
B33: 25 | H33: =_xlfn.CONCAT(Y33&" "&Z33&" "&AA33) | Y33: {=IFERROR(VLOOKUP(INDIRECT("E33"),'18'!$A$4:$B$60,2,0),"")} | Z33: {=IFERROR(VLOOKUP(INDIRECT("F33"),'18'!$A$4:$B$60,2,0),"")} | AA33: {=IFERROR(VLOOKUP(INDIRECT("G33"),'18'!$A$4:$B$60,2,0),"")}
B34: 26 | H34: =_xlfn.CONCAT(Y34&" "&Z34&" "&AA34) | Y34: {=IFERROR(VLOOKUP(INDIRECT("E34"),'18'!$A$4:$B$60,2,0),"")} | Z34: {=IFERROR(VLOOKUP(INDIRECT("F34"),'18'!$A$4:$B$60,2,0),"")} | AA34: {=IFERROR(VLOOKUP(INDIRECT("G34"),'18'!$A$4:$B$60,2,0),"")}
B35: 27 | H35: =_xlfn.CONCAT(Y35&" "&Z35&" "&AA35) | Y35: {=IFERROR(VLOOKUP(INDIRECT("E35"),'18'!$A$4:$B$60,2,0),"")} | Z35: {=IFERROR(VLOOKUP(INDIRECT("F35"),'18'!$A$4:$B$60,2,0),"")} | AA35: {=IFERROR(VLOOKUP(INDIRECT("G35"),'18'!$A$4:$B$60,2,0),"")}
B36: 28 | H36: =_xlfn.CONCAT(Y36&" "&Z36&" "&AA36) | Y36: {=IFERROR(VLOOKUP(INDIRECT("E36"),'18'!$A$4:$B$60,2,0),"")} | Z36: {=IFERROR(VLOOKUP(INDIRECT("F36"),'18'!$A$4:$B$60,2,0),"")} | AA36: {=IFERROR(VLOOKUP(INDIRECT("G36"),'18'!$A$4:$B$60,2,0),"")}
B37: 29 | H37: =_xlfn.CONCAT(Y37&" "&Z37&" "&AA37) | Y37: {=IFERROR(VLOOKUP(INDIRECT("E37"),'18'!$A$4:$B$60,2,0),"")} | Z37: {=IFERROR(VLOOKUP(INDIRECT("F37"),'18'!$A$4:$B$60,2,0),"")} | AA37: {=IFERROR(VLOOKUP(INDIRECT("G37"),'18'!$A$4:$B$60,2,0),"")}
B38: 30 | H38: =_xlfn.CONCAT(Y38&" "&Z38&" "&AA38) | Y38: {=IFERROR(VLOOKUP(INDIRECT("E38"),'18'!$A$4:$B$60,2,0),"")} | Z38: {=IFERROR(VLOOKUP(INDIRECT("F38"),'18'!$A$4:$B$60,2,0),"")} | AA38: {=IFERROR(VLOOKUP(INDIRECT("G38"),'18'!$A$4:$B$60,2,0),"")}
B39: 31 | H39: =_xlfn.CONCAT(Y39&" "&Z39&" "&AA39) | Y39: {=IFERROR(VLOOKUP(INDIRECT("E39"),'18'!$A$4:$B$60,2,0),"")} | Z39: {=IFERROR(VLOOKUP(INDIRECT("F39"),'18'!$A$4:$B$60,2,0),"")} | AA39: {=IFERROR(VLOOKUP(INDIRECT("G39"),'18'!$A$4:$B$60,2,0),"")}
B40: 32 | H40: =_xlfn.CONCAT(Y40&" "&Z40&" "&AA40) | Y40: {=IFERROR(VLOOKUP(INDIRECT("E40"),'18'!$A$4:$B$60,2,0),"")} | Z40: {=IFERROR(VLOOKUP(INDIRECT("F40"),'18'!$A$4:$B$60,2,0),"")} | AA40: {=IFERROR(VLOOKUP(INDIRECT("G40"),'18'!$A$4:$B$60,2,0),"")}
B41: 33 | H41: =_xlfn.CONCAT(Y41&" "&Z41&" "&AA41) | Y41: {=IFERROR(VLOOKUP(INDIRECT("E41"),'18'!$A$4:$B$60,2,0),"")} | Z41: {=IFERROR(VLOOKUP(INDIRECT("F41"),'18'!$A$4:$B$60,2,0),"")} | AA41: {=IFERROR(VLOOKUP(INDIRECT("G41"),'18'!$A$4:$B$60,2,0),"")}
B42: 34 | H42: =_xlfn.CONCAT(Y42&" "&Z42&" "&AA42) | Y42: {=IFERROR(VLOOKUP(INDIRECT("E42"),'18'!$A$4:$B$60,2,0),"")} | Z42: {=IFERROR(VLOOKUP(INDIRECT("F42"),'18'!$A$4:$B$60,2,0),"")} | AA42: {=IFERROR(VLOOKUP(INDIRECT("G42"),'18'!$A$4:$B$60,2,0),"")}
B43: 35 | H43: =_xlfn.CONCAT(Y43&" "&Z43&" "&AA43) | Y43: {=IFERROR(VLOOKUP(INDIRECT("E43"),'18'!$A$4:$B$60,2,0),"")} | Z43: {=IFERROR(VLOOKUP(INDIRECT("F43"),'18'!$A$4:$B$60,2,0),"")} | AA43: {=IFERROR(VLOOKUP(INDIRECT("G43"),'18'!$A$4:$B$60,2,0),"")}
B44: 36 | H44: =_xlfn.CONCAT(Y44&" "&Z44&" "&AA44) | Y44: {=IFERROR(VLOOKUP(INDIRECT("E44"),'18'!$A$4:$B$60,2,0),"")} | Z44: {=IFERROR(VLOOKUP(INDIRECT("F44"),'18'!$A$4:$B$60,2,0),"")} | AA44: {=IFERROR(VLOOKUP(INDIRECT("G44"),'18'!$A$4:$B$60,2,0),"")}
B45: 37 | H45: =_xlfn.CONCAT(Y45&" "&Z45&" "&AA45) | Y45: {=IFERROR(VLOOKUP(INDIRECT("E45"),'18'!$A$4:$B$60,2,0),"")} | Z45: {=IFERROR(VLOOKUP(INDIRECT("F45"),'18'!$A$4:$B$60,2,0),"")} | AA45: {=IFERROR(VLOOKUP(INDIRECT("G45"),'18'!$A$4:$B$60,2,0),"")}
B46: 38 | H46: =_xlfn.CONCAT(Y46&" "&Z46&" "&AA46) | Y46: {=IFERROR(VLOOKUP(INDIRECT("E46"),'18'!$A$4:$B$60,2,0),"")} | Z46: {=IFERROR(VLOOKUP(INDIRECT("F46"),'18'!$A$4:$B$60,2,0),"")} | AA46: {=IFERROR(VLOOKUP(INDIRECT("G46"),'18'!$A$4:$B$60,2,0),"")}
B47: 39 | H47: =_xlfn.CONCAT(Y47&" "&Z47&" "&AA47) | Y47: {=IFERROR(VLOOKUP(INDIRECT("E47"),'18'!$A$4:$B$60,2,0),"")} | Z47: {=IFERROR(VLOOKUP(INDIRECT("F47"),'18'!$A$4:$B$60,2,0),"")} | AA47: {=IFERROR(VLOOKUP(INDIRECT("G47"),'18'!$A$4:$B$60,2,0),"")}
B48: 40 | H48: =_xlfn.CONCAT(Y48&" "&Z48&" "&AA48) | Y48: {=IFERROR(VLOOKUP(INDIRECT("E48"),'18'!$A$4:$B$60,2,0),"")} | Z48: {=IFERROR(VLOOKUP(INDIRECT("F48"),'18'!$A$4:$B$60,2,0),"")} | AA48: {=IFERROR(VLOOKUP(INDIRECT("G48"),'18'!$A$4:$B$60,2,0),"")}
B49: 41 | H49: =_xlfn.CONCAT(Y49&" "&Z49&" "&AA49) | Y49: {=IFERROR(VLOOKUP(INDIRECT("E49"),'18'!$A$4:$B$60,2,0),"")} | Z49: {=IFERROR(VLOOKUP(INDIRECT("F49"),'18'!$A$4:$B$60,2,0),"")} | AA49: {=IFERROR(VLOOKUP(INDIRECT("G49"),'18'!$A$4:$B$60,2,0),"")}
B50: 42 | H50: =_xlfn.CONCAT(Y50&" "&Z50&" "&AA50) | Y50: {=IFERROR(VLOOKUP(INDIRECT("E50"),'18'!$A$4:$B$60,2,0),"")} | Z50: {=IFERROR(VLOOKUP(INDIRECT("F50"),'18'!$A$4:$B$60,2,0),"")} | AA50: {=IFERROR(VLOOKUP(INDIRECT("G50"),'18'!$A$4:$B$60,2,0),"")}
B51: 43 | H51: =_xlfn.CONCAT(Y51&" "&Z51&" "&AA51) | Y51: {=IFERROR(VLOOKUP(INDIRECT("E51"),'18'!$A$4:$B$60,2,0),"")} | Z51: {=IFERROR(VLOOKUP(INDIRECT("F51"),'18'!$A$4:$B$60,2,0),"")} | AA51: {=IFERROR(VLOOKUP(INDIRECT("G51"),'18'!$A$4:$B$60,2,0),"")}
B52: 44 | H52: =_xlfn.CONCAT(Y52&" "&Z52&" "&AA52) | Y52: {=IFERROR(VLOOKUP(INDIRECT("E52"),'18'!$A$4:$B$60,2,0),"")} | Z52: {=IFERROR(VLOOKUP(INDIRECT("F52"),'18'!$A$4:$B$60,2,0),"")} | AA52: {=IFERROR(VLOOKUP(INDIRECT("G52"),'18'!$A$4:$B$60,2,0),"")}
B53: 45 | H53: =_xlfn.CONCAT(Y53&" "&Z53&" "&AA53) | Y53: {=IFERROR(VLOOKUP(INDIRECT("E53"),'18'!$A$4:$B$60,2,0),"")} | Z53: {=IFERROR(VLOOKUP(INDIRECT("F53"),'18'!$A$4:$B$60,2,0),"")} | AA53: {=IFERROR(VLOOKUP(INDIRECT("G53"),'18'!$A$4:$B$60,2,0),"")}
B54: 46 | H54: =_xlfn.CONCAT(Y54&" "&Z54&" "&AA54) | Y54: {=IFERROR(VLOOKUP(INDIRECT("E54"),'18'!$A$4:$B$60,2,0),"")} | Z54: {=IFERROR(VLOOKUP(INDIRECT("F54"),'18'!$A$4:$B$60,2,0),"")} | AA54: {=IFERROR(VLOOKUP(INDIRECT("G54"),'18'!$A$4:$B$60,2,0),"")}
B55: 47 | H55: =_xlfn.CONCAT(Y55&" "&Z55&" "&AA55) | Y55: {=IFERROR(VLOOKUP(INDIRECT("E55"),'18'!$A$4:$B$60,2,0),"")} | Z55: {=IFERROR(VLOOKUP(INDIRECT("F55"),'18'!$A$4:$B$60,2,0),"")} | AA55: {=IFERROR(VLOOKUP(INDIRECT("G55"),'18'!$A$4:$B$60,2,0),"")}
B56: 48 | H56: =_xlfn.CONCAT(Y56&" "&Z56&" "&AA56) | Y56: {=IFERROR(VLOOKUP(INDIRECT("E56"),'18'!$A$4:$B$60,2,0),"")} | Z56: {=IFERROR(VLOOKUP(INDIRECT("F56"),'18'!$A$4:$B$60,2,0),"")} | AA56: {=IFERROR(VLOOKUP(INDIRECT("G56"),'18'!$A$4:$B$60,2,0),"")}
B57: 49 | H57: =_xlfn.CONCAT(Y57&" "&Z57&" "&AA57) | Y57: {=IFERROR(VLOOKUP(INDIRECT("E57"),'18'!$A$4:$B$60,2,0),"")} | Z57: {=IFERROR(VLOOKUP(INDIRECT("F57"),'18'!$A$4:$B$60,2,0),"")} | AA57: {=IFERROR(VLOOKUP(INDIRECT("G57"),'18'!$A$4:$B$60,2,0),"")}
B58: 50 | H58: =_xlfn.CONCAT(Y58&" "&Z58&" "&AA58) | Y58: {=IFERROR(VLOOKUP(INDIRECT("E58"),'18'!$A$4:$B$60,2,0),"")} | Z58: {=IFERROR(VLOOKUP(INDIRECT("F58"),'18'!$A$4:$B$60,2,0),"")} | AA58: {=IFERROR(VLOOKUP(INDIRECT("G58"),'18'!$A$4:$B$60,2,0),"")}
B59: 51 | H59: =_xlfn.CONCAT(Y59&" "&Z59&" "&AA59) | Y59: {=IFERROR(VLOOKUP(INDIRECT("E59"),'18'!$A$4:$B$60,2,0),"")} | Z59: {=IFERROR(VLOOKUP(INDIRECT("F59"),'18'!$A$4:$B$60,2,0),"")} | AA59: {=IFERROR(VLOOKUP(INDIRECT("G59"),'18'!$A$4:$B$60,2,0),"")}
B60: 52 | H60: =_xlfn.CONCAT(Y60&" "&Z60&" "&AA60) | Y60: {=IFERROR(VLOOKUP(INDIRECT("E60"),'18'!$A$4:$B$60,2,0),"")} | Z60: {=IFERROR(VLOOKUP(INDIRECT("F60"),'18'!$A$4:$B$60,2,0),"")} | AA60: {=IFERROR(VLOOKUP(INDIRECT("G60"),'18'!$A$4:$B$60,2,0),"")}
B62: 1 | C62: 初任者が２人以上の場合、それぞれ別葉に作成する。
B63: 2 | C63: 実施日の確定が難しい場合は、実施の「月」のみを記入したり空欄にしたりする。
E66: ＜省略する研修項目＞
E68: 項目番号 | H68: 研 修 項 目 | I68: 研修項目を省略する理由 | N68: ③省略する研修項目番号
H69: {=IFERROR(VLOOKUP(INDIRECT("E69"),'18'!$A$4:$B$60,2,0),"")} | Z69: {=IFERROR(VLOOKUP(INDIRECT("F9"),'18'!$A$4:$B$60,2,0),"")} | AA69: {=IFERROR(VLOOKUP(INDIRECT("G9"),'18'!$A$4:$B$60,2,0),"")}
H70: {=IFERROR(VLOOKUP(INDIRECT("E70"),'18'!$A$4:$B$60,2,0),"")} | N70: 52項目中 | Q70: =52-Q10 -> 52 | T70: 項目省略する | Z70: {=IFERROR(VLOOKUP(INDIRECT("F10"),'18'!$A$4:$B$60,2,0),"")} | AA70: {=IFERROR(VLOOKUP(INDIRECT("G10"),'18'!$A$4:$B$60,2,0),"")}
H71: {=IFERROR(VLOOKUP(INDIRECT("E71"),'18'!$A$4:$B$60,2,0),"")}
H72: {=IFERROR(VLOOKUP(INDIRECT("E72"),'18'!$A$4:$B$60,2,0),"")} | N72: 1 | O72: 2 | P72: 3 | Q72: 4 | R72: 5 | S72: 6 | T72: 7 | U72: 8 | V72: 9 | W72: 10 | Z72: {=IFERROR(VLOOKUP(INDIRECT("F12"),'18'!$A$4:$B$60,2,0),"")} | AA72: {=IFERROR(VLOOKUP(INDIRECT("G12"),'18'!$A$4:$B$60,2,0),"")}
H73: {=IFERROR(VLOOKUP(INDIRECT("E73"),'18'!$A$4:$B$60,2,0),"")} | N73: 11 | O73: 12 | P73: 13 | Q73: 14 | R73: 15 | S73: 16 | T73: 17 | U73: 18 | V73: 19 | W73: 20 | Z73: {=IFERROR(VLOOKUP(INDIRECT("F13"),'18'!$A$4:$B$60,2,0),"")} | AA73: {=IFERROR(VLOOKUP(INDIRECT("G13"),'18'!$A$4:$B$60,2,0),"")}
H74: {=IFERROR(VLOOKUP(INDIRECT("E74"),'18'!$A$4:$B$60,2,0),"")} | N74: 21 | O74: 22 | P74: 23 | Q74: 24 | R74: 25 | S74: 26 | T74: 27 | U74: 28 | V74: 29 | W74: 30 | Y74: {=IFERROR(VLOOKUP(INDIRECT("E14"),'18'!$A$4:$B$60,2,0),"")} | Z74: {=IFERROR(VLOOKUP(INDIRECT("F14"),'18'!$A$4:$B$60,2,0),"")} | AA74: {=IFERROR(VLOOKUP(INDIRECT("G14"),'18'!$A$4:$B$60,2,0),"")}
H75: {=IFERROR(VLOOKUP(INDIRECT("E75"),'18'!$A$4:$B$60,2,0),"")} | N75: 31 | O75: 32 | P75: 33 | Q75: 34 | R75: 35 | S75: 36 | T75: 37 | U75: 38 | V75: 39 | W75: 40 | Y75: {=IFERROR(VLOOKUP(INDIRECT("E15"),'18'!$A$4:$B$60,2,0),"")} | Z75: {=IFERROR(VLOOKUP(INDIRECT("F15"),'18'!$A$4:$B$60,2,0),"")} | AA75: {=IFERROR(VLOOKUP(INDIRECT("G15"),'18'!$A$4:$B$60,2,0),"")}
H76: {=IFERROR(VLOOKUP(INDIRECT("E76"),'18'!$A$4:$B$60,2,0),"")} | N76: 41 | O76: 42 | P76: 43 | Q76: 44 | R76: 45 | S76: 46 | T76: 47 | U76: 48 | V76: 49 | W76: 50 | Y76: {=IFERROR(VLOOKUP(INDIRECT("E16"),'18'!$A$4:$B$60,2,0),"")} | Z76: {=IFERROR(VLOOKUP(INDIRECT("F16"),'18'!$A$4:$B$60,2,0),"")} | AA76: {=IFERROR(VLOOKUP(INDIRECT("G16"),'18'!$A$4:$B$60,2,0),"")}
H77: {=IFERROR(VLOOKUP(INDIRECT("E77"),'18'!$A$4:$B$60,2,0),"")} | N77: 51 | O77: 52 | Y77: {=IFERROR(VLOOKUP(INDIRECT("E17"),'18'!$A$4:$B$60,2,0),"")} | Z77: {=IFERROR(VLOOKUP(INDIRECT("F17"),'18'!$A$4:$B$60,2,0),"")} | AA77: {=IFERROR(VLOOKUP(INDIRECT("G17"),'18'!$A$4:$B$60,2,0),"")}
H78: {=IFERROR(VLOOKUP(INDIRECT("E78"),'18'!$A$4:$B$60,2,0),"")} | Y78: {=IFERROR(VLOOKUP(INDIRECT("E18"),'18'!$A$4:$B$60,2,0),"")} | Z78: {=IFERROR(VLOOKUP(INDIRECT("F18"),'18'!$A$4:$B$60,2,0),"")} | AA78: {=IFERROR(VLOOKUP(INDIRECT("G18"),'18'!$A$4:$B$60,2,0),"")}
H79: {=IFERROR(VLOOKUP(INDIRECT("E79"),'18'!$A$4:$B$60,2,0),"")} | O79: …省略する研修項目番号 | Y79: {=IFERROR(VLOOKUP(INDIRECT("E19"),'18'!$A$4:$B$60,2,0),"")} | Z79: {=IFERROR(VLOOKUP(INDIRECT("F19"),'18'!$A$4:$B$60,2,0),"")} | AA79: {=IFERROR(VLOOKUP(INDIRECT("G19"),'18'!$A$4:$B$60,2,0),"")}
H80: {=IFERROR(VLOOKUP(INDIRECT("E80"),'18'!$A$4:$B$60,2,0),"")} | Y80: {=IFERROR(VLOOKUP(INDIRECT("E20"),'18'!$A$4:$B$60,2,0),"")} | Z80: {=IFERROR(VLOOKUP(INDIRECT("F20"),'18'!$A$4:$B$60,2,0),"")} | AA80: {=IFERROR(VLOOKUP(INDIRECT("G20"),'18'!$A$4:$B$60,2,0),"")}
H81: {=IFERROR(VLOOKUP(INDIRECT("E81"),'18'!$A$4:$B$60,2,0),"")} | Y81: {=IFERROR(VLOOKUP(INDIRECT("E21"),'18'!$A$4:$B$60,2,0),"")} | Z81: {=IFERROR(VLOOKUP(INDIRECT("F21"),'18'!$A$4:$B$60,2,0),"")} | AA81: {=IFERROR(VLOOKUP(INDIRECT("G21"),'18'!$A$4:$B$60,2,0),"")}
H82: {=IFERROR(VLOOKUP(INDIRECT("E82"),'18'!$A$4:$B$60,2,0),"")} | Y82: {=IFERROR(VLOOKUP(INDIRECT("E22"),'18'!$A$4:$B$60,2,0),"")} | Z82: {=IFERROR(VLOOKUP(INDIRECT("F22"),'18'!$A$4:$B$60,2,0),"")} | AA82: {=IFERROR(VLOOKUP(INDIRECT("G22"),'18'!$A$4:$B$60,2,0),"")}
H83: {=IFERROR(VLOOKUP(INDIRECT("E83"),'18'!$A$4:$B$60,2,0),"")} | Y83: {=IFERROR(VLOOKUP(INDIRECT("E23"),'18'!$A$4:$B$60,2,0),"")} | Z83: {=IFERROR(VLOOKUP(INDIRECT("F23"),'18'!$A$4:$B$60,2,0),"")} | AA83: {=IFERROR(VLOOKUP(INDIRECT("G23"),'18'!$A$4:$B$60,2,0),"")}
H84: {=IFERROR(VLOOKUP(INDIRECT("E84"),'18'!$A$4:$B$60,2,0),"")} | Y84: {=IFERROR(VLOOKUP(INDIRECT("E24"),'18'!$A$4:$B$60,2,0),"")} | Z84: {=IFERROR(VLOOKUP(INDIRECT("F24"),'18'!$A$4:$B$60,2,0),"")} | AA84: {=IFERROR(VLOOKUP(INDIRECT("G24"),'18'!$A$4:$B$60,2,0),"")}
H85: {=IFERROR(VLOOKUP(INDIRECT("E85"),'18'!$A$4:$B$60,2,0),"")} | Y85: {=IFERROR(VLOOKUP(INDIRECT("E25"),'18'!$A$4:$B$60,2,0),"")} | Z85: {=IFERROR(VLOOKUP(INDIRECT("F25"),'18'!$A$4:$B$60,2,0),"")} | AA85: {=IFERROR(VLOOKUP(INDIRECT("G25"),'18'!$A$4:$B$60,2,0),"")}

Sheet 15
B2: (2) センター等研修
F3: 学校名 | G3: {=INDIRECT("5!E5")} -> 0
F5: 初任者名 | G5: {=INDIRECT("5!A26")} -> 0
B7: 月 | C7: 日 | D7: 講座番号 | E7: 講 座 名 | F7: 場 所 | G7: 備 考
B8: {=IFERROR(VLOOKUP(INDIRECT("D8"),'20'!$A$3:$C$76,2,0),"")} | C8: {=IFERROR(VLOOKUP(INDIRECT("D8"),'20'!$A$3:$C$76,3,0),"")} | E8: {=IFERROR(VLOOKUP(INDIRECT("D8"),'20'!$D$3:$E$76,2,0),"")} | F8: {=IFERROR(VLOOKUP(INDIRECT("D8"),'20'!$D$3:$G$76,4,0),"")}
B9: {=IFERROR(VLOOKUP(INDIRECT("D9"),'20'!$A$3:$C$76,2,0),"")} | C9: {=IFERROR(VLOOKUP(INDIRECT("D9"),'20'!$A$3:$C$76,3,0),"")} | E9: {=IFERROR(VLOOKUP(INDIRECT("D9"),'20'!$D$3:$E$76,2,0),"")} | F9: {=IFERROR(VLOOKUP(INDIRECT("D9"),'20'!$D$3:$G$76,4,0),"")}
B10: {=IFERROR(VLOOKUP(INDIRECT("D10"),'20'!$A$3:$C$76,2,0),"")} | C10: {=IFERROR(VLOOKUP(INDIRECT("D10"),'20'!$A$3:$C$76,3,0),"")} | E10: {=IFERROR(VLOOKUP(INDIRECT("D10"),'20'!$D$3:$E$76,2,0),"")} | F10: {=IFERROR(VLOOKUP(INDIRECT("D10"),'20'!$D$3:$G$76,4,0),"")}
B11: {=IFERROR(VLOOKUP(INDIRECT("D11"),'20'!$A$3:$C$76,2,0),"")} | C11: {=IFERROR(VLOOKUP(INDIRECT("D11"),'20'!$A$3:$C$76,3,0),"")} | E11: {=IFERROR(VLOOKUP(INDIRECT("D11"),'20'!$D$3:$E$76,2,0),"")} | F11: {=IFERROR(VLOOKUP(INDIRECT("D11"),'20'!$D$3:$G$76,4,0),"")}
B12: {=IFERROR(VLOOKUP(INDIRECT("D12"),'20'!$A$3:$C$76,2,0),"")} | C12: {=IFERROR(VLOOKUP(INDIRECT("D12"),'20'!$A$3:$C$76,3,0),"")} | E12: {=IFERROR(VLOOKUP(INDIRECT("D12"),'20'!$D$3:$E$76,2,0),"")} | F12: {=IFERROR(VLOOKUP(INDIRECT("D12"),'20'!$D$3:$G$76,4,0),"")}
B13: {=IFERROR(VLOOKUP(INDIRECT("D13"),'20'!$A$3:$C$76,2,0),"")} | C13: {=IFERROR(VLOOKUP(INDIRECT("D13"),'20'!$A$3:$C$76,3,0),"")} | E13: {=IFERROR(VLOOKUP(INDIRECT("D13"),'20'!$D$3:$E$76,2,0),"")} | F13: {=IFERROR(VLOOKUP(INDIRECT("D13"),'20'!$D$3:$G$76,4,0),"")}
B14: {=IFERROR(VLOOKUP(INDIRECT("D14"),'20'!$A$3:$C$76,2,0),"")} | C14: {=IFERROR(VLOOKUP(INDIRECT("D14"),'20'!$A$3:$C$76,3,0),"")} | E14: {=IFERROR(VLOOKUP(INDIRECT("D14"),'20'!$D$3:$E$76,2,0),"")} | F14: {=IFERROR(VLOOKUP(INDIRECT("D14"),'20'!$D$3:$G$76,4,0),"")}
B15: {=IFERROR(VLOOKUP(INDIRECT("D15"),'20'!$A$3:$C$76,2,0),"")} | C15: {=IFERROR(VLOOKUP(INDIRECT("D15"),'20'!$A$3:$C$76,3,0),"")} | E15: {=IFERROR(VLOOKUP(INDIRECT("D15"),'20'!$D$3:$E$76,2,0),"")} | F15: {=IFERROR(VLOOKUP(INDIRECT("D15"),'20'!$D$3:$G$76,4,0),"")}
B16: {=IFERROR(VLOOKUP(INDIRECT("D16"),'20'!$A$3:$C$76,2,0),"")} | C16: {=IFERROR(VLOOKUP(INDIRECT("D16"),'20'!$A$3:$C$76,3,0),"")} | E16: {=IFERROR(VLOOKUP(INDIRECT("D16"),'20'!$D$3:$E$76,2,0),"")} | F16: {=IFERROR(VLOOKUP(INDIRECT("D16"),'20'!$D$3:$G$76,4,0),"")}
B17: {=IFERROR(VLOOKUP(INDIRECT("D17"),'20'!$A$3:$C$76,2,0),"")} | C17: {=IFERROR(VLOOKUP(INDIRECT("D17"),'20'!$A$3:$C$76,3,0),"")} | E17: {=IFERROR(VLOOKUP(INDIRECT("D17"),'20'!$D$3:$E$76,2,0),"")} | F17: {=IFERROR(VLOOKUP(INDIRECT("D17"),'20'!$D$3:$G$76,4,0),"")}
B18: {=IFERROR(VLOOKUP(INDIRECT("D18"),'20'!$A$3:$C$76,2,0),"")} | C18: {=IFERROR(VLOOKUP(INDIRECT("D18"),'20'!$A$3:$C$76,3,0),"")} | E18: {=IFERROR(VLOOKUP(INDIRECT("D18"),'20'!$D$3:$E$76,2,0),"")} | F18: {=IFERROR(VLOOKUP(INDIRECT("D18"),'20'!$D$3:$G$76,4,0),"")}
B19: {=IFERROR(VLOOKUP(INDIRECT("D19"),'20'!$A$3:$C$76,2,0),"")} | C19: {=IFERROR(VLOOKUP(INDIRECT("D19"),'20'!$A$3:$C$76,3,0),"")} | E19: {=IFERROR(VLOOKUP(INDIRECT("D19"),'20'!$D$3:$E$76,2,0),"")} | F19: {=IFERROR(VLOOKUP(INDIRECT("D19"),'20'!$D$3:$G$76,4,0),"")}
B20: {=IFERROR(VLOOKUP(INDIRECT("D20"),'20'!$A$3:$C$76,2,0),"")} | C20: {=IFERROR(VLOOKUP(INDIRECT("D20"),'20'!$A$3:$C$76,3,0),"")} | E20: {=IFERROR(VLOOKUP(INDIRECT("D20"),'20'!$D$3:$E$76,2,0),"")} | F20: {=IFERROR(VLOOKUP(INDIRECT("D20"),'20'!$D$3:$G$76,4,0),"")}
B21: {=IFERROR(VLOOKUP(INDIRECT("D21"),'20'!$A$3:$C$76,2,0),"")} | C21: {=IFERROR(VLOOKUP(INDIRECT("D21"),'20'!$A$3:$C$76,3,0),"")} | E21: {=IFERROR(VLOOKUP(INDIRECT("D21"),'20'!$D$3:$E$76,2,0),"")} | F21: {=IFERROR(VLOOKUP(INDIRECT("D21"),'20'!$D$3:$G$76,4,0),"")}
B22: {=IFERROR(VLOOKUP(INDIRECT("D22"),'20'!$A$3:$C$76,2,0),"")} | C22: {=IFERROR(VLOOKUP(INDIRECT("D22"),'20'!$A$3:$C$76,3,0),"")} | E22: {=IFERROR(VLOOKUP(INDIRECT("D22"),'20'!$D$3:$E$76,2,0),"")} | F22: {=IFERROR(VLOOKUP(INDIRECT("D22"),'20'!$D$3:$G$76,4,0),"")}
B23: {=IFERROR(VLOOKUP(INDIRECT("D23"),'20'!$A$3:$C$76,2,0),"")} | C23: {=IFERROR(VLOOKUP(INDIRECT("D23"),'20'!$A$3:$C$76,3,0),"")} | E23: {=IFERROR(VLOOKUP(INDIRECT("D23"),'20'!$D$3:$E$76,2,0),"")} | F23: {=IFERROR(VLOOKUP(INDIRECT("D23"),'20'!$D$3:$G$76,4,0),"")}
B24: {=IFERROR(VLOOKUP(INDIRECT("D24"),'20'!$A$3:$C$76,2,0),"")} | C24: {=IFERROR(VLOOKUP(INDIRECT("D24"),'20'!$A$3:$C$76,3,0),"")} | E24: {=IFERROR(VLOOKUP(INDIRECT("D24"),'20'!$D$3:$E$76,2,0),"")} | F24: {=IFERROR(VLOOKUP(INDIRECT("D24"),'20'!$D$3:$G$76,4,0),"")}
B25: {=IFERROR(VLOOKUP(INDIRECT("D25"),'20'!$A$3:$C$76,2,0),"")} | C25: {=IFERROR(VLOOKUP(INDIRECT("D25"),'20'!$A$3:$C$76,3,0),"")} | E25: {=IFERROR(VLOOKUP(INDIRECT("D25"),'20'!$D$3:$E$76,2,0),"")} | F25: {=IFERROR(VLOOKUP(INDIRECT("D25"),'20'!$D$3:$G$76,4,0),"")}
B26: 他 校 種 体 験 研 修
B27: 月 | C27: 日 | D27: 内 容 | F27: 場 所 | G27: 備 考
E31: 合計 | G31: 日
B36: １ 初任者が２人以上の場合、それぞれ別葉に作成する。
B37: ２ 実施予定時期の早い順に記入する。
B38: ３ 実施日が確定していない場合は、空欄とする。
B39: ４ 実施場所が確定していない場合は、「未定」と記入する。

Sheet 16
A1: (様式３－１－２)
B2: ５ 年間指導計画
B3: (1) 勤務校研修
I4: 学校名 | J4: {=INDIRECT("5!E5")} -> 0
I6: 初任者名 | J6: {=INDIRECT("5!A27")} -> 0 | N6: ★入力者 確認用データ | AD6: ★センター担当者 整理用データ
B8: 回数 | C8: 月 | D8: 日 | E8: 項目番号 | H8: 研 修 項 目 | I8: 講 師 | J8: 備 考（研究大会名・研修会名称等） | N8: ①実施予定の研修項目番号 | AD8: ①項目別の実施予定回数
B9: 1 | H9: =_xlfn.CONCAT(Y9&" "&Z9&" "&AA9) | Y9: {=IFERROR(VLOOKUP(INDIRECT("E9"),'18'!$A$4:$B$60,2,0),"")} | Z9: {=IFERROR(VLOOKUP(INDIRECT("F9"),'18'!$A$4:$B$60,2,0),"")} | AA9: {=IFERROR(VLOOKUP(INDIRECT("G9"),'18'!$A$4:$B$60,2,0),"")} | AD9: 1 | AE9: 2 | AF9: 3 | AG9: 4 | AH9: 5 | AI9: 6 | AJ9: 7 | AK9: 8 | AL9: 9 | AM9: 10 | AN9: 11 | AO9: 12 | AP9: 13
B10: 2 | H10: =_xlfn.CONCAT(Y10&" "&Z10&" "&AA10) | N10: 52項目中 | Q10: {=SUM(--(FREQUENCY(IF((項目番号全体>=1)*(項目番号全体<=52), 項目番号全体), ROW(INDIRECT("1:52")))>0))} -> 0 | T10: 項目実施予定 | Y10: {=IFERROR(VLOOKUP(INDIRECT("E10"),'18'!$A$4:$B$60,2,0),"")} | Z10: {=IFERROR(VLOOKUP(INDIRECT("F10"),'18'!$A$4:$B$60,2,0),"")} | AA10: {=IFERROR(VLOOKUP(INDIRECT("G10"),'18'!$A$4:$B$60,2,0),"")} | AD10: =COUNTIF(項目番号全体,AD9) -> 0 | AE10: =COUNTIF(項目番号全体,AE9) -> 0 | AF10: =COUNTIF(項目番号全体,AF9) -> 0 | AG10: =COUNTIF(項目番号全体,AG9) -> 0 | AH10: =COUNTIF(項目番号全体,AH9) -> 0 | AI10: =COUNTIF(項目番号全体,AI9) -> 0 | AJ10: =COUNTIF(項目番号全体,AJ9) -> 0 | AK10: =COUNTIF(項目番号全体,AK9) -> 0 | ... AP10: =COUNTIF(項目番号全体,AP9) -> 0
B11: 3 | H11: =_xlfn.CONCAT(Y11&" "&Z11&" "&AA11) | Y11: {=IFERROR(VLOOKUP(INDIRECT("E11"),'18'!$A$4:$B$60,2,0),"")} | Z11: {=IFERROR(VLOOKUP(INDIRECT("F11"),'18'!$A$4:$B$60,2,0),"")} | AA11: {=IFERROR(VLOOKUP(INDIRECT("G11"),'18'!$A$4:$B$60,2,0),"")}
B12: 4 | H12: =_xlfn.CONCAT(Y12&" "&Z12&" "&AA12) | N12: 1 | O12: 2 | P12: 3 | Q12: 4 | R12: 5 | S12: 6 | T12: 7 | U12: 8 | V12: 9 | W12: 10 | Y12: {=IFERROR(VLOOKUP(INDIRECT("E12"),'18'!$A$4:$B$60,2,0),"")} | Z12: {=IFERROR(VLOOKUP(INDIRECT("F12"),'18'!$A$4:$B$60,2,0),"")} | AA12: {=IFERROR(VLOOKUP(INDIRECT("G12"),'18'!$A$4:$B$60,2,0),"")} | AD12: 14 | AE12: 15 | AF12: 16 | AG12: 17 | AH12: 18 | AI12: 19 | AJ12: 20 | AK12: 21 | AL12: 22 | AM12: 23 | AN12: 24 | AO12: 25 | AP12: 26
B13: 5 | H13: =_xlfn.CONCAT(Y13&" "&Z13&" "&AA13) | N13: 11 | O13: 12 | P13: 13 | Q13: 14 | R13: 15 | S13: 16 | T13: 17 | U13: 18 | V13: 19 | W13: 20 | Y13: {=IFERROR(VLOOKUP(INDIRECT("E13"),'18'!$A$4:$B$60,2,0),"")} | Z13: {=IFERROR(VLOOKUP(INDIRECT("F13"),'18'!$A$4:$B$60,2,0),"")} | AA13: {=IFERROR(VLOOKUP(INDIRECT("G13"),'18'!$A$4:$B$60,2,0),"")} | AD13: =COUNTIF(項目番号全体,AD12) -> 0 | AE13: =COUNTIF(項目番号全体,AE12) -> 0 | AF13: =COUNTIF(項目番号全体,AF12) -> 0 | AG13: =COUNTIF(項目番号全体,AG12) -> 0 | AH13: =COUNTIF(項目番号全体,AH12) -> 0 | AI13: =COUNTIF(項目番号全体,AI12) -> 0 | AJ13: =COUNTIF(項目番号全体,AJ12) -> 0 | AK13: =COUNTIF(項目番号全体,AK12) -> 0 | ... AP13: =COUNTIF(項目番号全体,AP12) -> 0
B14: 6 | H14: =_xlfn.CONCAT(Y14&" "&Z14&" "&AA14) | N14: 21 | O14: 22 | P14: 23 | Q14: 24 | R14: 25 | S14: 26 | T14: 27 | U14: 28 | V14: 29 | W14: 30 | Y14: {=IFERROR(VLOOKUP(INDIRECT("E14"),'18'!$A$4:$B$60,2,0),"")} | Z14: {=IFERROR(VLOOKUP(INDIRECT("F14"),'18'!$A$4:$B$60,2,0),"")} | AA14: {=IFERROR(VLOOKUP(INDIRECT("G14"),'18'!$A$4:$B$60,2,0),"")}
B15: 7 | H15: =_xlfn.CONCAT(Y15&" "&Z15&" "&AA15) | N15: 31 | O15: 32 | P15: 33 | Q15: 34 | R15: 35 | S15: 36 | T15: 37 | U15: 38 | V15: 39 | W15: 40 | Y15: {=IFERROR(VLOOKUP(INDIRECT("E15"),'18'!$A$4:$B$60,2,0),"")} | Z15: {=IFERROR(VLOOKUP(INDIRECT("F15"),'18'!$A$4:$B$60,2,0),"")} | AA15: {=IFERROR(VLOOKUP(INDIRECT("G15"),'18'!$A$4:$B$60,2,0),"")} | AD15: 27 | AE15: 28 | AF15: 29 | AG15: 30 | AH15: 31 | AI15: 32 | AJ15: 33 | AK15: 34 | AL15: 35 | AM15: 36 | AN15: 37 | AO15: 38 | AP15: 39
B16: 8 | H16: =_xlfn.CONCAT(Y16&" "&Z16&" "&AA16) | N16: 41 | O16: 42 | P16: 43 | Q16: 44 | R16: 45 | S16: 46 | T16: 47 | U16: 48 | V16: 49 | W16: 50 | Y16: {=IFERROR(VLOOKUP(INDIRECT("E16"),'18'!$A$4:$B$60,2,0),"")} | Z16: {=IFERROR(VLOOKUP(INDIRECT("F16"),'18'!$A$4:$B$60,2,0),"")} | AA16: {=IFERROR(VLOOKUP(INDIRECT("G16"),'18'!$A$4:$B$60,2,0),"")} | AD16: =COUNTIF(項目番号全体,AD15) -> 0 | AE16: =COUNTIF(項目番号全体,AE15) -> 0 | AF16: =COUNTIF(項目番号全体,AF15) -> 0 | AG16: =COUNTIF(項目番号全体,AG15) -> 0 | AH16: =COUNTIF(項目番号全体,AH15) -> 0 | AI16: =COUNTIF(項目番号全体,AI15) -> 0 | AJ16: =COUNTIF(項目番号全体,AJ15) -> 0 | AK16: =COUNTIF(項目番号全体,AK15) -> 0 | ... AP16: =COUNTIF(項目番号全体,AP15) -> 0
B17: 9 | H17: =_xlfn.CONCAT(Y17&" "&Z17&" "&AA17) | N17: 51 | O17: 52 | Y17: {=IFERROR(VLOOKUP(INDIRECT("E17"),'18'!$A$4:$B$60,2,0),"")} | Z17: {=IFERROR(VLOOKUP(INDIRECT("F17"),'18'!$A$4:$B$60,2,0),"")} | AA17: {=IFERROR(VLOOKUP(INDIRECT("G17"),'18'!$A$4:$B$60,2,0),"")}
B18: 10 | H18: =_xlfn.CONCAT(Y18&" "&Z18&" "&AA18) | Y18: {=IFERROR(VLOOKUP(INDIRECT("E18"),'18'!$A$4:$B$60,2,0),"")} | Z18: {=IFERROR(VLOOKUP(INDIRECT("F18"),'18'!$A$4:$B$60,2,0),"")} | AA18: {=IFERROR(VLOOKUP(INDIRECT("G18"),'18'!$A$4:$B$60,2,0),"")} | AD18: 40 | AE18: 41 | AF18: 42 | AG18: 43 | AH18: 44 | AI18: 45 | AJ18: 46 | AK18: 47 | AL18: 48 | AM18: 49 | AN18: 50 | AO18: 51 | AP18: 52
B19: 11 | H19: =_xlfn.CONCAT(Y19&" "&Z19&" "&AA19) | O19: …１回以上実施予定の研修項目番号 | Y19: {=IFERROR(VLOOKUP(INDIRECT("E19"),'18'!$A$4:$B$60,2,0),"")} | Z19: {=IFERROR(VLOOKUP(INDIRECT("F19"),'18'!$A$4:$B$60,2,0),"")} | AA19: {=IFERROR(VLOOKUP(INDIRECT("G19"),'18'!$A$4:$B$60,2,0),"")} | AD19: =COUNTIF(項目番号全体,AD18) -> 0 | AE19: =COUNTIF(項目番号全体,AE18) -> 0 | AF19: =COUNTIF(項目番号全体,AF18) -> 0 | AG19: =COUNTIF(項目番号全体,AG18) -> 0 | AH19: =COUNTIF(項目番号全体,AH18) -> 0 | AI19: =COUNTIF(項目番号全体,AI18) -> 0 | AJ19: =COUNTIF(項目番号全体,AJ18) -> 0 | AK19: =COUNTIF(項目番号全体,AK18) -> 0 | ... AP19: =COUNTIF(項目番号全体,AP18) -> 0
B20: 12 | H20: =_xlfn.CONCAT(Y20&" "&Z20&" "&AA20) | Y20: {=IFERROR(VLOOKUP(INDIRECT("E20"),'18'!$A$4:$B$60,2,0),"")} | Z20: {=IFERROR(VLOOKUP(INDIRECT("F20"),'18'!$A$4:$B$60,2,0),"")} | AA20: {=IFERROR(VLOOKUP(INDIRECT("G20"),'18'!$A$4:$B$60,2,0),"")}
B21: 13 | H21: =_xlfn.CONCAT(Y21&" "&Z21&" "&AA21) | N21: ②実施予定の勤務校研修の回数 | Y21: {=IFERROR(VLOOKUP(INDIRECT("E21"),'18'!$A$4:$B$60,2,0),"")} | Z21: {=IFERROR(VLOOKUP(INDIRECT("F21"),'18'!$A$4:$B$60,2,0),"")} | AA21: {=IFERROR(VLOOKUP(INDIRECT("G21"),'18'!$A$4:$B$60,2,0),"")} | AD21: ②実施予定の勤務校研修の項目数
B22: 14 | H22: =_xlfn.CONCAT(Y22&" "&Z22&" "&AA22) | Y22: {=IFERROR(VLOOKUP(INDIRECT("E22"),'18'!$A$4:$B$60,2,0),"")} | Z22: {=IFERROR(VLOOKUP(INDIRECT("F22"),'18'!$A$4:$B$60,2,0),"")} | AA22: {=IFERROR(VLOOKUP(INDIRECT("G22"),'18'!$A$4:$B$60,2,0),"")}
B23: 15 | H23: =_xlfn.CONCAT(Y23&" "&Z23&" "&AA23) | Q23: {=SUMPRODUCT(--((ISNUMBER(項目番号１)+ISNUMBER(項目番号２)+ISNUMBER(項目番号３))>0))} -> 0 | T23: 回 | Y23: {=IFERROR(VLOOKUP(INDIRECT("E23"),'18'!$A$4:$B$60,2,0),"")} | Z23: {=IFERROR(VLOOKUP(INDIRECT("F23"),'18'!$A$4:$B$60,2,0),"")} | AA23: {=IFERROR(VLOOKUP(INDIRECT("G23"),'18'!$A$4:$B$60,2,0),"")} | AD23: {=INDIRECT("Q10")} -> 0 | AF23: 項目
B24: 16 | H24: =_xlfn.CONCAT(Y24&" "&Z24&" "&AA24) | Y24: {=IFERROR(VLOOKUP(INDIRECT("E24"),'18'!$A$4:$B$60,2,0),"")} | Z24: {=IFERROR(VLOOKUP(INDIRECT("F24"),'18'!$A$4:$B$60,2,0),"")} | AA24: {=IFERROR(VLOOKUP(INDIRECT("G24"),'18'!$A$4:$B$60,2,0),"")}
B25: 17 | H25: =_xlfn.CONCAT(Y25&" "&Z25&" "&AA25) | N25: ＊勤務校研修の回数は、35～52回の間 になるように予定を立ててください。 | Y25: {=IFERROR(VLOOKUP(INDIRECT("E25"),'18'!$A$4:$B$60,2,0),"")} | Z25: {=IFERROR(VLOOKUP(INDIRECT("F25"),'18'!$A$4:$B$60,2,0),"")} | AA25: {=IFERROR(VLOOKUP(INDIRECT("G25"),'18'!$A$4:$B$60,2,0),"")} | AD25: ③実施予定の勤務校研修の回数
B26: 18 | H26: =_xlfn.CONCAT(Y26&" "&Z26&" "&AA26) | Y26: {=IFERROR(VLOOKUP(INDIRECT("E26"),'18'!$A$4:$B$60,2,0),"")} | Z26: {=IFERROR(VLOOKUP(INDIRECT("F26"),'18'!$A$4:$B$60,2,0),"")} | AA26: {=IFERROR(VLOOKUP(INDIRECT("G26"),'18'!$A$4:$B$60,2,0),"")}
B27: 19 | H27: =_xlfn.CONCAT(Y27&" "&Z27&" "&AA27) | Y27: {=IFERROR(VLOOKUP(INDIRECT("E27"),'18'!$A$4:$B$60,2,0),"")} | Z27: {=IFERROR(VLOOKUP(INDIRECT("F27"),'18'!$A$4:$B$60,2,0),"")} | AA27: {=IFERROR(VLOOKUP(INDIRECT("G27"),'18'!$A$4:$B$60,2,0),"")} | AD27: {=INDIRECT("Q23")} -> 0 | AF27: 回
B28: 20 | H28: =_xlfn.CONCAT(Y28&" "&Z28&" "&AA28) | Y28: {=IFERROR(VLOOKUP(INDIRECT("E28"),'18'!$A$4:$B$60,2,0),"")} | Z28: {=IFERROR(VLOOKUP(INDIRECT("F28"),'18'!$A$4:$B$60,2,0),"")} | AA28: {=IFERROR(VLOOKUP(INDIRECT("G28"),'18'!$A$4:$B$60,2,0),"")}
B29: 21 | H29: =_xlfn.CONCAT(Y29&" "&Z29&" "&AA29) | Y29: {=IFERROR(VLOOKUP(INDIRECT("E29"),'18'!$A$4:$B$60,2,0),"")} | Z29: {=IFERROR(VLOOKUP(INDIRECT("F29"),'18'!$A$4:$B$60,2,0),"")} | AA29: {=IFERROR(VLOOKUP(INDIRECT("G29"),'18'!$A$4:$B$60,2,0),"")}
B30: 22 | H30: =_xlfn.CONCAT(Y30&" "&Z30&" "&AA30) | Y30: {=IFERROR(VLOOKUP(INDIRECT("E30"),'18'!$A$4:$B$60,2,0),"")} | Z30: {=IFERROR(VLOOKUP(INDIRECT("F30"),'18'!$A$4:$B$60,2,0),"")} | AA30: {=IFERROR(VLOOKUP(INDIRECT("G30"),'18'!$A$4:$B$60,2,0),"")}
B31: 23 | H31: =_xlfn.CONCAT(Y31&" "&Z31&" "&AA31) | Y31: {=IFERROR(VLOOKUP(INDIRECT("E31"),'18'!$A$4:$B$60,2,0),"")} | Z31: {=IFERROR(VLOOKUP(INDIRECT("F31"),'18'!$A$4:$B$60,2,0),"")} | AA31: {=IFERROR(VLOOKUP(INDIRECT("G31"),'18'!$A$4:$B$60,2,0),"")}
B32: 24 | H32: =_xlfn.CONCAT(Y32&" "&Z32&" "&AA32) | Y32: {=IFERROR(VLOOKUP(INDIRECT("E32"),'18'!$A$4:$B$60,2,0),"")} | Z32: {=IFERROR(VLOOKUP(INDIRECT("F32"),'18'!$A$4:$B$60,2,0),"")} | AA32: {=IFERROR(VLOOKUP(INDIRECT("G32"),'18'!$A$4:$B$60,2,0),"")}
B33: 25 | H33: =_xlfn.CONCAT(Y33&" "&Z33&" "&AA33) | Y33: {=IFERROR(VLOOKUP(INDIRECT("E33"),'18'!$A$4:$B$60,2,0),"")} | Z33: {=IFERROR(VLOOKUP(INDIRECT("F33"),'18'!$A$4:$B$60,2,0),"")} | AA33: {=IFERROR(VLOOKUP(INDIRECT("G33"),'18'!$A$4:$B$60,2,0),"")}
B34: 26 | H34: =_xlfn.CONCAT(Y34&" "&Z34&" "&AA34) | Y34: {=IFERROR(VLOOKUP(INDIRECT("E34"),'18'!$A$4:$B$60,2,0),"")} | Z34: {=IFERROR(VLOOKUP(INDIRECT("F34"),'18'!$A$4:$B$60,2,0),"")} | AA34: {=IFERROR(VLOOKUP(INDIRECT("G34"),'18'!$A$4:$B$60,2,0),"")}
B35: 27 | H35: =_xlfn.CONCAT(Y35&" "&Z35&" "&AA35) | Y35: {=IFERROR(VLOOKUP(INDIRECT("E35"),'18'!$A$4:$B$60,2,0),"")} | Z35: {=IFERROR(VLOOKUP(INDIRECT("F35"),'18'!$A$4:$B$60,2,0),"")} | AA35: {=IFERROR(VLOOKUP(INDIRECT("G35"),'18'!$A$4:$B$60,2,0),"")}
B36: 28 | H36: =_xlfn.CONCAT(Y36&" "&Z36&" "&AA36) | Y36: {=IFERROR(VLOOKUP(INDIRECT("E36"),'18'!$A$4:$B$60,2,0),"")} | Z36: {=IFERROR(VLOOKUP(INDIRECT("F36"),'18'!$A$4:$B$60,2,0),"")} | AA36: {=IFERROR(VLOOKUP(INDIRECT("G36"),'18'!$A$4:$B$60,2,0),"")}
B37: 29 | H37: =_xlfn.CONCAT(Y37&" "&Z37&" "&AA37) | Y37: {=IFERROR(VLOOKUP(INDIRECT("E37"),'18'!$A$4:$B$60,2,0),"")} | Z37: {=IFERROR(VLOOKUP(INDIRECT("F37"),'18'!$A$4:$B$60,2,0),"")} | AA37: {=IFERROR(VLOOKUP(INDIRECT("G37"),'18'!$A$4:$B$60,2,0),"")}
B38: 30 | H38: =_xlfn.CONCAT(Y38&" "&Z38&" "&AA38) | Y38: {=IFERROR(VLOOKUP(INDIRECT("E38"),'18'!$A$4:$B$60,2,0),"")} | Z38: {=IFERROR(VLOOKUP(INDIRECT("F38"),'18'!$A$4:$B$60,2,0),"")} | AA38: {=IFERROR(VLOOKUP(INDIRECT("G38"),'18'!$A$4:$B$60,2,0),"")}
B39: 31 | H39: =_xlfn.CONCAT(Y39&" "&Z39&" "&AA39) | Y39: {=IFERROR(VLOOKUP(INDIRECT("E39"),'18'!$A$4:$B$60,2,0),"")} | Z39: {=IFERROR(VLOOKUP(INDIRECT("F39"),'18'!$A$4:$B$60,2,0),"")} | AA39: {=IFERROR(VLOOKUP(INDIRECT("G39"),'18'!$A$4:$B$60,2,0),"")}
B40: 32 | H40: =_xlfn.CONCAT(Y40&" "&Z40&" "&AA40) | Y40: {=IFERROR(VLOOKUP(INDIRECT("E40"),'18'!$A$4:$B$60,2,0),"")} | Z40: {=IFERROR(VLOOKUP(INDIRECT("F40"),'18'!$A$4:$B$60,2,0),"")} | AA40: {=IFERROR(VLOOKUP(INDIRECT("G40"),'18'!$A$4:$B$60,2,0),"")}
B41: 33 | H41: =_xlfn.CONCAT(Y41&" "&Z41&" "&AA41) | Y41: {=IFERROR(VLOOKUP(INDIRECT("E41"),'18'!$A$4:$B$60,2,0),"")} | Z41: {=IFERROR(VLOOKUP(INDIRECT("F41"),'18'!$A$4:$B$60,2,0),"")} | AA41: {=IFERROR(VLOOKUP(INDIRECT("G41"),'18'!$A$4:$B$60,2,0),"")}
B42: 34 | H42: =_xlfn.CONCAT(Y42&" "&Z42&" "&AA42) | Y42: {=IFERROR(VLOOKUP(INDIRECT("E42"),'18'!$A$4:$B$60,2,0),"")} | Z42: {=IFERROR(VLOOKUP(INDIRECT("F42"),'18'!$A$4:$B$60,2,0),"")} | AA42: {=IFERROR(VLOOKUP(INDIRECT("G42"),'18'!$A$4:$B$60,2,0),"")}
B43: 35 | H43: =_xlfn.CONCAT(Y43&" "&Z43&" "&AA43) | Y43: {=IFERROR(VLOOKUP(INDIRECT("E43"),'18'!$A$4:$B$60,2,0),"")} | Z43: {=IFERROR(VLOOKUP(INDIRECT("F43"),'18'!$A$4:$B$60,2,0),"")} | AA43: {=IFERROR(VLOOKUP(INDIRECT("G43"),'18'!$A$4:$B$60,2,0),"")}
B44: 36 | H44: =_xlfn.CONCAT(Y44&" "&Z44&" "&AA44) | Y44: {=IFERROR(VLOOKUP(INDIRECT("E44"),'18'!$A$4:$B$60,2,0),"")} | Z44: {=IFERROR(VLOOKUP(INDIRECT("F44"),'18'!$A$4:$B$60,2,0),"")} | AA44: {=IFERROR(VLOOKUP(INDIRECT("G44"),'18'!$A$4:$B$60,2,0),"")}
B45: 37 | H45: =_xlfn.CONCAT(Y45&" "&Z45&" "&AA45) | Y45: {=IFERROR(VLOOKUP(INDIRECT("E45"),'18'!$A$4:$B$60,2,0),"")} | Z45: {=IFERROR(VLOOKUP(INDIRECT("F45"),'18'!$A$4:$B$60,2,0),"")} | AA45: {=IFERROR(VLOOKUP(INDIRECT("G45"),'18'!$A$4:$B$60,2,0),"")}
B46: 38 | H46: =_xlfn.CONCAT(Y46&" "&Z46&" "&AA46) | Y46: {=IFERROR(VLOOKUP(INDIRECT("E46"),'18'!$A$4:$B$60,2,0),"")} | Z46: {=IFERROR(VLOOKUP(INDIRECT("F46"),'18'!$A$4:$B$60,2,0),"")} | AA46: {=IFERROR(VLOOKUP(INDIRECT("G46"),'18'!$A$4:$B$60,2,0),"")}
B47: 39 | H47: =_xlfn.CONCAT(Y47&" "&Z47&" "&AA47) | Y47: {=IFERROR(VLOOKUP(INDIRECT("E47"),'18'!$A$4:$B$60,2,0),"")} | Z47: {=IFERROR(VLOOKUP(INDIRECT("F47"),'18'!$A$4:$B$60,2,0),"")} | AA47: {=IFERROR(VLOOKUP(INDIRECT("G47"),'18'!$A$4:$B$60,2,0),"")}
B48: 40 | H48: =_xlfn.CONCAT(Y48&" "&Z48&" "&AA48) | Y48: {=IFERROR(VLOOKUP(INDIRECT("E48"),'18'!$A$4:$B$60,2,0),"")} | Z48: {=IFERROR(VLOOKUP(INDIRECT("F48"),'18'!$A$4:$B$60,2,0),"")} | AA48: {=IFERROR(VLOOKUP(INDIRECT("G48"),'18'!$A$4:$B$60,2,0),"")}
B49: 41 | H49: =_xlfn.CONCAT(Y49&" "&Z49&" "&AA49) | Y49: {=IFERROR(VLOOKUP(INDIRECT("E49"),'18'!$A$4:$B$60,2,0),"")} | Z49: {=IFERROR(VLOOKUP(INDIRECT("F49"),'18'!$A$4:$B$60,2,0),"")} | AA49: {=IFERROR(VLOOKUP(INDIRECT("G49"),'18'!$A$4:$B$60,2,0),"")}
B50: 42 | H50: =_xlfn.CONCAT(Y50&" "&Z50&" "&AA50) | Y50: {=IFERROR(VLOOKUP(INDIRECT("E50"),'18'!$A$4:$B$60,2,0),"")} | Z50: {=IFERROR(VLOOKUP(INDIRECT("F50"),'18'!$A$4:$B$60,2,0),"")} | AA50: {=IFERROR(VLOOKUP(INDIRECT("G50"),'18'!$A$4:$B$60,2,0),"")}
B51: 43 | H51: =_xlfn.CONCAT(Y51&" "&Z51&" "&AA51) | Y51: {=IFERROR(VLOOKUP(INDIRECT("E51"),'18'!$A$4:$B$60,2,0),"")} | Z51: {=IFERROR(VLOOKUP(INDIRECT("F51"),'18'!$A$4:$B$60,2,0),"")} | AA51: {=IFERROR(VLOOKUP(INDIRECT("G51"),'18'!$A$4:$B$60,2,0),"")}
B52: 44 | H52: =_xlfn.CONCAT(Y52&" "&Z52&" "&AA52) | Y52: {=IFERROR(VLOOKUP(INDIRECT("E52"),'18'!$A$4:$B$60,2,0),"")} | Z52: {=IFERROR(VLOOKUP(INDIRECT("F52"),'18'!$A$4:$B$60,2,0),"")} | AA52: {=IFERROR(VLOOKUP(INDIRECT("G52"),'18'!$A$4:$B$60,2,0),"")}
B53: 45 | H53: =_xlfn.CONCAT(Y53&" "&Z53&" "&AA53) | Y53: {=IFERROR(VLOOKUP(INDIRECT("E53"),'18'!$A$4:$B$60,2,0),"")} | Z53: {=IFERROR(VLOOKUP(INDIRECT("F53"),'18'!$A$4:$B$60,2,0),"")} | AA53: {=IFERROR(VLOOKUP(INDIRECT("G53"),'18'!$A$4:$B$60,2,0),"")}
B54: 46 | H54: =_xlfn.CONCAT(Y54&" "&Z54&" "&AA54) | Y54: {=IFERROR(VLOOKUP(INDIRECT("E54"),'18'!$A$4:$B$60,2,0),"")} | Z54: {=IFERROR(VLOOKUP(INDIRECT("F54"),'18'!$A$4:$B$60,2,0),"")} | AA54: {=IFERROR(VLOOKUP(INDIRECT("G54"),'18'!$A$4:$B$60,2,0),"")}
B55: 47 | H55: =_xlfn.CONCAT(Y55&" "&Z55&" "&AA55) | Y55: {=IFERROR(VLOOKUP(INDIRECT("E55"),'18'!$A$4:$B$60,2,0),"")} | Z55: {=IFERROR(VLOOKUP(INDIRECT("F55"),'18'!$A$4:$B$60,2,0),"")} | AA55: {=IFERROR(VLOOKUP(INDIRECT("G55"),'18'!$A$4:$B$60,2,0),"")}
B56: 48 | H56: =_xlfn.CONCAT(Y56&" "&Z56&" "&AA56) | Y56: {=IFERROR(VLOOKUP(INDIRECT("E56"),'18'!$A$4:$B$60,2,0),"")} | Z56: {=IFERROR(VLOOKUP(INDIRECT("F56"),'18'!$A$4:$B$60,2,0),"")} | AA56: {=IFERROR(VLOOKUP(INDIRECT("G56"),'18'!$A$4:$B$60,2,0),"")}
B57: 49 | H57: =_xlfn.CONCAT(Y57&" "&Z57&" "&AA57) | Y57: {=IFERROR(VLOOKUP(INDIRECT("E57"),'18'!$A$4:$B$60,2,0),"")} | Z57: {=IFERROR(VLOOKUP(INDIRECT("F57"),'18'!$A$4:$B$60,2,0),"")} | AA57: {=IFERROR(VLOOKUP(INDIRECT("G57"),'18'!$A$4:$B$60,2,0),"")}
B58: 50 | H58: =_xlfn.CONCAT(Y58&" "&Z58&" "&AA58) | Y58: {=IFERROR(VLOOKUP(INDIRECT("E58"),'18'!$A$4:$B$60,2,0),"")} | Z58: {=IFERROR(VLOOKUP(INDIRECT("F58"),'18'!$A$4:$B$60,2,0),"")} | AA58: {=IFERROR(VLOOKUP(INDIRECT("G58"),'18'!$A$4:$B$60,2,0),"")}
B59: 51 | H59: =_xlfn.CONCAT(Y59&" "&Z59&" "&AA59) | Y59: {=IFERROR(VLOOKUP(INDIRECT("E59"),'18'!$A$4:$B$60,2,0),"")} | Z59: {=IFERROR(VLOOKUP(INDIRECT("F59"),'18'!$A$4:$B$60,2,0),"")} | AA59: {=IFERROR(VLOOKUP(INDIRECT("G59"),'18'!$A$4:$B$60,2,0),"")}
B60: 52 | H60: =_xlfn.CONCAT(Y60&" "&Z60&" "&AA60) | Y60: {=IFERROR(VLOOKUP(INDIRECT("E60"),'18'!$A$4:$B$60,2,0),"")} | Z60: {=IFERROR(VLOOKUP(INDIRECT("F60"),'18'!$A$4:$B$60,2,0),"")} | AA60: {=IFERROR(VLOOKUP(INDIRECT("G60"),'18'!$A$4:$B$60,2,0),"")}
B62: 1 | C62: 初任者が２人以上の場合、それぞれ別葉に作成する。
B63: 2 | C63: 実施日の確定が難しい場合は、実施の「月」のみを記入したり空欄にしたりする。
E66: ＜省略する研修項目＞
E68: 項目番号 | H68: 研 修 項 目 | I68: 研修項目を省略する理由 | N68: ③省略する研修項目番号
H69: {=IFERROR(VLOOKUP(INDIRECT("E69"),'18'!$A$4:$B$60,2,0),"")} | Z69: {=IFERROR(VLOOKUP(INDIRECT("F9"),'18'!$A$4:$B$60,2,0),"")} | AA69: {=IFERROR(VLOOKUP(INDIRECT("G9"),'18'!$A$4:$B$60,2,0),"")}
H70: {=IFERROR(VLOOKUP(INDIRECT("E70"),'18'!$A$4:$B$60,2,0),"")} | N70: 52項目中 | Q70: =52-Q10 -> 52 | T70: 項目省略する | Z70: {=IFERROR(VLOOKUP(INDIRECT("F10"),'18'!$A$4:$B$60,2,0),"")} | AA70: {=IFERROR(VLOOKUP(INDIRECT("G10"),'18'!$A$4:$B$60,2,0),"")}
H71: {=IFERROR(VLOOKUP(INDIRECT("E71"),'18'!$A$4:$B$60,2,0),"")}
H72: {=IFERROR(VLOOKUP(INDIRECT("E72"),'18'!$A$4:$B$60,2,0),"")} | N72: 1 | O72: 2 | P72: 3 | Q72: 4 | R72: 5 | S72: 6 | T72: 7 | U72: 8 | V72: 9 | W72: 10 | Z72: {=IFERROR(VLOOKUP(INDIRECT("F12"),'18'!$A$4:$B$60,2,0),"")} | AA72: {=IFERROR(VLOOKUP(INDIRECT("G12"),'18'!$A$4:$B$60,2,0),"")}
H73: {=IFERROR(VLOOKUP(INDIRECT("E73"),'18'!$A$4:$B$60,2,0),"")} | N73: 11 | O73: 12 | P73: 13 | Q73: 14 | R73: 15 | S73: 16 | T73: 17 | U73: 18 | V73: 19 | W73: 20 | Z73: {=IFERROR(VLOOKUP(INDIRECT("F13"),'18'!$A$4:$B$60,2,0),"")} | AA73: {=IFERROR(VLOOKUP(INDIRECT("G13"),'18'!$A$4:$B$60,2,0),"")}
H74: {=IFERROR(VLOOKUP(INDIRECT("E74"),'18'!$A$4:$B$60,2,0),"")} | N74: 21 | O74: 22 | P74: 23 | Q74: 24 | R74: 25 | S74: 26 | T74: 27 | U74: 28 | V74: 29 | W74: 30 | Y74: {=IFERROR(VLOOKUP(INDIRECT("E14"),'18'!$A$4:$B$60,2,0),"")} | Z74: {=IFERROR(VLOOKUP(INDIRECT("F14"),'18'!$A$4:$B$60,2,0),"")} | AA74: {=IFERROR(VLOOKUP(INDIRECT("G14"),'18'!$A$4:$B$60,2,0),"")}
H75: {=IFERROR(VLOOKUP(INDIRECT("E75"),'18'!$A$4:$B$60,2,0),"")} | N75: 31 | O75: 32 | P75: 33 | Q75: 34 | R75: 35 | S75: 36 | T75: 37 | U75: 38 | V75: 39 | W75: 40 | Y75: {=IFERROR(VLOOKUP(INDIRECT("E15"),'18'!$A$4:$B$60,2,0),"")} | Z75: {=IFERROR(VLOOKUP(INDIRECT("F15"),'18'!$A$4:$B$60,2,0),"")} | AA75: {=IFERROR(VLOOKUP(INDIRECT("G15"),'18'!$A$4:$B$60,2,0),"")}
H76: {=IFERROR(VLOOKUP(INDIRECT("E76"),'18'!$A$4:$B$60,2,0),"")} | N76: 41 | O76: 42 | P76: 43 | Q76: 44 | R76: 45 | S76: 46 | T76: 47 | U76: 48 | V76: 49 | W76: 50 | Y76: {=IFERROR(VLOOKUP(INDIRECT("E16"),'18'!$A$4:$B$60,2,0),"")} | Z76: {=IFERROR(VLOOKUP(INDIRECT("F16"),'18'!$A$4:$B$60,2,0),"")} | AA76: {=IFERROR(VLOOKUP(INDIRECT("G16"),'18'!$A$4:$B$60,2,0),"")}
H77: {=IFERROR(VLOOKUP(INDIRECT("E77"),'18'!$A$4:$B$60,2,0),"")} | N77: 51 | O77: 52 | Y77: {=IFERROR(VLOOKUP(INDIRECT("E17"),'18'!$A$4:$B$60,2,0),"")} | Z77: {=IFERROR(VLOOKUP(INDIRECT("F17"),'18'!$A$4:$B$60,2,0),"")} | AA77: {=IFERROR(VLOOKUP(INDIRECT("G17"),'18'!$A$4:$B$60,2,0),"")}
H78: {=IFERROR(VLOOKUP(INDIRECT("E78"),'18'!$A$4:$B$60,2,0),"")} | Y78: {=IFERROR(VLOOKUP(INDIRECT("E18"),'18'!$A$4:$B$60,2,0),"")} | Z78: {=IFERROR(VLOOKUP(INDIRECT("F18"),'18'!$A$4:$B$60,2,0),"")} | AA78: {=IFERROR(VLOOKUP(INDIRECT("G18"),'18'!$A$4:$B$60,2,0),"")}
H79: {=IFERROR(VLOOKUP(INDIRECT("E79"),'18'!$A$4:$B$60,2,0),"")} | O79: …省略する研修項目番号 | Y79: {=IFERROR(VLOOKUP(INDIRECT("E19"),'18'!$A$4:$B$60,2,0),"")} | Z79: {=IFERROR(VLOOKUP(INDIRECT("F19"),'18'!$A$4:$B$60,2,0),"")} | AA79: {=IFERROR(VLOOKUP(INDIRECT("G19"),'18'!$A$4:$B$60,2,0),"")}
H80: {=IFERROR(VLOOKUP(INDIRECT("E80"),'18'!$A$4:$B$60,2,0),"")} | Y80: {=IFERROR(VLOOKUP(INDIRECT("E20"),'18'!$A$4:$B$60,2,0),"")} | Z80: {=IFERROR(VLOOKUP(INDIRECT("F20"),'18'!$A$4:$B$60,2,0),"")} | AA80: {=IFERROR(VLOOKUP(INDIRECT("G20"),'18'!$A$4:$B$60,2,0),"")}
H81: {=IFERROR(VLOOKUP(INDIRECT("E81"),'18'!$A$4:$B$60,2,0),"")} | Y81: {=IFERROR(VLOOKUP(INDIRECT("E21"),'18'!$A$4:$B$60,2,0),"")} | Z81: {=IFERROR(VLOOKUP(INDIRECT("F21"),'18'!$A$4:$B$60,2,0),"")} | AA81: {=IFERROR(VLOOKUP(INDIRECT("G21"),'18'!$A$4:$B$60,2,0),"")}
H82: {=IFERROR(VLOOKUP(INDIRECT("E82"),'18'!$A$4:$B$60,2,0),"")} | Y82: {=IFERROR(VLOOKUP(INDIRECT("E22"),'18'!$A$4:$B$60,2,0),"")} | Z82: {=IFERROR(VLOOKUP(INDIRECT("F22"),'18'!$A$4:$B$60,2,0),"")} | AA82: {=IFERROR(VLOOKUP(INDIRECT("G22"),'18'!$A$4:$B$60,2,0),"")}
H83: {=IFERROR(VLOOKUP(INDIRECT("E83"),'18'!$A$4:$B$60,2,0),"")} | Y83: {=IFERROR(VLOOKUP(INDIRECT("E23"),'18'!$A$4:$B$60,2,0),"")} | Z83: {=IFERROR(VLOOKUP(INDIRECT("F23"),'18'!$A$4:$B$60,2,0),"")} | AA83: {=IFERROR(VLOOKUP(INDIRECT("G23"),'18'!$A$4:$B$60,2,0),"")}
H84: {=IFERROR(VLOOKUP(INDIRECT("E84"),'18'!$A$4:$B$60,2,0),"")} | Y84: {=IFERROR(VLOOKUP(INDIRECT("E24"),'18'!$A$4:$B$60,2,0),"")} | Z84: {=IFERROR(VLOOKUP(INDIRECT("F24"),'18'!$A$4:$B$60,2,0),"")} | AA84: {=IFERROR(VLOOKUP(INDIRECT("G24"),'18'!$A$4:$B$60,2,0),"")}
H85: {=IFERROR(VLOOKUP(INDIRECT("E85"),'18'!$A$4:$B$60,2,0),"")} | Y85: {=IFERROR(VLOOKUP(INDIRECT("E25"),'18'!$A$4:$B$60,2,0),"")} | Z85: {=IFERROR(VLOOKUP(INDIRECT("F25"),'18'!$A$4:$B$60,2,0),"")} | AA85: {=IFERROR(VLOOKUP(INDIRECT("G25"),'18'!$A$4:$B$60,2,0),"")}

Sheet 17
B2: (2) センター等研修
F3: 学校名 | G3: {=INDIRECT("5!E5")} -> 0
F5: 初任者名 | G5: {=INDIRECT("5!A27")} -> 0
B7: 月 | C7: 日 | D7: 講座番号 | E7: 講 座 名 | F7: 場 所 | G7: 備 考
B8: {=IFERROR(VLOOKUP(INDIRECT("D8"),'20'!$A$3:$C$76,2,0),"")} | C8: {=IFERROR(VLOOKUP(INDIRECT("D8"),'20'!$A$3:$C$76,3,0),"")} | E8: {=IFERROR(VLOOKUP(INDIRECT("D8"),'20'!$D$3:$E$76,2,0),"")} | F8: {=IFERROR(VLOOKUP(INDIRECT("D8"),'20'!$D$3:$G$76,4,0),"")}
B9: {=IFERROR(VLOOKUP(INDIRECT("D9"),'20'!$A$3:$C$76,2,0),"")} | C9: {=IFERROR(VLOOKUP(INDIRECT("D9"),'20'!$A$3:$C$76,3,0),"")} | E9: {=IFERROR(VLOOKUP(INDIRECT("D9"),'20'!$D$3:$E$76,2,0),"")} | F9: {=IFERROR(VLOOKUP(INDIRECT("D9"),'20'!$D$3:$G$76,4,0),"")}
B10: {=IFERROR(VLOOKUP(INDIRECT("D10"),'20'!$A$3:$C$76,2,0),"")} | C10: {=IFERROR(VLOOKUP(INDIRECT("D10"),'20'!$A$3:$C$76,3,0),"")} | E10: {=IFERROR(VLOOKUP(INDIRECT("D10"),'20'!$D$3:$E$76,2,0),"")} | F10: {=IFERROR(VLOOKUP(INDIRECT("D10"),'20'!$D$3:$G$76,4,0),"")}
B11: {=IFERROR(VLOOKUP(INDIRECT("D11"),'20'!$A$3:$C$76,2,0),"")} | C11: {=IFERROR(VLOOKUP(INDIRECT("D11"),'20'!$A$3:$C$76,3,0),"")} | E11: {=IFERROR(VLOOKUP(INDIRECT("D11"),'20'!$D$3:$E$76,2,0),"")} | F11: {=IFERROR(VLOOKUP(INDIRECT("D11"),'20'!$D$3:$G$76,4,0),"")}
B12: {=IFERROR(VLOOKUP(INDIRECT("D12"),'20'!$A$3:$C$76,2,0),"")} | C12: {=IFERROR(VLOOKUP(INDIRECT("D12"),'20'!$A$3:$C$76,3,0),"")} | E12: {=IFERROR(VLOOKUP(INDIRECT("D12"),'20'!$D$3:$E$76,2,0),"")} | F12: {=IFERROR(VLOOKUP(INDIRECT("D12"),'20'!$D$3:$G$76,4,0),"")}
B13: {=IFERROR(VLOOKUP(INDIRECT("D13"),'20'!$A$3:$C$76,2,0),"")} | C13: {=IFERROR(VLOOKUP(INDIRECT("D13"),'20'!$A$3:$C$76,3,0),"")} | E13: {=IFERROR(VLOOKUP(INDIRECT("D13"),'20'!$D$3:$E$76,2,0),"")} | F13: {=IFERROR(VLOOKUP(INDIRECT("D13"),'20'!$D$3:$G$76,4,0),"")}
B14: {=IFERROR(VLOOKUP(INDIRECT("D14"),'20'!$A$3:$C$76,2,0),"")} | C14: {=IFERROR(VLOOKUP(INDIRECT("D14"),'20'!$A$3:$C$76,3,0),"")} | E14: {=IFERROR(VLOOKUP(INDIRECT("D14"),'20'!$D$3:$E$76,2,0),"")} | F14: {=IFERROR(VLOOKUP(INDIRECT("D14"),'20'!$D$3:$G$76,4,0),"")}
B15: {=IFERROR(VLOOKUP(INDIRECT("D15"),'20'!$A$3:$C$76,2,0),"")} | C15: {=IFERROR(VLOOKUP(INDIRECT("D15"),'20'!$A$3:$C$76,3,0),"")} | E15: {=IFERROR(VLOOKUP(INDIRECT("D15"),'20'!$D$3:$E$76,2,0),"")} | F15: {=IFERROR(VLOOKUP(INDIRECT("D15"),'20'!$D$3:$G$76,4,0),"")}
B16: {=IFERROR(VLOOKUP(INDIRECT("D16"),'20'!$A$3:$C$76,2,0),"")} | C16: {=IFERROR(VLOOKUP(INDIRECT("D16"),'20'!$A$3:$C$76,3,0),"")} | E16: {=IFERROR(VLOOKUP(INDIRECT("D16"),'20'!$D$3:$E$76,2,0),"")} | F16: {=IFERROR(VLOOKUP(INDIRECT("D16"),'20'!$D$3:$G$76,4,0),"")}
B17: {=IFERROR(VLOOKUP(INDIRECT("D17"),'20'!$A$3:$C$76,2,0),"")} | C17: {=IFERROR(VLOOKUP(INDIRECT("D17"),'20'!$A$3:$C$76,3,0),"")} | E17: {=IFERROR(VLOOKUP(INDIRECT("D17"),'20'!$D$3:$E$76,2,0),"")} | F17: {=IFERROR(VLOOKUP(INDIRECT("D17"),'20'!$D$3:$G$76,4,0),"")}
B18: {=IFERROR(VLOOKUP(INDIRECT("D18"),'20'!$A$3:$C$76,2,0),"")} | C18: {=IFERROR(VLOOKUP(INDIRECT("D18"),'20'!$A$3:$C$76,3,0),"")} | E18: {=IFERROR(VLOOKUP(INDIRECT("D18"),'20'!$D$3:$E$76,2,0),"")} | F18: {=IFERROR(VLOOKUP(INDIRECT("D18"),'20'!$D$3:$G$76,4,0),"")}
B19: {=IFERROR(VLOOKUP(INDIRECT("D19"),'20'!$A$3:$C$76,2,0),"")} | C19: {=IFERROR(VLOOKUP(INDIRECT("D19"),'20'!$A$3:$C$76,3,0),"")} | E19: {=IFERROR(VLOOKUP(INDIRECT("D19"),'20'!$D$3:$E$76,2,0),"")} | F19: {=IFERROR(VLOOKUP(INDIRECT("D19"),'20'!$D$3:$G$76,4,0),"")}
B20: {=IFERROR(VLOOKUP(INDIRECT("D20"),'20'!$A$3:$C$76,2,0),"")} | C20: {=IFERROR(VLOOKUP(INDIRECT("D20"),'20'!$A$3:$C$76,3,0),"")} | E20: {=IFERROR(VLOOKUP(INDIRECT("D20"),'20'!$D$3:$E$76,2,0),"")} | F20: {=IFERROR(VLOOKUP(INDIRECT("D20"),'20'!$D$3:$G$76,4,0),"")}
B21: {=IFERROR(VLOOKUP(INDIRECT("D21"),'20'!$A$3:$C$76,2,0),"")} | C21: {=IFERROR(VLOOKUP(INDIRECT("D21"),'20'!$A$3:$C$76,3,0),"")} | E21: {=IFERROR(VLOOKUP(INDIRECT("D21"),'20'!$D$3:$E$76,2,0),"")} | F21: {=IFERROR(VLOOKUP(INDIRECT("D21"),'20'!$D$3:$G$76,4,0),"")}
B22: {=IFERROR(VLOOKUP(INDIRECT("D22"),'20'!$A$3:$C$76,2,0),"")} | C22: {=IFERROR(VLOOKUP(INDIRECT("D22"),'20'!$A$3:$C$76,3,0),"")} | E22: {=IFERROR(VLOOKUP(INDIRECT("D22"),'20'!$D$3:$E$76,2,0),"")} | F22: {=IFERROR(VLOOKUP(INDIRECT("D22"),'20'!$D$3:$G$76,4,0),"")}
B23: {=IFERROR(VLOOKUP(INDIRECT("D23"),'20'!$A$3:$C$76,2,0),"")} | C23: {=IFERROR(VLOOKUP(INDIRECT("D23"),'20'!$A$3:$C$76,3,0),"")} | E23: {=IFERROR(VLOOKUP(INDIRECT("D23"),'20'!$D$3:$E$76,2,0),"")} | F23: {=IFERROR(VLOOKUP(INDIRECT("D23"),'20'!$D$3:$G$76,4,0),"")}
B24: {=IFERROR(VLOOKUP(INDIRECT("D24"),'20'!$A$3:$C$76,2,0),"")} | C24: {=IFERROR(VLOOKUP(INDIRECT("D24"),'20'!$A$3:$C$76,3,0),"")} | E24: {=IFERROR(VLOOKUP(INDIRECT("D24"),'20'!$D$3:$E$76,2,0),"")} | F24: {=IFERROR(VLOOKUP(INDIRECT("D24"),'20'!$D$3:$G$76,4,0),"")}
B25: {=IFERROR(VLOOKUP(INDIRECT("D25"),'20'!$A$3:$C$76,2,0),"")} | C25: {=IFERROR(VLOOKUP(INDIRECT("D25"),'20'!$A$3:$C$76,3,0),"")} | E25: {=IFERROR(VLOOKUP(INDIRECT("D25"),'20'!$D$3:$E$76,2,0),"")} | F25: {=IFERROR(VLOOKUP(INDIRECT("D25"),'20'!$D$3:$G$76,4,0),"")}
B26: 他 校 種 体 験 研 修
B27: 月 | C27: 日 | D27: 内 容 | F27: 場 所 | G27: 備 考
E31: 合計 | G31: 日
B36: １ 初任者が２人以上の場合、それぞれ別葉に作成する。
B37: ２ 実施予定時期の早い順に記入する。
B38: ３ 実施日が確定していない場合は、空欄とする。
B39: ４ 実施場所が確定していない場合は、「未定」と記入する。

Sheet 18
A1: 勤務校研修項目一覧
A2: 項目番号 | B2: 研修項目
A3: Ａ 本校の教育
A4: 1 | B4: 期待される教員としての心構え
A5: 2 | B5: 本校の教育概要
A6: 3 | B6: 学校運営と校務分掌
A7: 4 | B7: 本校の教育課程と特色ある学校づくり
A8: 5 | B8: ＰＴＡとの連携
A9: 6 | B9: 地域社会・環境の理解と連携
A10: 7 | B10: 学校段階等間の接続
A11: 8 | B11: 様々な文書の取扱い
A12: Ｂ 教育活動
A13: 9 | B13: 育成を目指す資質・能力
A14: 10 | B14: 主体的・対話的で深い学びの実現
A15: 11 | B15: 言語環境の整備と言語活動の充実
A16: 12 | B16: 道徳教育
A17: 13 | B17: 総合的な学習の時間・総合的な探究の時間
A18: 14 | B18: 特別活動
A19: 15 | B19: 人権教育
A20: 16 | B20: 特別支援教育
A21: 17 | B21: 学校保健
A22: 18 | B22: 学校安全・危機管理
A23: 19 | B23: 食育・学校給食
A24: 20 | B24: 情報教育
... A27: 23 | B27: 学校教育全体で進める教育活動
A28: Ｃ 生徒指導と教育相談
A29: 24 | B29: 生徒指導
A30: 25 | B30: 基本的な生活習慣とその指導
A31: 26 | B31: 児童生徒理解
A32: 27 | B32: 児童生徒の問題行動
A33: 28 | B33: 教育相談
A34: 29 | B34: 不登校・いじめ
A35: 30 | B35: 保護者連携
A36: Ｄ 学級・ホームルーム経営
A37: 31 | B37: 学級・ホームルーム経営の意義
A38: 32 | B38: 学級・ホームルーム経営の実際と工夫
A39: 33 | B39: 保護者と連携を図った学級・ホームルーム経営
A40: 34 | B40: 学級・ホームルーム事務の処理
A41: Ｅ 授業研究
A42: 35 | B42: 指導計画の作成(1)‐指導計画の作成‐
A43: 36 | B43: 指導計画の作成(2)‐学習指導案の作成‐
A44: 37 | B44: 研究授業(1)‐課題の発見‐
A45: 38 | B45: 研究授業(2)‐事前・事後研究‐
A46: 39 | B46: 研究授業(3)‐課題の整理‐
A47: 40 | B47: 授業参観（教科）(1)‐授業改善に生かす視点‐
A48: 41 | B48: 授業参観（教科）(2)‐教科教育の基礎技術‐
A49: 42 | B49: 授業参観（教科）(3)‐授業における児童生徒理解‐
A50: 43 | B50: 授業参観（教科）(4)‐授業改善の方策‐
A51: 44 | B51: 授業参観（教科）(5)‐視野を広げる‐
A52: 45 | B52: 授業参観（領域等）
A53: 46 | B53: 指導方法の工夫(1)‐個に応じた指導等‐
... A57: 50 | B57: 教育施設・設備や教材・教具の有効な活用
A58: Ｆ 教育実践の省察と展望
A59: 51 | B59: 教育実践の評価と課題及び展望
A60: 52 | B60: １年間の研修のまとめ

Sheet 19
A1: 区分 | B1: 項目番号 | C1: 研修項目 | D1: 主な内容（参考例）
A2: Ａ 本校の教育 | B2: 1 | C2: 期待される教員としての心構え | D2: ○求められる教員の資質能力 ○教員の服務 ○研修の在り方
D3: ○コンプライアンス意識の向上 〇多様性の尊重やハラスメント防止等
B4: 2 | C4: 本校の教育概要 | D4: ○本校の沿革と教育方針 ○特色ある学校づくりの推進
D5: ○学校・地域の実態
B6: 3 | C6: 学校運営と校務分掌 | D6: ○本校の校務分掌組織の在り方と運営 ○チーム学校
D7: ○校務分掌における具体的な担当内容 ○本校の職員会議等
B8: 4 | C8: 本校の教育課程と特色ある学校づくり | D8: ○本校の教育課程の特色 ○カリキュラム・マネジメント ○社会に開かれた教育課程 ○特色ある学校づくりと地域連携
B9: 5 | C9: ＰＴＡとの連携 | D9: ○ＰＴＡの目的・組織
D10: ○本校のＰＴＡ活動の概要
B11: 6 | C11: 地域社会・環境の理解と連携 | D11: ○地域の資産・人材等の理解 ○地域の歴史・文化の理解
D12: ○具体的に進める地域社会との連携・協働
B13: 7 | C13: 学校段階等間の接続 | D13: ○学校段階等間の円滑な接続
D14: ○本校の学校間の連携の実践と課題
B15: 8 | C15: 様々な文書の取扱い | D15: ○法定表簿の種類と意義 ○法定表簿等の記入と適切な表現
D16: ○本校における文書事務の実際
A17: Ｂ 教育活動 | B17: 9 | C17: 育成を目指す資質・能力 | D17: ○知識及び技能 ○思考力、判断力、表現力等
D18: ○学びに向かう力、人間性等 ○教科等横断的な視点に立った資質・能力
B19: 10 | C19: 主体的・対話的で深い学びの実現 | D19: ○授業改善の視点 ○主体的な学び 〇対話的な学び 〇深い学び
D20: 〇個別最適な学びと協働的な学びの一体的充実
B21: 11 | C21: 言語環境の整備と言語活動の充実 | D21: ○本校の言語に関する実態と言語環境 ○学習の基盤となる言語能力 ○各教科における言語活動の充実 ○読書活動
B22: 12 | C22: 道徳教育 | D22: ○本校の道徳教育の計画と指導 ○特別の教科 道徳の指導（小学校･中学校・義務教育学校） ○「ホームルーム活動」と道徳教育（高等学校）
B23: 13 | C23: 総合的な学習の時間・総合的な探究の時間 | D23: ○総合的な学習の時間・総合的な探究の時間の進め方 ○本校の総合的な学習の時間・総合的な探究の時間の計画・実践と課題
B24: 14 | C24: 特別活動 | D24: ○本校の特別活動の内容と計画 ○本校の学校行事の特色
D25: ○児童・生徒会活動とその活性化
B26: 15 | C26: 人権教育 | D26: ○本校の人権教育の実践と課題
D27: ○本校の人権学習の進め方
B28: 16 | C28: 特別支援教育 | D28: ○障害の理解、個別の教育支援計画・個別の指導計画の作成 ○交流及び共同学習の推進、障害のある児童生徒の理解 ○本校の特別支援教育の実践と課題
B29: 17 | C29: 学校保健 | D29: ○保健管理と保健教育 ○性に関する指導内容と計画
D30: ○本校の健康安全教育の実践と課題
B31: 18 | C31: 学校安全・危機管理 | D31: ○安全管理と安全指導 ○危機管理
D32: ○本校の防災計画
B33: 19 | C33: 食育・学校給食 | D33: ○食に関する指導
D34: ○給食指導の内容と計画
B35: 20 | C35: 情報教育 | D35: ○教育の情報化
D36: ○本校の情報教育の推進とＩＣＴの活用
B37: 21 | C37: キャリア教育 | D37: ○キャリア教育の在り方
D38: ○本校のキャリア教育の現状と推進上の課題
B39: 22 | C39: 伝統文化 | D39: ○伝統や文化に関する教育の充実
D40: ○新たな価値を生み出す力や京都から世界へ発信し国際社会で活躍できる力の育成
B41: 23 | C41: 学校教育全体で進める教育活動 | D41: ○主権者教育
D42: ○環境教育
A43: 区分 | B43: 項目番号 | C43: 研修項目 | D43: 主な内容（参考例）
A44: Ｃ 生徒指導と教育相談 | B44: 24 | C44: 生徒指導 | D44: ○生徒指導の在り方 ○生徒指導の目標･方針･具体的取組
D45: ○生徒指導の現状と課題 ○関係諸機関との連携
B46: 25 | C46: 基本的な生活習慣とその指導 | D46: ○基本的な生活習慣の指導の意義 ○基本的な生活習慣と児童生徒の実態
D47: ○本校の基本的な生活習慣の指導実践
B48: 26 | C48: 児童生徒理解 | D48: ○児童生徒理解の在り方 ○児童生徒理解を進める視点
D49: ○児童生徒理解を進める具体的方法
B50: 27 | C50: 児童生徒の問題行動 | D50: ○問題行動の捉え方 ○生徒指導の機能を生かした問題行動の指導
D51: ○本校の問題行動の特徴と具体的指導
B52: 28 | C52: 教育相談 | D52: ○教育相談の在り方や校内体制 ○教育相談の目標･方針･具体的取組
D53: ○教育相談の実践と課題
B54: 29 | C54: 不登校・いじめ | D54: ○不登校・いじめの未然防止 ○本校のいじめ問題の状況とその指導
D55: ○本校の不登校の状況とその援助・指導
D56: ○早期発見と教師の指導力の向上 ○指導体制と共通理解
B57: 30 | C57: 保護者連携 | D57: ○開かれた学校と保護者連携 ○家庭訪問のねらい、在り方と注意点
D58: ○本校の保護者連携の実践と課題
A59: Ｄ 学級・ホームルーム経営 | B59: 31 | C59: 学級・ホームルーム経営の意義 | D59: ○学級・ホームルーム経営の意義 ○生活づくりへの参画
D60: ○学級・ホームルーム活動の目標・内容・計画 ○よりよい人間関係
D61: ○ガイダンスとカウンセリング
B62: 32 | C62: 学級・ホームルーム経営の実際と工夫 | D62: ○本校の学級・ホームルーム活動の具体的実践 ○本校の学級・ホームルーム活動の現状と課題 ○学年方針と担任の指導 ○児童生徒の個性を生かした学級・ホームルーム経営
B63: 33 | C63: 保護者と連携を図った学級・ホームルーム経営 | D63: ○学級懇談会等の意義 ○学級懇談会のもち方・進め方 ○学級通信の内容と注意点
D64: ○保護者連携を学級・ホームルーム経営に生かす視点
B65: 34 | C65: 学級・ホームルーム事務の処理 | D65: ○学級・児童生徒に関わる資料の作成
D66: ○学級事務処理を行う上での注意点
A67: Ｅ 授業研究 | B67: 35 | C67: 指導計画の作成(1) | D67: ○年間指導計画・単元の指導計画の在り方
C68: ‐指導計画の作成‐ | D68: ○本校の教育目標を踏まえた指導計画の作成
B69: 36 | C69: 指導計画の作成(2) | D69: ○本時の目標と学習過程
C70: ‐学習指導案の作成‐ | D70: ○指導と評価の一体化の視点
B71: 37 | C71: 研究授業(1) | D71: ○教科教育の基礎技術
C72: ‐課題の発見‐ | D72: ○授業における児童生徒理解
B73: 38 | C73: 研究授業(2) | D73: ○事前研究と効果的な授業の展開
C74: ‐事前・事後研究‐ | D74: ○事後研究と指導過程の評価
B75: 39 | C75: 研究授業(3) | D75: ○授業の分析と診断
C76: ‐課題の整理‐ | D76: ○授業改善のための課題の整理
B77: 40 | C77: 授業参観（教科）(1) | D77: ○自己の授業改善に生かす視点
C78: ‐授業改善に生かす視点‐ | D78: ○授業の進め方の基本
B79: 41 | C79: 授業参観（教科）(2) | D79: ○個に応じた指導の実際
C80: ‐教科教育の基礎技術‐ | D80: ○発問と助言の工夫
B81: 42 | C81: 授業参観（教科）(3) | D81: ○効果的な授業の進め方
C82: ‐授業における児童生徒理解‐ | D82: ○生徒指導の機能を生かした学習指導の工夫
B83: 43 | C83: 授業参観（教科）(4) | D83: ○指導と評価を一体化するための工夫
C84: ‐授業改善の方策‐ | D84: ○自己の授業改善の具体的方策
B85: 44 | C85: 授業参観（教科）(5) | D85: ○他学年の授業参観
C86: ‐視野を広げる‐ | D86: ○他教科の授業参観
B87: 45 | C87: 授業参観（領域等） | D87: ○外国語活動の授業参観 ○学級・ホームルーム活動の授業参観
D88: ○総合的な学習の時間・総合的な探究の時間の授業参観
A89: 区分 | B89: 項目番号 | C89: 研修項目 | D89: 主な内容（参考例）
A90: Ｅ 授業研究 | B90: 46 | C90: 指導方法の工夫(1) ‐個に応じた指導等‐ | D90: ○個に応じた指導の在り方と実践上の注意点
D91: ○基礎・基本の徹底による学力の充実・向上を図る具体的方策
D92: ○多様な指導方法の工夫 ○児童生徒に身に付けさせる学習技術
B93: 47 | C93: 指導方法の工夫(2) | D93: ○問題解決的な学習・体験的な学習のねらい
C94: ‐問題解決的な学習等‐ | D94: ○本校における問題解決的な学習・体験的な学習の実践 ○家庭学習の充実
B95: 48 | C95: 学習評価 | D95: ○学習評価の目的と様々な評価方法 ○本校の評価の体系と方法
D96: ○指導計画の作成と評価規準の設定
D97: ○本校児童生徒の学力実態の把握と分析 ○評価資料の収集・整理と活用
D98: ○テスト作成上の注意点と処理方法 ○学習評価と通知表（票）
B99: 49 | C99: 教材の研究 | D99: ○教材活用の視点と教材観 ○効果的な授業のための教材の研究
D100: ○教材開発の視点と方法 ○地域教材の開発と人材活用の視点及び方策
...

Sheet 20
A1: センター等研修項目一覧
B2: 月 | C2: 日 | D2: 講座番号 | E2: 講座名 | F2: 研修形態 | G2: 場所 | H2: 備考
A3: =D3 -> 1001 | B3: 4 | C3: 1 | D3: 1001 | E3: 初任者・新規採用者研修共通「開講式等」講座（センター） | F3: Ｗｅｂ＋集合 | G3: 所属校（園）及び総合教育センター
A4: =D4 -> 1002 | B4: 4 | C4: 1 | D4: 1002 | E4: 初任者・新規採用者研修共通「開講式等」講座（北部） | F4: Ｗｅｂ＋集合 | G4: 所属校（園）及び総合教育センター（北部）
A5: =D5 -> 1003 | B5: 4 | C5: 16 | D5: 1003 | E5: 初任者・新規採用者研修共通「初任期スタート」講座ａ | F5: 集合 | G5: 総合教育センター
A6: =D6 -> 1004 | B6: 4 | C6: 23 | D6: 1004 | E6: 初任者・新規採用者研修共通「初任期スタート」講座ｂ | F6: 集合 | G6: 総合教育センター
A7: =D7 -> 1005 | B7: 7 | C7: 21 | D7: 1005 | E7: 初任者・新規採用者研修共通「京の伝統文化体験」講座ａ | F7: Ｗｅｂ＋集合 | G7: 所属校（園）及び京都伝統工芸大学校
A8: =D8 -> 1006 | B8: 7 | C8: 22 | D8: 1006 | E8: 初任者・新規採用者研修共通「京の伝統文化体験」講座ｂ | F8: Ｗｅｂ＋集合 | G8: 所属校（園）及び京都伝統工芸大学校
A9: =D9 -> 1007 | B9: 7 | C9: 23 | D9: 1007 | E9: 初任者・新規採用者研修共通「京の伝統文化体験」講座ｃ | F9: Ｗｅｂ＋集合 | G9: 所属校（園）及び京都伝統工芸大学校
A10: =D10 -> 1008 | B10: 7 | C10: 24 | D10: 1008 | E10: 初任者・新規採用者研修共通「京の伝統文化体験」講座ｄ | F10: Ｗｅｂ＋集合 | G10: 所属校（園）及び京都伝統工芸大学校
A11: =D11 -> 1009 | B11: 6 | C11: 11 | D11: 1009 | E11: 初任者・新規採用者研修共通「健康安全教育」講座ａ | F11: Ｗｅｂ＋OL | G11: 所属校（園）
A12: =D12 -> 1010 | B12: 6 | C12: 18 | D12: 1010 | E12: 初任者・新規採用者研修共通「健康安全教育」講座ｂ | F12: Ｗｅｂ＋OL | G12: 所属校（園）
A13: =D13 -> 1011 | B13: 9 | C13: 3 | D13: 1011 | E13: 初任者・新規採用者研修共通「コミュニケーション」講座ａ | F13: Ｗｅｂ＋集合 | G13: 所属校（園）及び総合教育センター
A14: =D14 -> 1012 | B14: 9 | C14: 17 | D14: 1012 | E14: 初任者・新規採用者研修共通「コミュニケーション」講座ｂ | F14: Ｗｅｂ＋集合 | G14: 所属校（園）及び総合教育センター
... A30: =D30 -> 1113 | B30: 1 | C30: 21 | D30: 1113 | E30: 初任者研修「小学校教科教育７」講座Ｂ | F30: Ｗｅｂ＋OL | G30: 所属校（園）
A31: =D31 -> 1114 | B31: 10 | C31: 29 | D31: 1114 | E31: 初任者研修「小学校授業参観」講座Ａ | F31: 集合 | G31: 未定 | H31: 別途通知
A32: =D32 -> 1115 | B32: 11 | C32: 12 | D32: 1115 | E32: 初任者研修「小学校授業参観」講座Ｂ | F32: 集合 | G32: 未定 | H32: 別途通知
A33: =D33 -> 1201 | B33: 4 | C33: 30 | D33: 1201 | E33: 初任者研修「中学校教科教育１」講座（センター） | F33: 集合 | G33: 総合教育センター
A34: =D34 -> 1202 | B34: 4 | C34: 30 | D34: 1202 | E34: 初任者研修「中学校教科教育１」講座（北部） | F34: 集合 | G34: 総合教育センター（北部） | H34: 別日実施教科有
A35: =D35 -> 1203 | B35: 5 | C35: 28 | D35: 1203 | E35: 初任者研修「中学校教科教育２」講座（センター） | F35: Ｗｅｂ＋集合 | G35: 所属校（園）及び総合教育センター
A36: =D36 -> 1204 | B36: 5 | C36: 28 | D36: 1204 | E36: 初任者研修「中学校教科教育２」講座（北部） | F36: Ｗｅｂ＋集合 | G36: 所属校（園）及び総合教育センター（北部）
A37: =D37 -> 1205 | B37: 7 | C37: 28 | D37: 1205 | E37: 初任者研修「中学校教科教育３」講座（センター） | F37: Ｗｅｂ＋OL | G37: 所属校（園）
A38: =D38 -> 1206 | B38: 7 | C38: 28 | D38: 1206 | E38: 初任者研修「中学校教科教育３」講座（北部） | F38: Ｗｅｂ＋集合 | G38: 所属校（園）及び総合教育センター（北部） | H38: 別日実施教科有
A39: =D39 -> 1207 | B39: 10 | C39: 8 | D39: 1207 | E39: 初任者研修「中学校教科教育４」講座（センター） | F39: 集合 | G39: 総合教育センター
A40: =D40 -> 1208 | B40: 10 | C40: 8 | D40: 1208 | E40: 初任者研修「中学校教科教育４」講座（北部） | F40: 集合 | G40: 総合教育センター（北部） | H40: 別日実施教科有
A41: =D41 -> 1209 | B41: 11 | C41: 19 | D41: 1209 | E41: 初任者研修「中学校教科教育５」講座（センター） | F41: 集合 | G41: 総合教育センター
A42: =D42 -> 1210 | B42: 11 | C42: 19 | D42: 1210 | E42: 初任者研修「中学校教科教育５」講座（北部） | F42: 集合 | G42: 総合教育センター（北部）
A43: =D43 -> 1211 | B43: 1 | C43: 21 | D43: 1211 | E43: 初任者研修「中学校教科教育６」講座（センター） | F43: Ｗｅｂ＋OL | G43: 所属校（園）及び総合教育センター
A44: =D44 -> 1212 | B44: 1 | C44: 21 | D44: 1212 | E44: 初任者研修「中学校教科教育６」講座（北部） | F44: Ｗｅｂ＋OL | G44: 所属校（園）及び総合教育センター（北部）
A45: =D45 -> 1213 | B45: 11 | C45: 5 | D45: 1213 | E45: 初任者研修「中学校授業参観」講座 | F45: 集合 | G45: 未定 | H45: 別途通知
A46: =D46 -> 1214 | B46: 10 | C46: 15 | D46: 1214 | E46: 初任者研修「中学校キャリア教育」講座 | F46: Ｗｅｂ＋OL | G46: 所属校（園）
A47: =D47 -> 1301 | B47: 5 | C47: 28 | D47: 1301 | E47: 初任者研修「特別支援学校１」講座 | F47: 集合 | G47: 総合教育センター
A48: =D48 -> 1302 | B48: 6 | C48: 18 | D48: 1302 | E48: 初任者研修「特別支援学校２」講座 | F48: OL | G48: 所属校（園）
A49: =D49 -> 1303 | B49: 7 | C49: 9 | D49: 1303 | E49: 初任者研修「特別支援学校３」講座 | F49: OL | G49: 所属校（園）
A50: =D50 -> 1304 | B50: 7 | C50: 28 | D50: 1304 | E50: 初任者研修「特別支援学校４」講座 | F50: OL | G50: 所属校（園）
A51: =D51 -> 1305 | B51: 10 | C51: 1 | D51: 1305 | E51: 初任者研修「特別支援学校５」講座 | F51: 集合 | G51: 総合教育センター（北部）
A52: =D52 -> 1306 | B52: 11 | C52: 26 | D52: 1306 | E52: 初任者研修「特別支援学校６」講座 | F52: OL | G52: 所属校（園）
A53: =D53 -> 1307 | B53: 1 | C53: 21 | D53: 1307 | E53: 初任者研修「特別支援学校７」講座 | F53: OL | G53: 所属校（園）
A54: =D54 -> 1308 | B54: 10 | C54: 22 | D54: 1308 | E54: 初任者研修「特別支援学校授業参観」講座 | F54: 集合 | G54: 府立井手やまぶき支援学校
A55: =D55 -> 1401 | B55: 5 | C55: 7 | D55: 1401 | E55: 初任者研修「高等学校教科教育１」講座（センター） | F55: 集合 | G55: 総合教育センター
A56: =D56 -> 1402 | B56: 5 | C56: 7 | D56: 1402 | E56: 初任者研修「高等学校教科教育１」講座（北部） | F56: 集合 | G56: 総合教育センター（北部）
A57: =D57 -> 1403 | B57: 6 | C57: 4 | D57: 1403 | E57: 初任者研修「高等学校教科教育２」講座（センター） | F57: Ｗｅｂ＋集合 | G57: 所属校（園）及び総合教育センター
A58: =D58 -> 1404 | B58: 6 | C58: 4 | D58: 1404 | E58: 初任者研修「高等学校教科教育２」講座（北部） | F58: Ｗｅｂ＋集合 | G58: 所属校（園）及び総合教育センター（北部） | H58: 別日実施教科有
A59: =D59 -> 1405 | B59: 7 | C59: 27 | D59: 1405 | E59: 初任者研修「高等学校教科教育３」講座（センター） | F59: Ｗｅｂ＋OL | G59: 所属校（園）
A60: =D60 -> 1406 | B60: 7 | C60: 27 | D60: 1406 | E60: 初任者研修「高等学校教科教育３」講座（北部） | F60: Ｗｅｂ＋集合 | G60: 所属校（園）及び総合教育センター（北部） | H60: 別日実施教科有
A61: =D61 -> 1407 | B61: 10 | C61: 22 | D61: 1407 | E61: 初任者研修「高等学校教科教育４」講座（センター） | F61: 集合 | G61: 総合教育センター | H61: 別日実施教科有
A62: =D62 -> 1408 | B62: 10 | C62: 22 | D62: 1408 | E62: 初任者研修「高等学校教科教育４」講座（北部） | F62: 集合 | G62: 総合教育センター（北部） | H62: 別日実施教科有
A63: =D63 -> 1409 | B63: 11 | C63: 12 | D63: 1409 | E63: 初任者研修「高等学校教科教育５」講座（センター） | F63: 集合 | G63: 総合教育センター
A64: =D64 -> 1410 | B64: 11 | C64: 12 | D64: 1410 | E64: 初任者研修「高等学校教科教育５」講座（北部） | F64: 集合 | G64: 総合教育センター（北部）
A65: =D65 -> 1411 | B65: 11 | C65: 26 | D65: 1411 | E65: 初任者研修「高等学校教科教育６」講座（センター） | F65: 集合 | G65: 総合教育センター
A66: =D66 -> 1412 | B66: 11 | C66: 26 | D66: 1412 | E66: 初任者研修「高等学校教科教育６」講座（北部） | F66: 集合 | G66: 総合教育センター（北部） | H66: 別日実施教科有
A67: =D67 -> 1413 | B67: 1 | C67: 14 | D67: 1413 | E67: 初任者研修「高等学校教科教育７」講座（センター） | F67: Ｗｅｂ＋OL | G67: 所属校（園）
