Workbook
Name 項目番号１: '10'!$E$9:$E$60
Name 項目番号１: '12'!$E$9:$E$60
Name 項目番号１: '14'!$E$9:$E$60
Name 項目番号１: '16'!$E$9:$E$60
Name 項目番号１: '６'!$E$9:$E$60
Name 項目番号１: '８'!$E$9:$E$60
Name 項目番号２: '10'!$F$9:$F$60
Name 項目番号２: '12'!$F$9:$F$60
Name 項目番号２: '14'!$F$9:$F$60
Name 項目番号２: '16'!$F$9:$F$60
Name 項目番号２: '６'!$F$9:$F$60
Name 項目番号２: '８'!$F$9:$F$60
Name 項目番号３: '10'!$G$9:$G$60
Name 項目番号３: '12'!$G$9:$G$60
Name 項目番号３: '14'!$G$9:$G$60
Name 項目番号３: '16'!$G$9:$G$60
Name 項目番号３: '６'!$G$9:$G$60
Name 項目番号３: '８'!$G$9:$G$60
Name 項目番号全体: '10'!$E$9:$G$60
Name 項目番号全体: '12'!$E$9:$G$60
Name 項目番号全体: '14'!$E$9:$G$60
Name 項目番号全体: '16'!$E$9:$G$60
Name 項目番号全体: '６'!$E$9:$G$60
Name 項目番号全体: '８'!$E$9:$G$60

Sheet １
A1: シートの構成
A3: 色 | B3: シート 番号 | C3: 概要 | F3: 主な内容
B4: 1 | C4: シートの構成
B5: 2 | C5: 3‐1‐1例 | F5: 様式3-1-1の入力例
B6: 3 | C6: 3‐1‐2(1)例 | F6: 様式3-1-2（１）の入力例
B7: 4 | C7: 3‐1‐2(2)例 | F7: 様式3-1-2（２）の入力例
B8: 5 | C8: 3‐1‐1 | F8: １ 初任者、指導教員等名簿 ２ 初任者等の校務分掌等 ３ 実施体制 ４ 実施上の重点事項等
B9: 6 | C9: 3‐1‐2(1)１人目 | F9: ５ 年間指導計画 （１）勤務校研修
B10: 7 | C10: 3‐1‐2(2)１人目 | F10: （２）センター等研修
B11: 8 | C11: 3‐1‐2(1)２人目 | F11: ５ 年間指導計画 （１）勤務校研修
B12: 9 | C12: 3‐1‐2(2)２人目 | F12: （２）センター等研修
B13: 10 | C13: 3‐1‐2(1)３人目 | F13: ５ 年間指導計画 （１）勤務校研修
B14: 11 | C14: 3‐1‐2(2)３人目 | F14: （２）センター等研修
B15: 12 | C15: 3‐1‐2(1)４人目 | F15: ５ 年間指導計画 （１）勤務校研修
B16: 13 | C16: 3‐1‐2(2)４人目 | F16: （２）センター等研修
... B23: 20 | C23: センター等研修項目一覧 | F23: 日程、講座番号、講座名、研修形態、場所、備考

Sheet ２
A1: （様式３－１－１）
B3: 令和８年度初任者研修年間指導計画書
D5: 学校名 | E5: 京都府立△△中学校
D7: 校長名 | E7: ☆☆ ☆☆
G8: （公印不要）
A10: １ 初任者、指導教員等名簿
A12: 初任者 | B12: 京都 京一 | C12: 指導教員 | D12: 神戸 一郎 | F12: 教科指導員 | G12: 大阪 次郎
A19: ２ 初任者等の校務分掌等
A20: （初任者）
A21: 氏名 | C21: 担当教科 | E21: 学級・HR担任 | F21: 講師経験
A22: 京都 京一 | C22: 英語 | E22: している | F22: あり
A29: （指導教員・教科指導員）
A30: 氏名 | C30: 職名 | E30: 担当教科 | F30: 指導教員経験
A31: 神戸 一郎 | C31: 教諭 | E31: 数学 | F31: あり
A32: 大阪 次郎 | C32: 講師等 | E32: 英語 | F32: なし
A40: ３ 実施体制
A41: （校務分掌上の位置づけ等、研修実施体制上の注意事項について記入してください。）
A45: ４ 実施上の重点事項等
A46: （各学校において初任者研修を実施する上で、 重点的に取り組む事項について記入してください。）

Sheet ３
A1: (様式３－１－２)
B2: ５ 年間指導計画
B3: (1) 勤務校研修
I4: 学校名 | J4: 京都府立△△中学校
I6: 初任者名 | J6: 京都 京一 | N6: ★入力者 確認用データ | AD6: ★センター担当者 整理用データ
B8: 回数 | C8: 月 | D8: 日 | E8: 項目番号 | H8: 研 修 項 目 | I8: 講 師 | J8: 備 考（代替した研究大会名・研修会名称等） | N8: ①実施予定の研修項目番号 | AD8: ①項目別の実施予定回数
B9: 1 | C9: 4 | E9: 1 | H9: =_xlfn.CONCAT(Y9&" "&Z9&" "&AA9) -> 期待される教員としての心構え | I9: 校長 | Y9: {=IFERROR(VLOOKUP(INDIRECT("E9"),'18'!$A$4:$B$60,2,0),"")} -> 期待される教員としての心構え | Z9: {=IFERROR(VLOOKUP(INDIRECT("F9"),'18'!$A$4:$B$60,2,0),"")} | AA9: {=IFERROR(VLOOKUP(INDIRECT("G9"),'18'!$A$4:$B$60,2,0),"")} | AD9: 1 | AE9: 2 | AF9: 3 | AG9: 4 | AH9: 5 | AI9: 6 | AJ9: 7 | AK9: 8 | AL9: 9 | AM9: 10 | AN9: 11 | AO9: 12 | AP9: 13
B10: 2 | C10: 4 | E10: 2 | F10: 3 | H10: =_xlfn.CONCAT(Y10&" "&Z10&" "&AA10) -> 本校の教育概要 学校運営と校務分掌 | I10: 教頭 | N10: 52項目中 | Q10: {=SUM(--(FREQUENCY(IF((E9:G60>=1)*(E9:G60<=52), E9:G60), ROW(INDIRECT("1:52")))>0))} -> 41 | T10: 項目実施予定 | Y10: {=IFERROR(VLOOKUP(INDIRECT("E10"),'18'!$A$4:$B$60,2,0),"")} -> 本校の教育概要 | Z10: {=IFERROR(VLOOKUP(INDIRECT("F10"),'18'!$A$4:$B$60,2,0),"")} -> 学校運営と校務分掌 | AA10: {=IFERROR(VLOOKUP(INDIRECT("G10"),'18'!$A$4:$B$60,2,0),"")} | AD10: =COUNTIF($E$9:$G$60,AD9) -> 1 | AE10: =COUNTIF($E$9:$G$60,AE9) -> 1 | AF10: =COUNTIF($E$9:$G$60,AF9) -> 1 | AG10: =COUNTIF($E$9:$G$60,AG9) -> 1 | AH10: =COUNTIF($E$9:$G$60,AH9) -> 1 | AI10: =COUNTIF($E$9:$G$60,AI9) -> 1 | AJ10: =COUNTIF($E$9:$G$60,AJ9) -> 1 | AK10: =COUNTIF($E$9:$G$60,AK9) -> 1 | ... AP10: =COUNTIF($E$9:$G$60,AP9) -> 1
B11: 3 | E11: 4 | F11: 5 | G11: 6 | H11: =_xlfn.CONCAT(Y11&" "&Z11&" "&AA11) -> 本校の教育課程と特色ある学校づくり ＰＴＡとの連携 地域社会・環境の理解と連携 | I11: 教頭 | Y11: {=IFERROR(VLOOKUP(INDIRECT("E11"),'18'!$A$4:$B$60,2,0),"")} -> 本校の教育課程と特色ある学校づくり | Z11: {=IFERROR(VLOOKUP(INDIRECT("F11"),'18'!$A$4:$B$60,2,0),"")} -> ＰＴＡとの連携 | AA11: {=IFERROR(VLOOKUP(INDIRECT("G11"),'18'!$A$4:$B$60,2,0),"")} -> 地域社会・環境の理解と連携
B12: 4 | H12: =_xlfn.CONCAT(Y12&" "&Z12&" "&AA12) | N12: 1 | O12: 2 | P12: 3 | Q12: 4 | R12: 5 | S12: 6 | T12: 7 | U12: 8 | V12: 9 | W12: 10 | Y12: {=IFERROR(VLOOKUP(INDIRECT("E12"),'18'!$A$4:$B$60,2,0),"")} | Z12: {=IFERROR(VLOOKUP(INDIRECT("F12"),'18'!$A$4:$B$60,2,0),"")} | AA12: {=IFERROR(VLOOKUP(INDIRECT("G12"),'18'!$A$4:$B$60,2,0),"")} | AD12: 14 | AE12: 15 | AF12: 16 | AG12: 17 | AH12: 18 | AI12: 19 | AJ12: 20 | AK12: 21 | AL12: 22 | AM12: 23 | AN12: 24 | AO12: 25 | AP12: 26
B13: 5 | H13: =_xlfn.CONCAT(Y13&" "&Z13&" "&AA13) | N13: 11 | O13: 12 | P13: 13 | Q13: 14 | R13: 15 | S13: 16 | T13: 17 | U13: 18 | V13: 19 | W13: 20 | Y13: {=IFERROR(VLOOKUP(INDIRECT("E13"),'18'!$A$4:$B$60,2,0),"")} | Z13: {=IFERROR(VLOOKUP(INDIRECT("F13"),'18'!$A$4:$B$60,2,0),"")} | AA13: {=IFERROR(VLOOKUP(INDIRECT("G13"),'18'!$A$4:$B$60,2,0),"")} | AD13: =COUNTIF($E$9:$G$60,AD12) -> 1 | AE13: =COUNTIF($E$9:$G$60,AE12) -> 1 | AF13: =COUNTIF($E$9:$G$60,AF12) -> 1 | AG13: =COUNTIF($E$9:$G$60,AG12) -> 1 | AH13: =COUNTIF($E$9:$G$60,AH12) -> 1 | AI13: =COUNTIF($E$9:$G$60,AI12) -> 1 | AJ13: =COUNTIF($E$9:$G$60,AJ12) -> 1 | AK13: =COUNTIF($E$9:$G$60,AK12) -> 1 | ... AP13: =COUNTIF($E$9:$G$60,AP12) -> 3
B14: 6 | H14: =_xlfn.CONCAT(Y14&" "&Z14&" "&AA14) | N14: 21 | O14: 22 | P14: 23 | Q14: 24 | R14: 25 | S14: 26 | T14: 27 | U14: 28 | V14: 29 | W14: 30 | Y14: {=IFERROR(VLOOKUP(INDIRECT("E14"),'18'!$A$4:$B$60,2,0),"")} | Z14: {=IFERROR(VLOOKUP(INDIRECT("F14"),'18'!$A$4:$B$60,2,0),"")} | AA14: {=IFERROR(VLOOKUP(INDIRECT("G14"),'18'!$A$4:$B$60,2,0),"")}
B15: 7 | H15: =_xlfn.CONCAT(Y15&" "&Z15&" "&AA15) | N15: 31 | O15: 32 | P15: 33 | Q15: 34 | R15: 35 | S15: 36 | T15: 37 | U15: 38 | V15: 39 | W15: 40 | Y15: {=IFERROR(VLOOKUP(INDIRECT("E15"),'18'!$A$4:$B$60,2,0),"")} | Z15: {=IFERROR(VLOOKUP(INDIRECT("F15"),'18'!$A$4:$B$60,2,0),"")} | AA15: {=IFERROR(VLOOKUP(INDIRECT("G15"),'18'!$A$4:$B$60,2,0),"")} | AD15: 27 | AE15: 28 | AF15: 29 | AG15: 30 | AH15: 31 | AI15: 32 | AJ15: 33 | AK15: 34 | AL15: 35 | AM15: 36 | AN15: 37 | AO15: 38 | AP15: 39
B16: 8 | C16: 5 | E16: 26 | H16: =_xlfn.CONCAT(Y16&" "&Z16&" "&AA16) -> 児童生徒理解 | I16: 校内指導教員 | N16: 41 | O16: 42 | P16: 43 | Q16: 44 | R16: 45 | S16: 46 | T16: 47 | U16: 48 | V16: 49 | W16: 50 | Y16: {=IFERROR(VLOOKUP(INDIRECT("E16"),'18'!$A$4:$B$60,2,0),"")} -> 児童生徒理解 | Z16: {=IFERROR(VLOOKUP(INDIRECT("F16"),'18'!$A$4:$B$60,2,0),"")} | AA16: {=IFERROR(VLOOKUP(INDIRECT("G16"),'18'!$A$4:$B$60,2,0),"")} | AD16: =COUNTIF($E$9:$G$60,AD15) -> 1 | AE16: =COUNTIF($E$9:$G$60,AE15) -> 1 | AF16: =COUNTIF($E$9:$G$60,AF15) -> 1 | AG16: =COUNTIF($E$9:$G$60,AG15) -> 1 | AH16: =COUNTIF($E$9:$G$60,AH15) -> 1 | AI16: =COUNTIF($E$9:$G$60,AI15) -> 1 | AJ16: =COUNTIF($E$9:$G$60,AJ15) -> 1 | AK16: =COUNTIF($E$9:$G$60,AK15) -> 1 | ... AP16: =COUNTIF($E$9:$G$60,AP15) -> 1
B17: 9 | E17: 26 | H17: =_xlfn.CONCAT(Y17&" "&Z17&" "&AA17) -> 児童生徒理解 | I17: 校内指導教員 | N17: 51 | O17: 52 | Y17: {=IFERROR(VLOOKUP(INDIRECT("E17"),'18'!$A$4:$B$60,2,0),"")} -> 児童生徒理解 | Z17: {=IFERROR(VLOOKUP(INDIRECT("F17"),'18'!$A$4:$B$60,2,0),"")} | AA17: {=IFERROR(VLOOKUP(INDIRECT("G17"),'18'!$A$4:$B$60,2,0),"")}
B18: 10 | H18: =_xlfn.CONCAT(Y18&" "&Z18&" "&AA18) | Y18: {=IFERROR(VLOOKUP(INDIRECT("E18"),'18'!$A$4:$B$60,2,0),"")} | Z18: {=IFERROR(VLOOKUP(INDIRECT("F18"),'18'!$A$4:$B$60,2,0),"")} | AA18: {=IFERROR(VLOOKUP(INDIRECT("G18"),'18'!$A$4:$B$60,2,0),"")} | AD18: 40 | AE18: 41 | AF18: 42 | AG18: 43 | AH18: 44 | AI18: 45 | AJ18: 46 | AK18: 47 | AL18: 48 | AM18: 49 | AN18: 50 | AO18: 51 | AP18: 52
B19: 11 | H19: =_xlfn.CONCAT(Y19&" "&Z19&" "&AA19) | O19: …１回以上実施予定の研修項目番号 | Y19: {=IFERROR(VLOOKUP(INDIRECT("E19"),'18'!$A$4:$B$60,2,0),"")} | Z19: {=IFERROR(VLOOKUP(INDIRECT("F19"),'18'!$A$4:$B$60,2,0),"")} | AA19: {=IFERROR(VLOOKUP(INDIRECT("G19"),'18'!$A$4:$B$60,2,0),"")} | AD19: =COUNTIF($E$9:$G$60,AD18) -> 1 | AE19: =COUNTIF($E$9:$G$60,AE18) -> 1 | AF19: =COUNTIF($E$9:$G$60,AF18) -> 0 | AG19: =COUNTIF($E$9:$G$60,AG18) -> 0 | AH19: =COUNTIF($E$9:$G$60,AH18) -> 0 | AI19: =COUNTIF($E$9:$G$60,AI18) -> 0 | AJ19: =COUNTIF($E$9:$G$60,AJ18) -> 0 | AK19: =COUNTIF($E$9:$G$60,AK18) -> 0 | ... AP19: =COUNTIF($E$9:$G$60,AP18) -> 0
B20: 12 | H20: =_xlfn.CONCAT(Y20&" "&Z20&" "&AA20) | Y20: {=IFERROR(VLOOKUP(INDIRECT("E20"),'18'!$A$4:$B$60,2,0),"")} | Z20: {=IFERROR(VLOOKUP(INDIRECT("F20"),'18'!$A$4:$B$60,2,0),"")} | AA20: {=IFERROR(VLOOKUP(INDIRECT("G20"),'18'!$A$4:$B$60,2,0),"")}
B21: 13 | H21: =_xlfn.CONCAT(Y21&" "&Z21&" "&AA21) | N21: ②実施予定の勤務校研修の回数 | Y21: {=IFERROR(VLOOKUP(INDIRECT("E21"),'18'!$A$4:$B$60,2,0),"")} | Z21: {=IFERROR(VLOOKUP(INDIRECT("F21"),'18'!$A$4:$B$60,2,0),"")} | AA21: {=IFERROR(VLOOKUP(INDIRECT("G21"),'18'!$A$4:$B$60,2,0),"")} | AD21: ②実施予定の勤務校研修の項目数
B22: 14 | E22: 35 | H22: =_xlfn.CONCAT(Y22&" "&Z22&" "&AA22) -> 指導計画の作成(1)‐指導計画の作成‐ | Y22: {=IFERROR(VLOOKUP(INDIRECT("E22"),'18'!$A$4:$B$60,2,0),"")} -> 指導計画の作成(1)‐指導計画の作成‐ | Z22: {=IFERROR(VLOOKUP(INDIRECT("F22"),'18'!$A$4:$B$60,2,0),"")} | AA22: {=IFERROR(VLOOKUP(INDIRECT("G22"),'18'!$A$4:$B$60,2,0),"")}
B23: 15 | H23: =_xlfn.CONCAT(Y23&" "&Z23&" "&AA23) | Q23: {=SUMPRODUCT(--((ISNUMBER(E9:E60)+ISNUMBER(F9:F60)+ISNUMBER(G9:G60))>0))} -> 41 | T23: 回 | Y23: {=IFERROR(VLOOKUP(INDIRECT("E23"),'18'!$A$4:$B$60,2,0),"")} | Z23: {=IFERROR(VLOOKUP(INDIRECT("F23"),'18'!$A$4:$B$60,2,0),"")} | AA23: {=IFERROR(VLOOKUP(INDIRECT("G23"),'18'!$A$4:$B$60,2,0),"")} | AD23: {=INDIRECT("Q10")} -> 41 | AF23: 項目
B24: 16 | H24: =_xlfn.CONCAT(Y24&" "&Z24&" "&AA24) | Y24: {=IFERROR(VLOOKUP(INDIRECT("E24"),'18'!$A$4:$B$60,2,0),"")} | Z24: {=IFERROR(VLOOKUP(INDIRECT("F24"),'18'!$A$4:$B$60,2,0),"")} | AA24: {=IFERROR(VLOOKUP(INDIRECT("G24"),'18'!$A$4:$B$60,2,0),"")}
B25: 17 | H25: =_xlfn.CONCAT(Y25&" "&Z25&" "&AA25) | N25: ＊勤務校研修の回数は、35～52回の間 になるように予定を立ててください。 | Y25: {=IFERROR(VLOOKUP(INDIRECT("E25"),'18'!$A$4:$B$60,2,0),"")} | Z25: {=IFERROR(VLOOKUP(INDIRECT("F25"),'18'!$A$4:$B$60,2,0),"")} | AA25: {=IFERROR(VLOOKUP(INDIRECT("G25"),'18'!$A$4:$B$60,2,0),"")} | AD25: ③実施予定の勤務校研修の回数
B26: 18 | E26: 7 | H26: =_xlfn.CONCAT(Y26&" "&Z26&" "&AA26) -> 学校段階等間の接続 | Y26: {=IFERROR(VLOOKUP(INDIRECT("E26"),'18'!$A$4:$B$60,2,0),"")} -> 学校段階等間の接続 | Z26: {=IFERROR(VLOOKUP(INDIRECT("F26"),'18'!$A$4:$B$60,2,0),"")} | AA26: {=IFERROR(VLOOKUP(INDIRECT("G26"),'18'!$A$4:$B$60,2,0),"")}
B27: 19 | E27: 8 | H27: =_xlfn.CONCAT(Y27&" "&Z27&" "&AA27) -> 様々な文書の取扱い | Y27: {=IFERROR(VLOOKUP(INDIRECT("E27"),'18'!$A$4:$B$60,2,0),"")} -> 様々な文書の取扱い | Z27: {=IFERROR(VLOOKUP(INDIRECT("F27"),'18'!$A$4:$B$60,2,0),"")} | AA27: {=IFERROR(VLOOKUP(INDIRECT("G27"),'18'!$A$4:$B$60,2,0),"")} | AD27: {=INDIRECT("Q23")} -> 41 | AF27: 回
B28: 20 | E28: 9 | H28: =_xlfn.CONCAT(Y28&" "&Z28&" "&AA28) -> 育成を目指す資質・能力 | Y28: {=IFERROR(VLOOKUP(INDIRECT("E28"),'18'!$A$4:$B$60,2,0),"")} -> 育成を目指す資質・能力 | Z28: {=IFERROR(VLOOKUP(INDIRECT("F28"),'18'!$A$4:$B$60,2,0),"")} | AA28: {=IFERROR(VLOOKUP(INDIRECT("G28"),'18'!$A$4:$B$60,2,0),"")}
B29: 21 | E29: 10 | H29: =_xlfn.CONCAT(Y29&" "&Z29&" "&AA29) -> 主体的・対話的で深い学びの実現 | Y29: {=IFERROR(VLOOKUP(INDIRECT("E29"),'18'!$A$4:$B$60,2,0),"")} -> 主体的・対話的で深い学びの実現 | Z29: {=IFERROR(VLOOKUP(INDIRECT("F29"),'18'!$A$4:$B$60,2,0),"")} | AA29: {=IFERROR(VLOOKUP(INDIRECT("G29"),'18'!$A$4:$B$60,2,0),"")}
B30: 22 | E30: 11 | H30: =_xlfn.CONCAT(Y30&" "&Z30&" "&AA30) -> 言語環境の整備と言語活動の充実 | Y30: {=IFERROR(VLOOKUP(INDIRECT("E30"),'18'!$A$4:$B$60,2,0),"")} -> 言語環境の整備と言語活動の充実 | Z30: {=IFERROR(VLOOKUP(INDIRECT("F30"),'18'!$A$4:$B$60,2,0),"")} | AA30: {=IFERROR(VLOOKUP(INDIRECT("G30"),'18'!$A$4:$B$60,2,0),"")}
B31: 23 | E31: 12 | H31: =_xlfn.CONCAT(Y31&" "&Z31&" "&AA31) -> 道徳教育 | Y31: {=IFERROR(VLOOKUP(INDIRECT("E31"),'18'!$A$4:$B$60,2,0),"")} -> 道徳教育 | Z31: {=IFERROR(VLOOKUP(INDIRECT("F31"),'18'!$A$4:$B$60,2,0),"")} | AA31: {=IFERROR(VLOOKUP(INDIRECT("G31"),'18'!$A$4:$B$60,2,0),"")}
B32: 24 | E32: 13 | H32: =_xlfn.CONCAT(Y32&" "&Z32&" "&AA32) -> 総合的な学習の時間・総合的な探究の時間 | Y32: {=IFERROR(VLOOKUP(INDIRECT("E32"),'18'!$A$4:$B$60,2,0),"")} -> 総合的な学習の時間・総合的な探究の時間 | Z32: {=IFERROR(VLOOKUP(INDIRECT("F32"),'18'!$A$4:$B$60,2,0),"")} | AA32: {=IFERROR(VLOOKUP(INDIRECT("G32"),'18'!$A$4:$B$60,2,0),"")}
B33: 25 | E33: 14 | H33: =_xlfn.CONCAT(Y33&" "&Z33&" "&AA33) -> 特別活動 | Y33: {=IFERROR(VLOOKUP(INDIRECT("E33"),'18'!$A$4:$B$60,2,0),"")} -> 特別活動 | Z33: {=IFERROR(VLOOKUP(INDIRECT("F33"),'18'!$A$4:$B$60,2,0),"")} | AA33: {=IFERROR(VLOOKUP(INDIRECT("G33"),'18'!$A$4:$B$60,2,0),"")}
B34: 26 | E34: 15 | H34: =_xlfn.CONCAT(Y34&" "&Z34&" "&AA34) -> 人権教育 | Y34: {=IFERROR(VLOOKUP(INDIRECT("E34"),'18'!$A$4:$B$60,2,0),"")} -> 人権教育 | Z34: {=IFERROR(VLOOKUP(INDIRECT("F34"),'18'!$A$4:$B$60,2,0),"")} | AA34: {=IFERROR(VLOOKUP(INDIRECT("G34"),'18'!$A$4:$B$60,2,0),"")}
B35: 27 | E35: 16 | H35: =_xlfn.CONCAT(Y35&" "&Z35&" "&AA35) -> 特別支援教育 | Y35: {=IFERROR(VLOOKUP(INDIRECT("E35"),'18'!$A$4:$B$60,2,0),"")} -> 特別支援教育 | Z35: {=IFERROR(VLOOKUP(INDIRECT("F35"),'18'!$A$4:$B$60,2,0),"")} | AA35: {=IFERROR(VLOOKUP(INDIRECT("G35"),'18'!$A$4:$B$60,2,0),"")}
B36: 28 | E36: 17 | H36: =_xlfn.CONCAT(Y36&" "&Z36&" "&AA36) -> 学校保健 | Y36: {=IFERROR(VLOOKUP(INDIRECT("E36"),'18'!$A$4:$B$60,2,0),"")} -> 学校保健 | Z36: {=IFERROR(VLOOKUP(INDIRECT("F36"),'18'!$A$4:$B$60,2,0),"")} | AA36: {=IFERROR(VLOOKUP(INDIRECT("G36"),'18'!$A$4:$B$60,2,0),"")}
B37: 29 | E37: 18 | H37: =_xlfn.CONCAT(Y37&" "&Z37&" "&AA37) -> 学校安全・危機管理 | Y37: {=IFERROR(VLOOKUP(INDIRECT("E37"),'18'!$A$4:$B$60,2,0),"")} -> 学校安全・危機管理 | Z37: {=IFERROR(VLOOKUP(INDIRECT("F37"),'18'!$A$4:$B$60,2,0),"")} | AA37: {=IFERROR(VLOOKUP(INDIRECT("G37"),'18'!$A$4:$B$60,2,0),"")}
B38: 30 | E38: 19 | H38: =_xlfn.CONCAT(Y38&" "&Z38&" "&AA38) -> 食育・学校給食 | Y38: {=IFERROR(VLOOKUP(INDIRECT("E38"),'18'!$A$4:$B$60,2,0),"")} -> 食育・学校給食 | Z38: {=IFERROR(VLOOKUP(INDIRECT("F38"),'18'!$A$4:$B$60,2,0),"")} | AA38: {=IFERROR(VLOOKUP(INDIRECT("G38"),'18'!$A$4:$B$60,2,0),"")}
B39: 31 | E39: 20 | H39: =_xlfn.CONCAT(Y39&" "&Z39&" "&AA39) -> 情報教育 | Y39: {=IFERROR(VLOOKUP(INDIRECT("E39"),'18'!$A$4:$B$60,2,0),"")} -> 情報教育 | Z39: {=IFERROR(VLOOKUP(INDIRECT("F39"),'18'!$A$4:$B$60,2,0),"")} | AA39: {=IFERROR(VLOOKUP(INDIRECT("G39"),'18'!$A$4:$B$60,2,0),"")}
B40: 32 | E40: 21 | H40: =_xlfn.CONCAT(Y40&" "&Z40&" "&AA40) -> キャリア教育 | Y40: {=IFERROR(VLOOKUP(INDIRECT("E40"),'18'!$A$4:$B$60,2,0),"")} -> キャリア教育 | Z40: {=IFERROR(VLOOKUP(INDIRECT("F40"),'18'!$A$4:$B$60,2,0),"")} | AA40: {=IFERROR(VLOOKUP(INDIRECT("G40"),'18'!$A$4:$B$60,2,0),"")}
B41: 33 | E41: 22 | H41: =_xlfn.CONCAT(Y41&" "&Z41&" "&AA41) -> 伝統文化 | Y41: {=IFERROR(VLOOKUP(INDIRECT("E41"),'18'!$A$4:$B$60,2,0),"")} -> 伝統文化 | Z41: {=IFERROR(VLOOKUP(INDIRECT("F41"),'18'!$A$4:$B$60,2,0),"")} | AA41: {=IFERROR(VLOOKUP(INDIRECT("G41"),'18'!$A$4:$B$60,2,0),"")}
B42: 34 | E42: 23 | H42: =_xlfn.CONCAT(Y42&" "&Z42&" "&AA42) -> 学校教育全体で進める教育活動 | Y42: {=IFERROR(VLOOKUP(INDIRECT("E42"),'18'!$A$4:$B$60,2,0),"")} -> 学校教育全体で進める教育活動 | Z42: {=IFERROR(VLOOKUP(INDIRECT("F42"),'18'!$A$4:$B$60,2,0),"")} | AA42: {=IFERROR(VLOOKUP(INDIRECT("G42"),'18'!$A$4:$B$60,2,0),"")}
...

Sheet ４
B2: (2) センター等研修
G3: 学校名 | H3: 京都府立△△中学校
G5: 初任者名 | H5: 京都 京一
B7: 月 | C7: 日 | D7: 講座番号 | F7: 講 座 名 | G7: 場 所 | H7: 備 考
B8: {=IFERROR(VLOOKUP(INDIRECT("D8"),'20'!$A$3:$C$76,2,0),"")} -> 4 | C8: {=IFERROR(VLOOKUP(INDIRECT("D8"),'20'!$A$3:$C$76,3,0),"")} -> 1 | D8: 1001 | F8: =IFERROR(VLOOKUP(D8,'20'!$D$3:$E$76,2,0),"") -> 初任者・新規採用者研修共通「開講式等」講座（センター） | G8: =IFERROR(VLOOKUP(D8,'20'!$D$3:$G$76,4,0),"") -> 所属校（園）及び総合教育センター
B9: {=IFERROR(VLOOKUP(INDIRECT("D9"),'20'!$A$3:$C$76,2,0),"")} -> 4 | C9: {=IFERROR(VLOOKUP(INDIRECT("D9"),'20'!$A$3:$C$76,3,0),"")} -> 16 | D9: 1003 | F9: =IFERROR(VLOOKUP(D9,'20'!$D$3:$E$76,2,0),"") -> 初任者・新規採用者研修共通「初任期スタート」講座ａ | G9: =IFERROR(VLOOKUP(D9,'20'!$D$3:$G$76,4,0),"") -> 総合教育センター
B10: {=IFERROR(VLOOKUP(INDIRECT("D10"),'20'!$A$3:$C$76,2,0),"")} -> 4 | C10: {=IFERROR(VLOOKUP(INDIRECT("D10"),'20'!$A$3:$C$76,3,0),"")} -> 30 | D10: 1201 | F10: =IFERROR(VLOOKUP(D10,'20'!$D$3:$E$76,2,0),"") -> 初任者研修「中学校教科教育１」講座（センター） | G10: =IFERROR(VLOOKUP(D10,'20'!$D$3:$G$76,4,0),"") -> 総合教育センター
B11: {=IFERROR(VLOOKUP(INDIRECT("D11"),'20'!$A$3:$C$76,2,0),"")} -> 5 | C11: {=IFERROR(VLOOKUP(INDIRECT("D11"),'20'!$A$3:$C$76,3,0),"")} -> 14 | D11: 1503 | F11: =IFERROR(VLOOKUP(D11,'20'!$D$3:$E$76,2,0),"") -> 初任者研修「学級、ホームルーム経営・教育相談・情報教育」講座ａ | G11: =IFERROR(VLOOKUP(D11,'20'!$D$3:$G$76,4,0),"") -> 総合教育センター
B12: {=IFERROR(VLOOKUP(INDIRECT("D12"),'20'!$A$3:$C$76,2,0),"")} -> 5 | C12: {=IFERROR(VLOOKUP(INDIRECT("D12"),'20'!$A$3:$C$76,3,0),"")} -> 28 | D12: 1203 | F12: =IFERROR(VLOOKUP(D12,'20'!$D$3:$E$76,2,0),"") -> 初任者研修「中学校教科教育２」講座（センター） | G12: =IFERROR(VLOOKUP(D12,'20'!$D$3:$G$76,4,0),"") -> 所属校（園）及び総合教育センター
B13: {=IFERROR(VLOOKUP(INDIRECT("D13"),'20'!$A$3:$C$76,2,0),"")} -> 6 | C13: {=IFERROR(VLOOKUP(INDIRECT("D13"),'20'!$A$3:$C$76,3,0),"")} -> 11 | D13: 1009 | F13: =IFERROR(VLOOKUP(D13,'20'!$D$3:$E$76,2,0),"") -> 初任者・新規採用者研修共通「健康安全教育」講座ａ | G13: =IFERROR(VLOOKUP(D13,'20'!$D$3:$G$76,4,0),"") -> 所属校（園）
B14: {=IFERROR(VLOOKUP(INDIRECT("D14"),'20'!$A$3:$C$76,2,0),"")} -> 6 | C14: {=IFERROR(VLOOKUP(INDIRECT("D14"),'20'!$A$3:$C$76,3,0),"")} -> 25 | D14: 1505 | F14: =IFERROR(VLOOKUP(D14,'20'!$D$3:$E$76,2,0),"") -> 初任者研修「道徳教育・特別活動」講座ａ | G14: =IFERROR(VLOOKUP(D14,'20'!$D$3:$G$76,4,0),"") -> 総合教育センター
B15: {=IFERROR(VLOOKUP(INDIRECT("D15"),'20'!$A$3:$C$76,2,0),"")} -> 7 | C15: {=IFERROR(VLOOKUP(INDIRECT("D15"),'20'!$A$3:$C$76,3,0),"")} -> 21 | D15: 1005 | F15: =IFERROR(VLOOKUP(D15,'20'!$D$3:$E$76,2,0),"") -> 初任者・新規採用者研修共通「京の伝統文化体験」講座ａ | G15: =IFERROR(VLOOKUP(D15,'20'!$D$3:$G$76,4,0),"") -> 所属校（園）及び京都伝統工芸大学校
B16: {=IFERROR(VLOOKUP(INDIRECT("D16"),'20'!$A$3:$C$76,2,0),"")} -> 7 | C16: {=IFERROR(VLOOKUP(INDIRECT("D16"),'20'!$A$3:$C$76,3,0),"")} -> 28 | D16: 1205 | F16: =IFERROR(VLOOKUP(D16,'20'!$D$3:$E$76,2,0),"") -> 初任者研修「中学校教科教育３」講座（センター） | G16: =IFERROR(VLOOKUP(D16,'20'!$D$3:$G$76,4,0),"") -> 所属校（園）
B17: {=IFERROR(VLOOKUP(INDIRECT("D17"),'20'!$A$3:$C$76,2,0),"")} -> 8 | C17: {=IFERROR(VLOOKUP(INDIRECT("D17"),'20'!$A$3:$C$76,3,0),"")} -> 6 | D17: 1014 | F17: =IFERROR(VLOOKUP(D17,'20'!$D$3:$E$76,2,0),"") -> 初任者・新規採用者研修共通「人権教育・生徒指導」講座（センター） | G17: =IFERROR(VLOOKUP(D17,'20'!$D$3:$G$76,4,0),"") -> 所属校（園）及び総合教育センター
B18: {=IFERROR(VLOOKUP(INDIRECT("D18"),'20'!$A$3:$C$76,2,0),"")} -> 9 | C18: {=IFERROR(VLOOKUP(INDIRECT("D18"),'20'!$A$3:$C$76,3,0),"")} -> 3 | D18: 1011 | F18: =IFERROR(VLOOKUP(D18,'20'!$D$3:$E$76,2,0),"") -> 初任者・新規採用者研修共通「コミュニケーション」講座ａ | G18: =IFERROR(VLOOKUP(D18,'20'!$D$3:$G$76,4,0),"") -> 所属校（園）及び総合教育センター
B19: {=IFERROR(VLOOKUP(INDIRECT("D19"),'20'!$A$3:$C$76,2,0),"")} -> 9 | C19: {=IFERROR(VLOOKUP(INDIRECT("D19"),'20'!$A$3:$C$76,3,0),"")} -> 10 | D19: 1502 | F19: =IFERROR(VLOOKUP(D19,'20'!$D$3:$E$76,2,0),"") -> 初任者研修「総合的な学習の時間、総合的な探究の時間・社会教育」講座／リフレクション① | G19: =IFERROR(VLOOKUP(D19,'20'!$D$3:$G$76,4,0),"") -> 所属校（園）
B20: {=IFERROR(VLOOKUP(INDIRECT("D20"),'20'!$A$3:$C$76,2,0),"")} -> 10 | C20: {=IFERROR(VLOOKUP(INDIRECT("D20"),'20'!$A$3:$C$76,3,0),"")} -> 8 | D20: 1207 | F20: =IFERROR(VLOOKUP(D20,'20'!$D$3:$E$76,2,0),"") -> 初任者研修「中学校教科教育４」講座（センター） | G20: =IFERROR(VLOOKUP(D20,'20'!$D$3:$G$76,4,0),"") -> 総合教育センター
B21: {=IFERROR(VLOOKUP(INDIRECT("D21"),'20'!$A$3:$C$76,2,0),"")} -> 10 | C21: {=IFERROR(VLOOKUP(INDIRECT("D21"),'20'!$A$3:$C$76,3,0),"")} -> 15 | D21: 1214 | F21: =IFERROR(VLOOKUP(D21,'20'!$D$3:$E$76,2,0),"") -> 初任者研修「中学校キャリア教育」講座 | G21: =IFERROR(VLOOKUP(D21,'20'!$D$3:$G$76,4,0),"") -> 所属校（園）
B22: {=IFERROR(VLOOKUP(INDIRECT("D22"),'20'!$A$3:$C$76,2,0),"")} -> 11 | C22: {=IFERROR(VLOOKUP(INDIRECT("D22"),'20'!$A$3:$C$76,3,0),"")} -> 5 | D22: 1213 | F22: =IFERROR(VLOOKUP(D22,'20'!$D$3:$E$76,2,0),"") -> 初任者研修「中学校授業参観」講座 | G22: =IFERROR(VLOOKUP(D22,'20'!$D$3:$G$76,4,0),"") -> 未定
B23: {=IFERROR(VLOOKUP(INDIRECT("D23"),'20'!$A$3:$C$76,2,0),"")} -> 11 | C23: {=IFERROR(VLOOKUP(INDIRECT("D23"),'20'!$A$3:$C$76,3,0),"")} -> 19 | D23: 1209 | F23: =IFERROR(VLOOKUP(D23,'20'!$D$3:$E$76,2,0),"") -> 初任者研修「中学校教科教育５」講座（センター） | G23: =IFERROR(VLOOKUP(D23,'20'!$D$3:$G$76,4,0),"") -> 総合教育センター
B24: {=IFERROR(VLOOKUP(INDIRECT("D24"),'20'!$A$3:$C$76,2,0),"")} -> 1 | C24: {=IFERROR(VLOOKUP(INDIRECT("D24"),'20'!$A$3:$C$76,3,0),"")} -> 21 | D24: 1211 | F24: =IFERROR(VLOOKUP(D24,'20'!$D$3:$E$76,2,0),"") -> 初任者研修「中学校教科教育６」講座（センター） | G24: =IFERROR(VLOOKUP(D24,'20'!$D$3:$G$76,4,0),"") -> 所属校（園）及び総合教育センター
B25: {=IFERROR(VLOOKUP(INDIRECT("D25"),'20'!$A$3:$C$76,2,0),"")} -> 1 | C25: {=IFERROR(VLOOKUP(INDIRECT("D25"),'20'!$A$3:$C$76,3,0),"")} -> 28 | D25: 1501 | F25: =IFERROR(VLOOKUP(D25,'20'!$D$3:$E$76,2,0),"") -> 初任者研修「教育実践」講座／リフレクション② | G25: =IFERROR(VLOOKUP(D25,'20'!$D$3:$G$76,4,0),"") -> 所属校（園）
B26: 他 校 種 体 験 研 修
B27: 月 | C27: 日 | D27: 内 容 | G27: 場 所 | H27: 備 考
B28: 9 | C28: 〇 | D28: 運動会の運営 | G28: 〇〇市立△△小学校
D29: 未定 | G29: 京都府立〇〇高等学校
F31: 合計 | G31: 20 | H31: 日
B36: １ 初任者が２人以上の場合、それぞれ別葉に作成する。
B37: ２ 実施予定時期の早い順に記入する。
B38: ３ 実施日が確定していない場合は、空欄とする。
B39: ４ 実施場所が確定していない場合は、「未定」と記入する。

Sheet ５
A1: （様式３－１－１）
B3: 令和８年度初任者研修年間指導計画書
D5: 学校名
D7: 校長名
G8: （公印不要）
A10: １ 初任者、指導教員等名簿
A12: 初任者 | C12: 指導教員 | F12: 教科指導員
A19: ２ 初任者等の校務分掌等
A20: （初任者）
A21: 氏名 | C21: 担当教科 | E21: 学級・HR担任 | F21: 講師経験
A22: {=INDIRECT("B12")} -> 0
A23: {=INDIRECT("B13")} -> 0
A24: {=INDIRECT("B14")} -> 0
A25: {=INDIRECT("B15")} -> 0
A26: {=INDIRECT("B16")} -> 0
A27: {=INDIRECT("B17")} -> 0
A29: （指導教員・教科指導員）
A30: 氏名 | C30: 職名 | E30: 担当教科 | F30: 指導教員経験
A40: ３ 実施体制
A45: ４ 実施上の重点事項等

Sheet ６
A1: (様式３－１－２)
B2: ５ 年間指導計画
B3: (1) 勤務校研修
I4: 学校名 | J4: {=INDIRECT("5!E5")} -> 0
I6: 初任者名 | J6: {=INDIRECT("5!A22")} -> 0 | N6: ★入力者 確認用データ | AD6: ★センター担当者 整理用データ
B8: 回数 | C8: 月 | D8: 日 | E8: 項目番号 | H8: 研 修 項 目 | I8: 講 師 | J8: 備 考（研究大会名・研修会名称等） | N8: ①実施予定の研修項目番号 | AD8: ①項目別の実施予定回数
B9: 1 | H9: =_xlfn.CONCAT(Y9&" "&Z9&" "&AA9) | Y9: {=IFERROR(VLOOKUP(INDIRECT("E9"),'18'!$A$4:$B$60,2,0),"")} | Z9: {=IFERROR(VLOOKUP(INDIRECT("F9"),'18'!$A$4:$B$60,2,0),"")} | AA9: {=IFERROR(VLOOKUP(INDIRECT("G9"),'18'!$A$4:$B$60,2,0),"")} | AD9: 1 | AE9: 2 | AF9: 3 | AG9: 4 | AH9: 5 | AI9: 6 | AJ9: 7 | AK9: 8 | AL9: 9 | AM9: 10 | AN9: 11 | AO9: 12 | AP9: 13
B10: 2 | H10: =_xlfn.CONCAT(Y10&" "&Z10&" "&AA10) | N10: 52項目中 | Q10: {=SUM(--(FREQUENCY(IF((項目番号全体>=1)*(項目番号全体<=52), 項目番号全体), ROW(INDIRECT("1:52")))>0))} -> 0 | T10: 項目実施予定 | Y10: {=IFERROR(VLOOKUP(INDIRECT("E10"),'18'!$A$4:$B$60,2,0),"")} | Z10: {=IFERROR(VLOOKUP(INDIRECT("F10"),'18'!$A$4:$B$60,2,0),"")} | AA10: {=IFERROR(VLOOKUP(INDIRECT("G10"),'18'!$A$4:$B$60,2,0),"")} | AD10: =COUNTIF(項目番号全体,AD9) -> 0 | AE10: =COUNTIF(項目番号全体,AE9) -> 0 | AF10: =COUNTIF(項目番号全体,AF9) -> 0 | AG10: =COUNTIF(項目番号全体,AG9) -> 0 | AH10: =COUNTIF(項目番号全体,AH9) -> 0 | AI10: =COUNTIF(項目番号全体,AI9) -> 0 | AJ10: =COUNTIF(項目番号全体,AJ9) -> 0 | AK10: =COUNTIF(項目番号全体,AK9) -> 0 | ... AP10: =COUNTIF(項目番号全体,AP9) -> 0
B11: 3 | H11: =_xlfn.CONCAT(Y11&" "&Z11&" "&AA11) | Y11: {=IFERROR(VLOOKUP(INDIRECT("E11"),'18'!$A$4:$B$60,2,0),"")} | Z11: {=IFERROR(VLOOKUP(INDIRECT("F11"),'18'!$A$4:$B$60,2,0),"")} | AA11: {=IFERROR(VLOOKUP(INDIRECT("G11"),'18'!$A$4:$B$60,2,0),"")}
B12: 4 | H12: =_xlfn.CONCAT(Y12&" "&Z12&" "&AA12) | N12: 1 | O12: 2 | P12: 3 | Q12: 4 | R12: 5 | S12: 6 | T12: 7 | U12: 8 | V12: 9 | W12: 10 | Y12: {=IFERROR(VLOOKUP(INDIRECT("E12"),'18'!$A$4:$B$60,2,0),"")} | Z12: {=IFERROR(VLOOKUP(INDIRECT("F12"),'18'!$A$4:$B$60,2,0),"")} | AA12: {=IFERROR(VLOOKUP(INDIRECT("G12"),'18'!$A$4:$B$60,2,0),"")} | AD12: 14 | AE12: 15 | AF12: 16 | AG12: 17 | AH12: 18 | AI12: 19 | AJ12: 20 | AK12: 21 | AL12: 22 | AM12: 23 | AN12: 24 | AO12: 25 | AP12: 26
B13: 5 | H13: =_xlfn.CONCAT(Y13&" "&Z13&" "&AA13) | N13: 11 | O13: 12 | P13: 13 | Q13: 14 | R13: 15 | S13: 16 | T13: 17 | U13: 18 | V13: 19 | W13: 20 | Y13: {=IFERROR(VLOOKUP(INDIRECT("E13"),'18'!$A$4:$B$60,2,0),"")} | Z13: {=IFERROR(VLOOKUP(INDIRECT("F13"),'18'!$A$4:$B$60,2,0),"")} | AA13: {=IFERROR(VLOOKUP(INDIRECT("G13"),'18'!$A$4:$B$60,2,0),"")} | AD13: =COUNTIF(項目番号全体,AD12) -> 0 | AE13: =COUNTIF(項目番号全体,AE12) -> 0 | AF13: =COUNTIF(項目番号全体,AF12) -> 0 | AG13: =COUNTIF(項目番号全体,AG12) -> 0 | AH13: =COUNTIF(項目番号全体,AH12) -> 0 | AI13: =COUNTIF(項目番号全体,AI12) -> 0 | AJ13: =COUNTIF(項目番号全体,AJ12) -> 0 | AK13: =COUNTIF(項目番号全体,AK12) -> 0 | ... AP13: =COUNTIF(項目番号全体,AP12) -> 0
B14: 6 | H14: =_xlfn.CONCAT(Y14&" "&Z14&" "&AA14) | N14: 21 | O14: 22 | P14: 23 | Q14: 24 | R14: 25 | S14: 26 | T14: 27 | U14: 28 | V14: 29 | W14: 30 | Y14: {=IFERROR(VLOOKUP(INDIRECT("E14"),'18'!$A$4:$B$60,2,0),"")} | Z14: {=IFERROR(VLOOKUP(INDIRECT("F14"),'18'!$A$4:$B$60,2,0),"")} | AA14: {=IFERROR(VLOOKUP(INDIRECT("G14"),'18'!$A$4:$B$60,2,0),"")}
B15: 7 | H15: =_xlfn.CONCAT(Y15&" "&Z15&" "&AA15) | N15: 31 | O15: 32 | P15: 33 | Q15: 34 | R15: 35 | S15: 36 | T15: 37 | U15: 38 | V15: 39 | W15: 40 | Y15: {=IFERROR(VLOOKUP(INDIRECT("E15"),'18'!$A$4:$B$60,2,0),"")} | Z15: {=IFERROR(VLOOKUP(INDIRECT("F15"),'18'!$A$4:$B$60,2,0),"")} | AA15: {=IFERROR(VLOOKUP(INDIRECT("G15"),'18'!$A$4:$B$60,2,0),"")} | AD15: 27 | AE15: 28 | AF15: 29 | AG15: 30 | AH15: 31 | AI15: 32 | AJ15: 33 | AK15: 34 | AL15: 35 | AM15: 36 | AN15: 37 | AO15: 38 | AP15: 39
B16: 8 | H16: =_xlfn.CONCAT(Y16&" "&Z16&" "&AA16) | N16: 41 | O16: 42 | P16: 43 | Q16: 44 | R16: 45 | S16: 46 | T16: 47 | U16: 48 | V16: 49 | W16: 50 | Y16: {=IFERROR(VLOOKUP(INDIRECT("E16"),'18'!$A$4:$B$60,2,0),"")} | Z16: {=IFERROR(VLOOKUP(INDIRECT("F16"),'18'!$A$4:$B$60,2,0),"")} | AA16: {=IFERROR(VLOOKUP(INDIRECT("G16"),'18'!$A$4:$B$60,2,0),"")} | AD16: =COUNTIF(項目番号全体,AD15) -> 0 | AE16: =COUNTIF(項目番号全体,AE15) -> 0 | AF16: =COUNTIF(項目番号全体,AF15) -> 0 | AG16: =COUNTIF(項目番号全体,AG15) -> 0 | AH16: =COUNTIF(項目番号全体,AH15) -> 0 | AI16: =COUNTIF(項目番号全体,AI15) -> 0 | AJ16: =COUNTIF(項目番号全体,AJ15) -> 0 | AK16: =COUNTIF(項目番号全体,AK15) -> 0 | ... AP16: =COUNTIF(項目番号全体,AP15) -> 0
B17: 9 | H17: =_xlfn.CONCAT(Y17&" "&Z17&" "&AA17) | N17: 51 | O17: 52 | Y17: {=IFERROR(VLOOKUP(INDIRECT("E17"),'18'!$A$4:$B$60,2,0),"")} | Z17: {=IFERROR(VLOOKUP(INDIRECT("F17"),'18'!$A$4:$B$60,2,0),"")} | AA17: {=IFERROR(VLOOKUP(INDIRECT("G17"),'18'!$A$4:$B$60,2,0),"")}
B18: 10 | H18: =_xlfn.CONCAT(Y18&" "&Z18&" "&AA18) | Y18: {=IFERROR(VLOOKUP(INDIRECT("E18"),'18'!$A$4:$B$60,2,0),"")} | Z18: {=IFERROR(VLOOKUP(INDIRECT("F18"),'18'!$A$4:$B$60,2,0),"")} | AA18: {=IFERROR(VLOOKUP(INDIRECT("G18"),'18'!$A$4:$B$60,2,0),"")} | AD18: 40 | AE18: 41 | AF18: 42 | AG18: 43 | AH18: 44 | AI18: 45 | AJ18: 46 | AK18: 47 | AL18: 48 | AM18: 49 | AN18: 50 | AO18: 51 | AP18: 52
B19: 11 | H19: =_xlfn.CONCAT(Y19&" "&Z19&" "&AA19) | O19: …１回以上実施予定の研修項目番号 | Y19: {=IFERROR(VLOOKUP(INDIRECT("E19"),'18'!$A$4:$B$60,2,0),"")} | Z19: {=IFERROR(VLOOKUP(INDIRECT("F19"),'18'!$A$4:$B$60,2,0),"")} | AA19: {=IFERROR(VLOOKUP(INDIRECT("G19"),'18'!$A$4:$B$60,2,0),"")} | AD19: =COUNTIF(項目番号全体,AD18) -> 0 | AE19: =COUNTIF(項目番号全体,AE18) -> 0 | AF19: =COUNTIF(項目番号全体,AF18) -> 0 | AG19: =COUNTIF(項目番号全体,AG18) -> 0 | AH19: =COUNTIF(項目番号全体,AH18) -> 0 | AI19: =COUNTIF(項目番号全体,AI18) -> 0 | AJ19: =COUNTIF(項目番号全体,AJ18) -> 0 | AK19: =COUNTIF(項目番号全体,AK18) -> 0 | ... AP19: =COUNTIF(項目番号全体,AP18) -> 0
B20: 12 | H20: =_xlfn.CONCAT(Y20&" "&Z20&" "&AA20) | Y20: {=IFERROR(VLOOKUP(INDIRECT("E20"),'18'!$A$4:$B$60,2,0),"")} | Z20: {=IFERROR(VLOOKUP(INDIRECT("F20"),'18'!$A$4:$B$60,2,0),"")} | AA20: {=IFERROR(VLOOKUP(INDIRECT("G20"),'18'!$A$4:$B$60,2,0),"")}
B21: 13 | H21: =_xlfn.CONCAT(Y21&" "&Z21&" "&AA21) | N21: ②実施予定の勤務校研修の回数 | Y21: {=IFERROR(VLOOKUP(INDIRECT("E21"),'18'!$A$4:$B$60,2,0),"")} | Z21: {=IFERROR(VLOOKUP(INDIRECT("F21"),'18'!$A$4:$B$60,2,0),"")} | AA21: {=IFERROR(VLOOKUP(INDIRECT("G21"),'18'!$A$4:$B$60,2,0),"")} | AD21: ②実施予定の勤務校研修の項目数
B22: 14 | H22: =_xlfn.CONCAT(Y22&" "&Z22&" "&AA22) | Y22: {=IFERROR(VLOOKUP(INDIRECT("E22"),'18'!$A$4:$B$60,2,0),"")} | Z22: {=IFERROR(VLOOKUP(INDIRECT("F22"),'18'!$A$4:$B$60,2,0),"")} | AA22: {=IFERROR(VLOOKUP(INDIRECT("G22"),'18'!$A$4:$B$60,2,0),"")}
B23: 15 | H23: =_xlfn.CONCAT(Y23&" "&Z23&" "&AA23) | Q23: {=SUMPRODUCT(--((ISNUMBER(項目番号１)+ISNUMBER(項目番号２)+ISNUMBER(項目番号３))>0))} -> 0 | T23: 回 | Y23: {=IFERROR(VLOOKUP(INDIRECT("E23"),'18'!$A$4:$B$60,2,0),"")} | Z23: {=IFERROR(VLOOKUP(INDIRECT("F23"),'18'!$A$4:$B$60,2,0),"")} | AA23: {=IFERROR(VLOOKUP(INDIRECT("G23"),'18'!$A$4:$B$60,2,0),"")} | AD23: {=INDIRECT("Q10")} -> 0 | AF23: 項目
B24: 16 | H24: =_xlfn.CONCAT(Y24&" "&Z24&" "&AA24) | Y24: {=IFERROR(VLOOKUP(INDIRECT("E24"),'18'!$A$4:$B$60,2,0),"")} | Z24: {=IFERROR(VLOOKUP(INDIRECT("F24"),'18'!$A$4:$B$60,2,0),"")} | AA24: {=IFERROR(VLOOKUP(INDIRECT("G24"),'18'!$A$4:$B$60,2,0),"")}
B25: 17 | H25: =_xlfn.CONCAT(Y25&" "&Z25&" "&AA25) | N25: ＊勤務校研修の回数は、35～52回の間 になるように予定を立ててください。 | Y25: {=IFERROR(VLOOKUP(INDIRECT("E25"),'18'!$A$4:$B$60,2,0),"")} | Z25: {=IFERROR(VLOOKUP(INDIRECT("F25"),'18'!$A$4:$B$60,2,0),"")} | AA25: {=IFERROR(VLOOKUP(INDIRECT("G25"),'18'!$A$4:$B$60,2,0),"")} | AD25: ③実施予定の勤務校研修の回数
B26: 18 | H26: =_xlfn.CONCAT(Y26&" "&Z26&" "&AA26) | Y26: {=IFERROR(VLOOKUP(INDIRECT("E26"),'18'!$A$4:$B$60,2,0),"")} | Z26: {=IFERROR(VLOOKUP(INDIRECT("F26"),'18'!$A$4:$B$60,2,0),"")} | AA26: {=IFERROR(VLOOKUP(INDIRECT("G26"),'18'!$A$4:$B$60,2,0),"")}
B27: 19 | H27: =_xlfn.CONCAT(Y27&" "&Z27&" "&AA27) | Y27: {=IFERROR(VLOOKUP(INDIRECT("E27"),'18'!$A$4:$B$60,2,0),"")} | Z27: {=IFERROR(VLOOKUP(INDIRECT("F27"),'18'!$A$4:$B$60,2,0),"")} | AA27: {=IFERROR(VLOOKUP(INDIRECT("G27"),'18'!$A$4:$B$60,2,0),"")} | AD27: {=INDIRECT("Q23")} -> 0 | AF27: 回
B28: 20 | H28: =_xlfn.CONCAT(Y28&" "&Z28&" "&AA28) | Y28: {=IFERROR(VLOOKUP(INDIRECT("E28"),'18'!$A$4:$B$60,2,0),"")} | Z28: {=IFERROR(VLOOKUP(INDIRECT("F28"),'18'!$A$4:$B$60,2,0),"")} | AA28: {=IFERROR(VLOOKUP(INDIRECT("G28"),'18'!$A$4:$B$60,2,0),"")}
B29: 21 | H29: =_xlfn.CONCAT(Y29&" "&Z29&" "&AA29) | Y29: {=IFERROR(VLOOKUP(INDIRECT("E29"),'18'!$A$4:$B$60,2,0),"")} | Z29: {=IFERROR(VLOOKUP(INDIRECT("F29"),'18'!$A$4:$B$60,2,0),"")} | AA29: {=IFERROR(VLOOKUP(INDIRECT("G29"),'18'!$A$4:$B$60,2,0),"")}
B30: 22 | H30: =_xlfn.CONCAT(Y30&" "&Z30&" "&AA30) | Y30: {=IFERROR(VLOOKUP(INDIRECT("E30"),'18'!$A$4:$B$60,2,0),"")} | Z30: {=IFERROR(VLOOKUP(INDIRECT("F30"),'18'!$A$4:$B$60,2,0),"")} | AA30: {=IFERROR(VLOOKUP(INDIRECT("G30"),'18'!$A$4:$B$60,2,0),"")}
B31: 23 | H31: =_xlfn.CONCAT(Y31&" "&Z31&" "&AA31) | Y31: {=IFERROR(VLOOKUP(INDIRECT("E31"),'18'!$A$4:$B$60,2,0),"")} | Z31: {=IFERROR(VLOOKUP(INDIRECT("F31"),'18'!$A$4:$B$60,2,0),"")} | AA31: {=IFERROR(VLOOKUP(INDIRECT("G31"),'18'!$A$4:$B$60,2,0),"")}
B32: 24 | H32: =_xlfn.CONCAT(Y32&" "&Z32&" "&AA32) | Y32: {=IFERROR(VLOOKUP(INDIRECT("E32"),'18'!$A$4:$B$60,2,0),"")} | Z32: {=IFERROR(VLOOKUP(INDIRECT("F32"),'18'!$A$4:$B$60,2,0),"")} | AA32: {=IFERROR(VLOOKUP(INDIRECT("G32"),'18'!$A$4:$B$60,2,0),"")}
B33: 25 | H33: =_xlfn.CONCAT(Y33&" "&Z33&" "&AA33) | Y33: {=IFERROR(VLOOKUP(INDIRECT("E33"),'18'!$A$4:$B$60,2,0),"")} | Z33: {=IFERROR(VLOOKUP(INDIRECT("F33"),'18'!$A$4:$B$60,2,0),"")} | AA33: {=IFERROR(VLOOKUP(INDIRECT("G33"),'18'!$A$4:$B$60,2,0),"")}
B34: 26 | H34: =_xlfn.CONCAT(Y34&" "&Z34&" "&AA34) | Y34: {=IFERROR(VLOOKUP(INDIRECT("E34"),'18'!$A$4:$B$60,2,0),"")} | Z34: {=IFERROR(VLOOKUP(INDIRECT("F34"),'18'!$A$4:$B$60,2,0),"")} | AA34: {=IFERROR(VLOOKUP(INDIRECT("G34"),'18'!$A$4:$B$60,2,0),"")}
B35: 27 | H35: =_xlfn.CONCAT(Y35&" "&Z35&" "&AA35) | Y35: {=IFERROR(VLOOKUP(INDIRECT("E35"),'18'!$A$4:$B$60,2,0),"")} | Z35: {=IFERROR(VLOOKUP(INDIRECT("F35"),'18'!$A$4:$B$60,2,0),"")} | AA35: {=IFERROR(VLOOKUP(INDIRECT("G35"),'18'!$A$4:$B$60,2,0),"")}
B36: 28 | H36: =_xlfn.CONCAT(Y36&" "&Z36&" "&AA36) | Y36: {=IFERROR(VLOOKUP(INDIRECT("E36"),'18'!$A$4:$B$60,2,0),"")} | Z36: {=IFERROR(VLOOKUP(INDIRECT("F36"),'18'!$A$4:$B$60,2,0),"")} | AA36: {=IFERROR(VLOOKUP(INDIRECT("G36"),'18'!$A$4:$B$60,2,0),"")}
B37: 29 | H37: =_xlfn.CONCAT(Y37&" "&Z37&" "&AA37) | Y37: {=IFERROR(VLOOKUP(INDIRECT("E37"),'18'!$A$4:$B$60,2,0),"")} | Z37: {=IFERROR(VLOOKUP(INDIRECT("F37"),'18'!$A$4:$B$60,2,0),"")} | AA37: {=IFERROR(VLOOKUP(INDIRECT("G37"),'18'!$A$4:$B$60,2,0),"")}
B38: 30 | H38: =_xlfn.CONCAT(Y38&" "&Z38&" "&AA38) | Y38: {=IFERROR(VLOOKUP(INDIRECT("E38"),'18'!$A$4:$B$60,2,0),"")} | Z38: {=IFERROR(VLOOKUP(INDIRECT("F38"),'18'!$A$4:$B$60,2,0),"")} | AA38: {=IFERROR(VLOOKUP(INDIRECT("G38"),'18'!$A$4:$B$60,2,0),"")}
B39: 31 | H39: =_xlfn.CONCAT(Y39&" "&Z39&" "&AA39) | Y39: {=IFERROR(VLOOKUP(INDIRECT("E39"),'18'!$A$4:$B$60,2,0),"")} | Z39: {=IFERROR(VLOOKUP(INDIRECT("F39"),'18'!$A$4:$B$60,2,0),"")} | AA39: {=IFERROR(VLOOKUP(INDIRECT("G39"),'18'!$A$4:$B$60,2,0),"")}
B40: 32 | H40: =_xlfn.CONCAT(Y40&" "&Z40&" "&AA40) | Y40: {=IFERROR(VLOOKUP(INDIRECT("E40"),'18'!$A$4:$B$60,2,0),"")} | Z40: {=IFERROR(VLOOKUP(INDIRECT("F40"),'18'!$A$4:$B$60,2,0),"")} | AA40: {=IFERROR(VLOOKUP(INDIRECT("G40"),'18'!$A$4:$B$60,2,0),"")}
B41: 33 | H41: =_xlfn.CONCAT(Y41&" "&Z41&" "&AA41) | Y41: {=IFERROR(VLOOKUP(INDIRECT("E41"),'18'!$A$4:$B$60,2,0),"")} | Z41: {=IFERROR(VLOOKUP(INDIRECT("F41"),'18'!$A$4:$B$60,2,0),"")} | AA41: {=IFERROR(VLOOKUP(INDIRECT("G41"),'18'!$A$4:$B$60,2,0),"")}
B42: 34 | H42: =_xlfn.CONCAT(Y42&" "&Z42&" "&AA42) | Y42: {=IFERROR(VLOOKUP(INDIRECT("E42"),'18'!$A$4:$B$60,2,0),"")} | Z42: {=IFERROR(VLOOKUP(INDIRECT("F42"),'18'!$A$4:$B$60,2,0),"")} | AA42: {=IFERROR(VLOOKUP(INDIRECT("G42"),'18'!$A$4:$B$60,2,0),"")}
...

Sheet ７
B2: (2) センター等研修
F3: 学校名 | G3: {=INDIRECT("5!E5")} -> 0
F5: 初任者名 | G5: {=INDIRECT("5!A22")} -> 0
B7: 月 | C7: 日 | D7: 講座番号 | E7: 講 座 名 | F7: 場 所 | G7: 備 考
B8: {=IFERROR(VLOOKUP(INDIRECT("D8"),'20'!$A$3:$C$76,2,0),"")} | C8: {=IFERROR(VLOOKUP(INDIRECT("D8"),'20'!$A$3:$C$76,3,0),"")} | E8: {=IFERROR(VLOOKUP(INDIRECT("D8"),'20'!$D$3:$E$76,2,0),"")} | F8: {=IFERROR(VLOOKUP(INDIRECT("D8"),'20'!$D$3:$G$76,4,0),"")}
B9: {=IFERROR(VLOOKUP(INDIRECT("D9"),'20'!$A$3:$C$76,2,0),"")} | C9: {=IFERROR(VLOOKUP(INDIRECT("D9"),'20'!$A$3:$C$76,3,0),"")} | E9: {=IFERROR(VLOOKUP(INDIRECT("D9"),'20'!$D$3:$E$76,2,0),"")} | F9: {=IFERROR(VLOOKUP(INDIRECT("D9"),'20'!$D$3:$G$76,4,0),"")}
B10: {=IFERROR(VLOOKUP(INDIRECT("D10"),'20'!$A$3:$C$76,2,0),"")} | C10: {=IFERROR(VLOOKUP(INDIRECT("D10"),'20'!$A$3:$C$76,3,0),"")} | E10: {=IFERROR(VLOOKUP(INDIRECT("D10"),'20'!$D$3:$E$76,2,0),"")} | F10: {=IFERROR(VLOOKUP(INDIRECT("D10"),'20'!$D$3:$G$76,4,0),"")}
B11: {=IFERROR(VLOOKUP(INDIRECT("D11"),'20'!$A$3:$C$76,2,0),"")} | C11: {=IFERROR(VLOOKUP(INDIRECT("D11"),'20'!$A$3:$C$76,3,0),"")} | E11: {=IFERROR(VLOOKUP(INDIRECT("D11"),'20'!$D$3:$E$76,2,0),"")} | F11: {=IFERROR(VLOOKUP(INDIRECT("D11"),'20'!$D$3:$G$76,4,0),"")}
B12: {=IFERROR(VLOOKUP(INDIRECT("D12"),'20'!$A$3:$C$76,2,0),"")} | C12: {=IFERROR(VLOOKUP(INDIRECT("D12"),'20'!$A$3:$C$76,3,0),"")} | E12: {=IFERROR(VLOOKUP(INDIRECT("D12"),'20'!$D$3:$E$76,2,0),"")} | F12: {=IFERROR(VLOOKUP(INDIRECT("D12"),'20'!$D$3:$G$76,4,0),"")}
B13: {=IFERROR(VLOOKUP(INDIRECT("D13"),'20'!$A$3:$C$76,2,0),"")} | C13: {=IFERROR(VLOOKUP(INDIRECT("D13"),'20'!$A$3:$C$76,3,0),"")} | E13: {=IFERROR(VLOOKUP(INDIRECT("D13"),'20'!$D$3:$E$76,2,0),"")} | F13: {=IFERROR(VLOOKUP(INDIRECT("D13"),'20'!$D$3:$G$76,4,0),"")}
B14: {=IFERROR(VLOOKUP(INDIRECT("D14"),'20'!$A$3:$C$76,2,0),"")} | C14: {=IFERROR(VLOOKUP(INDIRECT("D14"),'20'!$A$3:$C$76,3,0),"")} | E14: {=IFERROR(VLOOKUP(INDIRECT("D14"),'20'!$D$3:$E$76,2,0),"")} | F14: {=IFERROR(VLOOKUP(INDIRECT("D14"),'20'!$D$3:$G$76,4,0),"")}
B15: {=IFERROR(VLOOKUP(INDIRECT("D15"),'20'!$A$3:$C$76,2,0),"")} | C15: {=IFERROR(VLOOKUP(INDIRECT("D15"),'20'!$A$3:$C$76,3,0),"")} | E15: {=IFERROR(VLOOKUP(INDIRECT("D15"),'20'!$D$3:$E$76,2,0),"")} | F15: {=IFERROR(VLOOKUP(INDIRECT("D15"),'20'!$D$3:$G$76,4,0),"")}
B16: {=IFERROR(VLOOKUP(INDIRECT("D16"),'20'!$A$3:$C$76,2,0),"")} | C16: {=IFERROR(VLOOKUP(INDIRECT("D16"),'20'!$A$3:$C$76,3,0),"")} | E16: {=IFERROR(VLOOKUP(INDIRECT("D16"),'20'!$D$3:$E$76,2,0),"")} | F16: {=IFERROR(VLOOKUP(INDIRECT("D16"),'20'!$D$3:$G$76,4,0),"")}
B17: {=IFERROR(VLOOKUP(INDIRECT("D17"),'20'!$A$3:$C$76,2,0),"")} | C17: {=IFERROR(VLOOKUP(INDIRECT("D17"),'20'!$A$3:$C$76,3,0),"")} | E17: {=IFERROR(VLOOKUP(INDIRECT("D17"),'20'!$D$3:$E$76,2,0),"")} | F17: {=IFERROR(VLOOKUP(INDIRECT("D17"),'20'!$D$3:$G$76,4,0),"")}
B18: {=IFERROR(VLOOKUP(INDIRECT("D18"),'20'!$A$3:$C$76,2,0),"")} | C18: {=IFERROR(VLOOKUP(INDIRECT("D18"),'20'!$A$3:$C$76,3,0),"")} | E18: {=IFERROR(VLOOKUP(INDIRECT("D18"),'20'!$D$3:$E$76,2,0),"")} | F18: {=IFERROR(VLOOKUP(INDIRECT("D18"),'20'!$D$3:$G$76,4,0),"")}
B19: {=IFERROR(VLOOKUP(INDIRECT("D19"),'20'!$A$3:$C$76,2,0),"")} | C19: {=IFERROR(VLOOKUP(INDIRECT("D19"),'20'!$A$3:$C$76,3,0),"")} | E19: {=IFERROR(VLOOKUP(INDIRECT("D19"),'20'!$D$3:$E$76,2,0),"")} | F19: {=IFERROR(VLOOKUP(INDIRECT("D19"),'20'!$D$3:$G$76,4,0),"")}
B20: {=IFERROR(VLOOKUP(INDIRECT("D20"),'20'!$A$3:$C$76,2,0),"")} | C20: {=IFERROR(VLOOKUP(INDIRECT("D20"),'20'!$A$3:$C$76,3,0),"")} | E20: {=IFERROR(VLOOKUP(INDIRECT("D20"),'20'!$D$3:$E$76,2,0),"")} | F20: {=IFERROR(VLOOKUP(INDIRECT("D20"),'20'!$D$3:$G$76,4,0),"")}
B21: {=IFERROR(VLOOKUP(INDIRECT("D21"),'20'!$A$3:$C$76,2,0),"")} | C21: {=IFERROR(VLOOKUP(INDIRECT("D21"),'20'!$A$3:$C$76,3,0),"")} | E21: {=IFERROR(VLOOKUP(INDIRECT("D21"),'20'!$D$3:$E$76,2,0),"")} | F21: {=IFERROR(VLOOKUP(INDIRECT("D21"),'20'!$D$3:$G$76,4,0),"")}
B22: {=IFERROR(VLOOKUP(INDIRECT("D22"),'20'!$A$3:$C$76,2,0),"")} | C22: {=IFERROR(VLOOKUP(INDIRECT("D22"),'20'!$A$3:$C$76,3,0),"")} | E22: {=IFERROR(VLOOKUP(INDIRECT("D22"),'20'!$D$3:$E$76,2,0),"")} | F22: {=IFERROR(VLOOKUP(INDIRECT("D22"),'20'!$D$3:$G$76,4,0),"")}
B23: {=IFERROR(VLOOKUP(INDIRECT("D23"),'20'!$A$3:$C$76,2,0),"")} | C23: {=IFERROR(VLOOKUP(INDIRECT("D23"),'20'!$A$3:$C$76,3,0),"")} | E23: {=IFERROR(VLOOKUP(INDIRECT("D23"),'20'!$D$3:$E$76,2,0),"")} | F23: {=IFERROR(VLOOKUP(INDIRECT("D23"),'20'!$D$3:$G$76,4,0),"")}
B24: {=IFERROR(VLOOKUP(INDIRECT("D24"),'20'!$A$3:$C$76,2,0),"")} | C24: {=IFERROR(VLOOKUP(INDIRECT("D24"),'20'!$A$3:$C$76,3,0),"")} | E24: {=IFERROR(VLOOKUP(INDIRECT("D24"),'20'!$D$3:$E$76,2,0),"")} | F24: {=IFERROR(VLOOKUP(INDIRECT("D24"),'20'!$D$3:$G$76,4,0),"")}
B25: {=IFERROR(VLOOKUP(INDIRECT("D25"),'20'!$A$3:$C$76,2,0),"")} | C25: {=IFERROR(VLOOKUP(INDIRECT("D25"),'20'!$A$3:$C$76,3,0),"")} | E25: {=IFERROR(VLOOKUP(INDIRECT("D25"),'20'!$D$3:$E$76,2,0),"")} | F25: {=IFERROR(VLOOKUP(INDIRECT("D25"),'20'!$D$3:$G$76,4,0),"")}
B26: 他 校 種 体 験 研 修
B27: 月 | C27: 日 | D27: 内 容 | F27: 場 所 | G27: 備 考
E31: 合計 | G31: 日
B36: １ 初任者が２人以上の場合、それぞれ別葉に作成する。
B37: ２ 実施予定時期の早い順に記入する。
B38: ３ 実施日が確定していない場合は、空欄とする。
B39: ４ 実施場所が確定していない場合は、「未定」と記入する。

Sheet ８
A1: (様式３－１－２)
B2: ５ 年間指導計画
B3: (1) 勤務校研修
I4: 学校名 | J4: {=INDIRECT("5!E5")} -> 0
I6: 初任者名 | J6: {=INDIRECT("5!A23")} -> 0 | N6: ★入力者 確認用データ | AD6: ★センター担当者 整理用データ
B8: 回数 | C8: 月 | D8: 日 | E8: 項目番号 | H8: 研 修 項 目 | I8: 講 師 | J8: 備 考（研究大会名・研修会名称等） | N8: ①実施予定の研修項目番号 | AD8: ①項目別の実施予定回数
B9: 1 | H9: =_xlfn.CONCAT(Y9&" "&Z9&" "&AA9) | Y9: {=IFERROR(VLOOKUP(INDIRECT("E9"),'18'!$A$4:$B$60,2,0),"")} | Z9: {=IFERROR(VLOOKUP(INDIRECT("F9"),'18'!$A$4:$B$60,2,0),"")} | AA9: {=IFERROR(VLOOKUP(INDIRECT("G9"),'18'!$A$4:$B$60,2,0),"")} | AD9: 1 | AE9: 2 | AF9: 3 | AG9: 4 | AH9: 5 | AI9: 6 | AJ9: 7 | AK9: 8 | AL9: 9 | AM9: 10 | AN9: 11 | AO9: 12 | AP9: 13
B10: 2 | H10: =_xlfn.CONCAT(Y10&" "&Z10&" "&AA10) | N10: 52項目中 | Q10: {=SUM(--(FREQUENCY(IF((項目番号全体>=1)*(項目番号全体<=52), 項目番号全体), ROW(INDIRECT("1:52")))>0))} -> 0 | T10: 項目実施予定 | Y10: {=IFERROR(VLOOKUP(INDIRECT("E10"),'18'!$A$4:$B$60,2,0),"")} | Z10: {=IFERROR(VLOOKUP(INDIRECT("F10"),'18'!$A$4:$B$60,2,0),"")} | AA10: {=IFERROR(VLOOKUP(INDIRECT("G10"),'18'!$A$4:$B$60,2,0),"")} | AD10: =COUNTIF(項目番号全体,AD9) -> 0 | AE10: =COUNTIF(項目番号全体,AE9) -> 0 | AF10: =COUNTIF(項目番号全体,AF9) -> 0 | AG10: =COUNTIF(項目番号全体,AG9) -> 0 | AH10: =COUNTIF(項目番号全体,AH9) -> 0 | AI10: =COUNTIF(項目番号全体,AI9) -> 0 | AJ10: =COUNTIF(項目番号全体,AJ9) -> 0 | AK10: =COUNTIF(項目番号全体,AK9) -> 0 | ... AP10: =COUNTIF(項目番号全体,AP9) -> 0
B11: 3 | H11: =_xlfn.CONCAT(Y11&" "&Z11&" "&AA11) | Y11: {=IFERROR(VLOOKUP(INDIRECT("E11"),'18'!$A$4:$B$60,2,0),"")} | Z11: {=IFERROR(VLOOKUP(INDIRECT("F11"),'18'!$A$4:$B$60,2,0),"")} | AA11: {=IFERROR(VLOOKUP(INDIRECT("G11"),'18'!$A$4:$B$60,2,0),"")}
B12: 4 | H12: =_xlfn.CONCAT(Y12&" "&Z12&" "&AA12) | N12: 1 | O12: 2 | P12: 3 | Q12: 4 | R12: 5 | S12: 6 | T12: 7 | U12: 8 | V12: 9 | W12: 10 | Y12: {=IFERROR(VLOOKUP(INDIRECT("E12"),'18'!$A$4:$B$60,2,0),"")} | Z12: {=IFERROR(VLOOKUP(INDIRECT("F12"),'18'!$A$4:$B$60,2,0),"")} | AA12: {=IFERROR(VLOOKUP(INDIRECT("G12"),'18'!$A$4:$B$60,2,0),"")} | AD12: 14 | AE12: 15 | AF12: 16 | AG12: 17 | AH12: 18 | AI12: 19 | AJ12: 20 | AK12: 21 | AL12: 22 | AM12: 23 | AN12: 24 | AO12: 25 | AP12: 26
B13: 5 | H13: =_xlfn.CONCAT(Y13&" "&Z13&" "&AA13) | N13: 11 | O13: 12 | P13: 13 | Q13: 14 | R13: 15 | S13: 16 | T13: 17 | U13: 18 | V13: 19 | W13: 20 | Y13: {=IFERROR(VLOOKUP(INDIRECT("E13"),'18'!$A$4:$B$60,2,0),"")} | Z13: {=IFERROR(VLOOKUP(INDIRECT("F13"),'18'!$A$4:$B$60,2,0),"")} | AA13: {=IFERROR(VLOOKUP(INDIRECT("G13"),'18'!$A$4:$B$60,2,0),"")} | AD13: =COUNTIF(項目番号全体,AD12) -> 0 | AE13: =COUNTIF(項目番号全体,AE12) -> 0 | AF13: =COUNTIF(項目番号全体,AF12) -> 0 | AG13: =COUNTIF(項目番号全体,AG12) -> 0 | AH13: =COUNTIF(項目番号全体,AH12) -> 0 | AI13: =COUNTIF(項目番号全体,AI12) -> 0 | AJ13: =COUNTIF(項目番号全体,AJ12) -> 0 | AK13: =COUNTIF(項目番号全体,AK12) -> 0 | ... AP13: =COUNTIF(項目番号全体,AP12) -> 0
B14: 6 | H14: =_xlfn.CONCAT(Y14&" "&Z14&" "&AA14) | N14: 21 | O14: 22 | P14: 23 | Q14: 24 | R14: 25 | S14: 26 | T14: 27 | U14: 28 | V14: 29 | W14: 30 | Y14: {=IFERROR(VLOOKUP(INDIRECT("E14"),'18'!$A$4:$B$60,2,0),"")} | Z14: {=IFERROR(VLOOKUP(INDIRECT("F14"),'18'!$A$4:$B$60,2,0),"")} | AA14: {=IFERROR(VLOOKUP(INDIRECT("G14"),'18'!$A$4:$B$60,2,0),"")}
B15: 7 | H15: =_xlfn.CONCAT(Y15&" "&Z15&" "&AA15) | N15: 31 | O15: 32 | P15: 33 | Q15: 34 | R15: 35 | S15: 36 | T15: 37 | U15: 38 | V15: 39 | W15: 40 | Y15: {=IFERROR(VLOOKUP(INDIRECT("E15"),'18'!$A$4:$B$60,2,0),"")} | Z15: {=IFERROR(VLOOKUP(INDIRECT("F15"),'18'!$A$4:$B$60,2,0),"")} | AA15: {=IFERROR(VLOOKUP(INDIRECT("G15"),'18'!$A$4:$B$60,2,0),"")} | AD15: 27 | AE15: 28 | AF15: 29 | AG15: 30 | AH15: 31 | AI15: 32 | AJ15: 33 | AK15: 34 | AL15: 35 | AM15: 36 | AN15: 37 | AO15: 38 | AP15: 39
B16: 8 | H16: =_xlfn.CONCAT(Y16&" "&Z16&" "&AA16) | N16: 41 | O16: 42 | P16: 43 | Q16: 44 | R16: 45 | S16: 46 | T16: 47 | U16: 48 | V16: 49 | W16: 50 | Y16: {=IFERROR(VLOOKUP(INDIRECT("E16"),'18'!$A$4:$B$60,2,0),"")} | Z16: {=IFERROR(VLOOKUP(INDIRECT("F16"),'18'!$A$4:$B$60,2,0),"")} | AA16: {=IFERROR(VLOOKUP(INDIRECT("G16"),'18'!$A$4:$B$60,2,0),"")} | AD16: =COUNTIF(項目番号全体,AD15) -> 0 | AE16: =COUNTIF(項目番号全体,AE15) -> 0 | AF16: =COUNTIF(項目番号全体,AF15) -> 0 | AG16: =COUNTIF(項目番号全体,AG15) -> 0 | AH16: =COUNTIF(項目番号全体,AH15) -> 0 | AI16: =COUNTIF(項目番号全体,AI15) -> 0 | AJ16: =COUNTIF(項目番号全体,AJ15) -> 0 | AK16: =COUNTIF(項目番号全体,AK15) -> 0 | ... AP16: =COUNTIF(項目番号全体,AP15) -> 0
B17: 9 | H17: =_xlfn.CONCAT(Y17&" "&Z17&" "&AA17) | N17: 51 | O17: 52 | Y17: {=IFERROR(VLOOKUP(INDIRECT("E17"),'18'!$A$4:$B$60,2,0),"")} | Z17: {=IFERROR(VLOOKUP(INDIRECT("F17"),'18'!$A$4:$B$60,2,0),"")} | AA17: {=IFERROR(VLOOKUP(INDIRECT("G17"),'18'!$A$4:$B$60,2,0),"")}
B18: 10 | H18: =_xlfn.CONCAT(Y18&" "&Z18&" "&AA18) | Y18: {=IFERROR(VLOOKUP(INDIRECT("E18"),'18'!$A$4:$B$60,2,0),"")} | Z18: {=IFERROR(VLOOKUP(INDIRECT("F18"),'18'!$A$4:$B$60,2,0),"")} | AA18: {=IFERROR(VLOOKUP(INDIRECT("G18"),'18'!$A$4:$B$60,2,0),"")} | AD18: 40 | AE18: 41 | AF18: 42 | AG18: 43 | AH18: 44 | AI18: 45 | AJ18: 46 | AK18: 47 | AL18: 48 | AM18: 49 | AN18: 50 | AO18: 51 | AP18: 52
B19: 11 | H19: =_xlfn.CONCAT(Y19&" "&Z19&" "&AA19) | O19: …１回以上実施予定の研修項目番号 | Y19: {=IFERROR(VLOOKUP(INDIRECT("E19"),'18'!$A$4:$B$60,2,0),"")} | Z19: {=IFERROR(VLOOKUP(INDIRECT("F19"),'18'!$A$4:$B$60,2,0),"")} | AA19: {=IFERROR(VLOOKUP(INDIRECT("G19"),'18'!$A$4:$B$60,2,0),"")} | AD19: =COUNTIF(項目番号全体,AD18) -> 0 | AE19: =COUNTIF(項目番号全体,AE18) -> 0 | AF19: =COUNTIF(項目番号全体,AF18) -> 0 | AG19: =COUNTIF(項目番号全体,AG18) -> 0 | AH19: =COUNTIF(項目番号全体,AH18) -> 0 | AI19: =COUNTIF(項目番号全体,AI18) -> 0 | AJ19: =COUNTIF(項目番号全体,AJ18) -> 0 | AK19: =COUNTIF(項目番号全体,AK18) -> 0 | ... AP19: =COUNTIF(項目番号全体,AP18) -> 0
B20: 12 | H20: =_xlfn.CONCAT(Y20&" "&Z20&" "&AA20) | Y20: {=IFERROR(VLOOKUP(INDIRECT("E20"),'18'!$A$4:$B$60,2,0),"")} | Z20: {=IFERROR(VLOOKUP(INDIRECT("F20"),'18'!$A$4:$B$60,2,0),"")} | AA20: {=IFERROR(VLOOKUP(INDIRECT("G20"),'18'!$A$4:$B$60,2,0),"")}
B21: 13 | H21: =_xlfn.CONCAT(Y21&" "&Z21&" "&AA21) | N21: ②実施予定の勤務校研修の回数 | Y21: {=IFERROR(VLOOKUP(INDIRECT("E21"),'18'!$A$4:$B$60,2,0),"")} | Z21: {=IFERROR(VLOOKUP(INDIRECT("F21"),'18'!$A$4:$B$60,2,0),"")} | AA21: {=IFERROR(VLOOKUP(INDIRECT("G21"),'18'!$A$4:$B$60,2,0),"")} | AD21: ②実施予定の勤務校研修の項目数
B22: 14 | H22: =_xlfn.CONCAT(Y22&" "&Z22&" "&AA22) | Y22: {=IFERROR(VLOOKUP(INDIRECT("E22"),'18'!$A$4:$B$60,2,0),"")} | Z22: {=IFERROR(VLOOKUP(INDIRECT("F22"),'18'!$A$4:$B$60,2,0),"")} | AA22: {=IFERROR(VLOOKUP(INDIRECT("G22"),'18'!$A$4:$B$60,2,0),"")}
B23: 15 | H23: =_xlfn.CONCAT(Y23&" "&Z23&" "&AA23) | Q23: {=SUMPRODUCT(--((ISNUMBER(項目番号１)+ISNUMBER(項目番号２)+ISNUMBER(項目番号３))>0))} -> 0 | T23: 回 | Y23: {=IFERROR(VLOOKUP(INDIRECT("E23"),'18'!$A$4:$B$60,2,0),"")} | Z23: {=IFERROR(VLOOKUP(INDIRECT("F23"),'18'!$A$4:$B$60,2,0),"")} | AA23: {=IFERROR(VLOOKUP(INDIRECT("G23"),'18'!$A$4:$B$60,2,0),"")} | AD23: {=INDIRECT("Q10")} -> 0 | AF23: 項目
B24: 16 | H24: =_xlfn.CONCAT(Y24&" "&Z24&" "&AA24) | Y24: {=IFERROR(VLOOKUP(INDIRECT("E24"),'18'!$A$4:$B$60,2,0),"")} | Z24: {=IFERROR(VLOOKUP(INDIRECT("F24"),'18'!$A$4:$B$60,2,0),"")} | AA24: {=IFERROR(VLOOKUP(INDIRECT("G24"),'18'!$A$4:$B$60,2,0),"")}
B25: 17 | H25: =_xlfn.CONCAT(Y25&" "&Z25&" "&AA25) | N25: ＊勤務校研修の回数は、35～52回の間 になるように予定を立ててください。 | Y25: {=IFERROR(VLOOKUP(INDIRECT("E25"),'18'!$A$4:$B$60,2,0),"")} | Z25: {=IFERROR(VLOOKUP(INDIRECT("F25"),'18'!$A$4:$B$60,2,0),"")} | AA25: {=IFERROR(VLOOKUP(INDIRECT("G25"),'18'!$A$4:$B$60,2,0),"")} | AD25: ③実施予定の勤務校研修の回数
B26: 18 | H26: =_xlfn.CONCAT(Y26&" "&Z26&" "&AA26) | Y26: {=IFERROR(VLOOKUP(INDIRECT("E26"),'18'!$A$4:$B$60,2,0),"")} | Z26: {=IFERROR(VLOOKUP(INDIRECT("F26"),'18'!$A$4:$B$60,2,0),"")} | AA26: {=IFERROR(VLOOKUP(INDIRECT("G26"),'18'!$A$4:$B$60,2,0),"")}
B27: 19 | H27: =_xlfn.CONCAT(Y27&" "&Z27&" "&AA27) | Y27: {=IFERROR(VLOOKUP(INDIRECT("E27"),'18'!$A$4:$B$60,2,0),"")} | Z27: {=IFERROR(VLOOKUP(INDIRECT("F27"),'18'!$A$4:$B$60,2,0),"")} | AA27: {=IFERROR(VLOOKUP(INDIRECT("G27"),'18'!$A$4:$B$60,2,0),"")} | AD27: {=INDIRECT("Q23")} -> 0 | AF27: 回
B28: 20 | H28: =_xlfn.CONCAT(Y28&" "&Z28&" "&AA28) | Y28: {=IFERROR(VLOOKUP(INDIRECT("E28"),'18'!$A$4:$B$60,2,0),"")} | Z28: {=IFERROR(VLOOKUP(INDIRECT("F28"),'18'!$A$4:$B$60,2,0),"")} | AA28: {=IFERROR(VLOOKUP(INDIRECT("G28"),'18'!$A$4:$B$60,2,0),"")}
B29: 21 | H29: =_xlfn.CONCAT(Y29&" "&Z29&" "&AA29) | Y29: {=IFERROR(VLOOKUP(INDIRECT("E29"),'18'!$A$4:$B$60,2,0),"")} | Z29: {=IFERROR(VLOOKUP(INDIRECT("F29"),'18'!$A$4:$B$60,2,0),"")} | AA29: {=IFERROR(VLOOKUP(INDIRECT("G29"),'18'!$A$4:$B$60,2,0),"")}
B30: 22 | H30: =_xlfn.CONCAT(Y30&" "&Z30&" "&AA30) | Y30: {=IFERROR(VLOOKUP(INDIRECT("E30"),'18'!$A$4:$B$60,2,0),"")} | Z30: {=IFERROR(VLOOKUP(INDIRECT("F30"),'18'!$A$4:$B$60,2,0),"")} | AA30: {=IFERROR(VLOOKUP(INDIRECT("G30"),'18'!$A$4:$B$60,2,0),"")}
B31: 23 | H31: =_xlfn.CONCAT(Y31&" "&Z31&" "&AA31) | Y31: {=IFERROR(VLOOKUP(INDIRECT("E31"),'18'!$A$4:$B$60,2,0),"")} | Z31: {=IFERROR(VLOOKUP(INDIRECT("F31"),'18'!$A$4:$B$60,2,0),"")} | AA31: {=IFERROR(VLOOKUP(INDIRECT("G31"),'18'!$A$4:$B$60,2,0),"")}
B32: 24 | H32: =_xlfn.CONCAT(Y32&" "&Z32&" "&AA32) | Y32: {=IFERROR(VLOOKUP(INDIRECT("E32"),'18'!$A$4:$B$60,2,0),"")} | Z32: {=IFERROR(VLOOKUP(INDIRECT("F32"),'18'!$A$4:$B$60,2,0),"")} | AA32: {=IFERROR(VLOOKUP(INDIRECT("G32"),'18'!$A$4:$B$60,2,0),"")}
B33: 25 | H33: =_xlfn.CONCAT(Y33&" "&Z33&" "&AA33) | Y33: {=IFERROR(VLOOKUP(INDIRECT("E33"),'18'!$A$4:$B$60,2,0),"")} | Z33: {=IFERROR(VLOOKUP(INDIRECT("F33"),'18'!$A$4:$B$60,2,0),"")} | AA33: {=IFERROR(VLOOKUP(INDIRECT("G33"),'18'!$A$4:$B$60,2,0),"")}
B34: 26 | H34: =_xlfn.CONCAT(Y34&" "&Z34&" "&AA34) | Y34: {=IFERROR(VLOOKUP(INDIRECT("E34"),'18'!$A$4:$B$60,2,0),"")} | Z34: {=IFERROR(VLOOKUP(INDIRECT("F34"),'18'!$A$4:$B$60,2,0),"")} | AA34: {=IFERROR(VLOOKUP(INDIRECT("G34"),'18'!$A$4:$B$60,2,0),"")}
B35: 27 | H35: =_xlfn.CONCAT(Y35&" "&Z35&" "&AA35) | Y35: {=IFERROR(VLOOKUP(INDIRECT("E35"),'18'!$A$4:$B$60,2,0),"")} | Z35: {=IFERROR(VLOOKUP(INDIRECT("F35"),'18'!$A$4:$B$60,2,0),"")} | AA35: {=IFERROR(VLOOKUP(INDIRECT("G35"),'18'!$A$4:$B$60,2,0),"")}
B36: 28 | H36: =_xlfn.CONCAT(Y36&" "&Z36&" "&AA36) | Y36: {=IFERROR(VLOOKUP(INDIRECT("E36"),'18'!$A$4:$B$60,2,0),"")} | Z36: {=IFERROR(VLOOKUP(INDIRECT("F36"),'18'!$A$4:$B$60,2,0),"")} | AA36: {=IFERROR(VLOOKUP(INDIRECT("G36"),'18'!$A$4:$B$60,2,0),"")}
B37: 29 | H37: =_xlfn.CONCAT(Y37&" "&Z37&" "&AA37) | Y37: {=IFERROR(VLOOKUP(INDIRECT("E37"),'18'!$A$4:$B$60,2,0),"")} | Z37: {=IFERROR(VLOOKUP(INDIRECT("F37"),'18'!$A$4:$B$60,2,0),"")} | AA37: {=IFERROR(VLOOKUP(INDIRECT("G37"),'18'!$A$4:$B$60,2,0),"")}
B38: 30 | H38: =_xlfn.CONCAT(Y38&" "&Z38&" "&AA38) | Y38: {=IFERROR(VLOOKUP(INDIRECT("E38"),'18'!$A$4:$B$60,2,0),"")} | Z38: {=IFERROR(VLOOKUP(INDIRECT("F38"),'18'!$A$4:$B$60,2,0),"")} | AA38: {=IFERROR(VLOOKUP(INDIRECT("G38"),'18'!$A$4:$B$60,2,0),"")}
B39: 31 | H39: =_xlfn.CONCAT(Y39&" "&Z39&" "&AA39) | Y39: {=IFERROR(VLOOKUP(INDIRECT("E39"),'18'!$A$4:$B$60,2,0),"")} | Z39: {=IFERROR(VLOOKUP(INDIRECT("F39"),'18'!$A$4:$B$60,2,0),"")} | AA39: {=IFERROR(VLOOKUP(INDIRECT("G39"),'18'!$A$4:$B$60,2,0),"")}
B40: 32 | H40: =_xlfn.CONCAT(Y40&" "&Z40&" "&AA40) | Y40: {=IFERROR(VLOOKUP(INDIRECT("E40"),'18'!$A$4:$B$60,2,0),"")} | Z40: {=IFERROR(VLOOKUP(INDIRECT("F40"),'18'!$A$4:$B$60,2,0),"")} | AA40: {=IFERROR(VLOOKUP(INDIRECT("G40"),'18'!$A$4:$B$60,2,0),"")}
B41: 33 | H41: =_xlfn.CONCAT(Y41&" "&Z41&" "&AA41) | Y41: {=IFERROR(VLOOKUP(INDIRECT("E41"),'18'!$A$4:$B$60,2,0),"")} | Z41: {=IFERROR(VLOOKUP(INDIRECT("F41"),'18'!$A$4:$B$60,2,0),"")} | AA41: {=IFERROR(VLOOKUP(INDIRECT("G41"),'18'!$A$4:$B$60,2,0),"")}
B42: 34 | H42: =_xlfn.CONCAT(Y42&" "&Z42&" "&AA42) | Y42: {=IFERROR(VLOOKUP(INDIRECT("E42"),'18'!$A$4:$B$60,2,0),"")} | Z42: {=IFERROR(VLOOKUP(INDIRECT("F42"),'18'!$A$4:$B$60,2,0),"")} | AA42: {=IFERROR(VLOOKUP(INDIRECT("G42"),'18'!$A$4:$B$60,2,0),"")}
...

Sheet ９
B2: (2) センター等研修
F3: 学校名 | G3: {=INDIRECT("5!E5")} -> 0
F5: 初任者名 | G5: {=INDIRECT("5!A23")} -> 0
B7: 月 | C7: 日 | D7: 講座番号 | E7: 講 座 名 | F7: 場 所 | G7: 備 考
B8: {=IFERROR(VLOOKUP(INDIRECT("D8"),'20'!$A$3:$C$76,2,0),"")} | C8: {=IFERROR(VLOOKUP(INDIRECT("D8"),'20'!$A$3:$C$76,3,0),"")} | E8: {=IFERROR(VLOOKUP(INDIRECT("D8"),'20'!$D$3:$E$76,2,0),"")} | F8: {=IFERROR(VLOOKUP(INDIRECT("D8"),'20'!$D$3:$G$76,4,0),"")}
B9: {=IFERROR(VLOOKUP(INDIRECT("D9"),'20'!$A$3:$C$76,2,0),"")} | C9: {=IFERROR(VLOOKUP(INDIRECT("D9"),'20'!$A$3:$C$76,3,0),"")} | E9: {=IFERROR(VLOOKUP(INDIRECT("D9"),'20'!$D$3:$E$76,2,0),"")} | F9: {=IFERROR(VLOOKUP(INDIRECT("D9"),'20'!$D$3:$G$76,4,0),"")}
B10: {=IFERROR(VLOOKUP(INDIRECT("D10"),'20'!$A$3:$C$76,2,0),"")} | C10: {=IFERROR(VLOOKUP(INDIRECT("D10"),'20'!$A$3:$C$76,3,0),"")} | E10: {=IFERROR(VLOOKUP(INDIRECT("D10"),'20'!$D$3:$E$76,2,0),"")} | F10: {=IFERROR(VLOOKUP(INDIRECT("D10"),'20'!$D$3:$G$76,4,0),"")}
B11: {=IFERROR(VLOOKUP(INDIRECT("D11"),'20'!$A$3:$C$76,2,0),"")} | C11: {=IFERROR(VLOOKUP(INDIRECT("D11"),'20'!$A$3:$C$76,3,0),"")} | E11: {=IFERROR(VLOOKUP(INDIRECT("D11"),'20'!$D$3:$E$76,2,0),"")} | F11: {=IFERROR(VLOOKUP(INDIRECT("D11"),'20'!$D$3:$G$76,4,0),"")}
B12: {=IFERROR(VLOOKUP(INDIRECT("D12"),'20'!$A$3:$C$76,2,0),"")} | C12: {=IFERROR(VLOOKUP(INDIRECT("D12"),'20'!$A$3:$C$76,3,0),"")} | E12: {=IFERROR(VLOOKUP(INDIRECT("D12"),'20'!$D$3:$E$76,2,0),"")} | F12: {=IFERROR(VLOOKUP(INDIRECT("D12"),'20'!$D$3:$G$76,4,0),"")}
B13: {=IFERROR(VLOOKUP(INDIRECT("D13"),'20'!$A$3:$C$76,2,0),"")} | C13: {=IFERROR(VLOOKUP(INDIRECT("D13"),'20'!$A$3:$C$76,3,0),"")} | E13: {=IFERROR(VLOOKUP(INDIRECT("D13"),'20'!$D$3:$E$76,2,0),"")} | F13: {=IFERROR(VLOOKUP(INDIRECT("D13"),'20'!$D$3:$G$76,4,0),"")}
B14: {=IFERROR(VLOOKUP(INDIRECT("D14"),'20'!$A$3:$C$76,2,0),"")} | C14: {=IFERROR(VLOOKUP(INDIRECT("D14"),'20'!$A$3:$C$76,3,0),"")} | E14: {=IFERROR(VLOOKUP(INDIRECT("D14"),'20'!$D$3:$E$76,2,0),"")} | F14: {=IFERROR(VLOOKUP(INDIRECT("D14"),'20'!$D$3:$G$76,4,0),"")}
B15: {=IFERROR(VLOOKUP(INDIRECT("D15"),'20'!$A$3:$C$76,2,0),"")} | C15: {=IFERROR(VLOOKUP(INDIRECT("D15"),'20'!$A$3:$C$76,3,0),"")} | E15: {=IFERROR(VLOOKUP(INDIRECT("D15"),'20'!$D$3:$E$76,2,0),"")} | F15: {=IFERROR(VLOOKUP(INDIRECT("D15"),'20'!$D$3:$G$76,4,0),"")}
B16: {=IFERROR(VLOOKUP(INDIRECT("D16"),'20'!$A$3:$C$76,2,0),"")} | C16: {=IFERROR(VLOOKUP(INDIRECT("D16"),'20'!$A$3:$C$76,3,0),"")} | E16: {=IFERROR(VLOOKUP(INDIRECT("D16"),'20'!$D$3:$E$76,2,0),"")} | F16: {=IFERROR(VLOOKUP(INDIRECT("D16"),'20'!$D$3:$G$76,4,0),"")}
B17: {=IFERROR(VLOOKUP(INDIRECT("D17"),'20'!$A$3:$C$76,2,0),"")} | C17: {=IFERROR(VLOOKUP(INDIRECT("D17"),'20'!$A$3:$C$76,3,0),"")} | E17: {=IFERROR(VLOOKUP(INDIRECT("D17"),'20'!$D$3:$E$76,2,0),"")} | F17: {=IFERROR(VLOOKUP(INDIRECT("D17"),'20'!$D$3:$G$76,4,0),"")}
B18: {=IFERROR(VLOOKUP(INDIRECT("D18"),'20'!$A$3:$C$76,2,0),"")} | C18: {=IFERROR(VLOOKUP(INDIRECT("D18"),'20'!$A$3:$C$76,3,0),"")} | E18: {=IFERROR(VLOOKUP(INDIRECT("D18"),'20'!$D$3:$E$76,2,0),"")} | F18: {=IFERROR(VLOOKUP(INDIRECT("D18"),'20'!$D$3:$G$76,4,0),"")}
B19: {=IFERROR(VLOOKUP(INDIRECT("D19"),'20'!$A$3:$C$76,2,0),"")} | C19: {=IFERROR(VLOOKUP(INDIRECT("D19"),'20'!$A$3:$C$76,3,0),"")} | E19: {=IFERROR(VLOOKUP(INDIRECT("D19"),'20'!$D$3:$E$76,2,0),"")} | F19: {=IFERROR(VLOOKUP(INDIRECT("D19"),'20'!$D$3:$G$76,4,0),"")}
B20: {=IFERROR(VLOOKUP(INDIRECT("D20"),'20'!$A$3:$C$76,2,0),"")} | C20: {=IFERROR(VLOOKUP(INDIRECT("D20"),'20'!$A$3:$C$76,3,0),"")} | E20: {=IFERROR(VLOOKUP(INDIRECT("D20"),'20'!$D$3:$E$76,2,0),"")} | F20: {=IFERROR(VLOOKUP(INDIRECT("D20"),'20'!$D$3:$G$76,4,0),"")}
B21: {=IFERROR(VLOOKUP(INDIRECT("D21"),'20'!$A$3:$C$76,2,0),"")} | C21: {=IFERROR(VLOOKUP(INDIRECT("D21"),'20'!$A$3:$C$76,3,0),"")} | E21: {=IFERROR(VLOOKUP(INDIRECT("D21"),'20'!$D$3:$E$76,2,0),"")} | F21: {=IFERROR(VLOOKUP(INDIRECT("D21"),'20'!$D$3:$G$76,4,0),"")}
B22: {=IFERROR(VLOOKUP(INDIRECT("D22"),'20'!$A$3:$C$76,2,0),"")} | C22: {=IFERROR(VLOOKUP(INDIRECT("D22"),'20'!$A$3:$C$76,3,0),"")} | E22: {=IFERROR(VLOOKUP(INDIRECT("D22"),'20'!$D$3:$E$76,2,0),"")} | F22: {=IFERROR(VLOOKUP(INDIRECT("D22"),'20'!$D$3:$G$76,4,0),"")}
B23: {=IFERROR(VLOOKUP(INDIRECT("D23"),'20'!$A$3:$C$76,2,0),"")} | C23: {=IFERROR(VLOOKUP(INDIRECT("D23"),'20'!$A$3:$C$76,3,0),"")} | E23: {=IFERROR(VLOOKUP(INDIRECT("D23"),'20'!$D$3:$E$76,2,0),"")} | F23: {=IFERROR(VLOOKUP(INDIRECT("D23"),'20'!$D$3:$G$76,4,0),"")}
B24: {=IFERROR(VLOOKUP(INDIRECT("D24"),'20'!$A$3:$C$76,2,0),"")} | C24: {=IFERROR(VLOOKUP(INDIRECT("D24"),'20'!$A$3:$C$76,3,0),"")} | E24: {=IFERROR(VLOOKUP(INDIRECT("D24"),'20'!$D$3:$E$76,2,0),"")} | F24: {=IFERROR(VLOOKUP(INDIRECT("D24"),'20'!$D$3:$G$76,4,0),"")}
B25: {=IFERROR(VLOOKUP(INDIRECT("D25"),'20'!$A$3:$C$76,2,0),"")} | C25: {=IFERROR(VLOOKUP(INDIRECT("D25"),'20'!$A$3:$C$76,3,0),"")} | E25: {=IFERROR(VLOOKUP(INDIRECT("D25"),'20'!$D$3:$E$76,2,0),"")} | F25: {=IFERROR(VLOOKUP(INDIRECT("D25"),'20'!$D$3:$G$76,4,0),"")}
B26: 他 校 種 体 験 研 修
B27: 月 | C27: 日 | D27: 内 容 | F27: 場 所 | G27: 備 考
E31: 合計 | G31: 日
B36: １ 初任者が２人以上の場合、それぞれ別葉に作成する。
B37: ２ 実施予定時期の早い順に記入する。
B38: ３ 実施日が確定していない場合は、空欄とする。
B39: ４ 実施場所が確定していない場合は、「未定」と記入する。

Sheet 10
A1: (様式３－１－２)
B2: ５ 年間指導計画
B3: (1) 勤務校研修
I4: 学校名 | J4: {=INDIRECT("5!E5")} -> 0
I6: 初任者名 | J6: {=INDIRECT("5!A24")} -> 0 | N6: ★入力者 確認用データ | AD6: ★センター担当者 整理用データ
B8: 回数 | C8: 月 | D8: 日 | E8: 項目番号 | H8: 研 修 項 目 | I8: 講 師 | J8: 備 考（研究大会名・研修会名称等） | N8: ①実施予定の研修項目番号 | AD8: ①項目別の実施予定回数
B9: 1 | H9: =_xlfn.CONCAT(Y9&" "&Z9&" "&AA9) | Y9: {=IFERROR(VLOOKUP(INDIRECT("E9"),'18'!$A$4:$B$60,2,0),"")} | Z9: {=IFERROR(VLOOKUP(INDIRECT("F9"),'18'!$A$4:$B$60,2,0),"")} | AA9: {=IFERROR(VLOOKUP(INDIRECT("G9"),'18'!$A$4:$B$60,2,0),"")} | AD9: 1 | AE9: 2 | AF9: 3 | AG9: 4 | AH9: 5 | AI9: 6 | AJ9: 7 | AK9: 8 | AL9: 9 | AM9: 10 | AN9: 11 | AO9: 12 | AP9: 13
B10: 2 | H10: =_xlfn.CONCAT(Y10&" "&Z10&" "&AA10) | N10: 52項目中 | Q10: {=SUM(--(FREQUENCY(IF((項目番号全体>=1)*(項目番号全体<=52), 項目番号全体), ROW(INDIRECT("1:52")))>0))} -> 0 | T10: 項目実施予定 | Y10: {=IFERROR(VLOOKUP(INDIRECT("E10"),'18'!$A$4:$B$60,2,0),"")} | Z10: {=IFERROR(VLOOKUP(INDIRECT("F10"),'18'!$A$4:$B$60,2,0),"")} | AA10: {=IFERROR(VLOOKUP(INDIRECT("G10"),'18'!$A$4:$B$60,2,0),"")} | AD10: =COUNTIF(項目番号全体,AD9) -> 0 | AE10: =COUNTIF(項目番号全体,AE9) -> 0 | AF10: =COUNTIF(項目番号全体,AF9) -> 0 | AG10: =COUNTIF(項目番号全体,AG9) -> 0 | AH10: =COUNTIF(項目番号全体,AH9) -> 0 | AI10: =COUNTIF(項目番号全体,AI9) -> 0 | AJ10: =COUNTIF(項目番号全体,AJ9) -> 0 | AK10: =COUNTIF(項目番号全体,AK9) -> 0 | ... AP10: =COUNTIF(項目番号全体,AP9) -> 0
B11: 3 | H11: =_xlfn.CONCAT(Y11&" "&Z11&" "&AA11) | Y11: {=IFERROR(VLOOKUP(INDIRECT("E11"),'18'!$A$4:$B$60,2,0),"")} | Z11: {=IFERROR(VLOOKUP(INDIRECT("F11"),'18'!$A$4:$B$60,2,0),"")} | AA11: {=IFERROR(VLOOKUP(INDIRECT("G11"),'18'!$A$4:$B$60,2,0),"")}
B12: 4 | H12: =_xlfn.CONCAT(Y12&" "&Z12&" "&AA12) | N12: 1 | O12: 2 | P12: 3 | Q12: 4 | R12: 5 | S12: 6 | T12: 7 | U12: 8 | V12: 9 | W12: 10 | Y12: {=IFERROR(VLOOKUP(INDIRECT("E12"),'18'!$A$4:$B$60,2,0),"")} | Z12: {=IFERROR(VLOOKUP(INDIRECT("F12"),'18'!$A$4:$B$60,2,0),"")} | AA12: {=IFERROR(VLOOKUP(INDIRECT("G12"),'18'!$A$4:$B$60,2,0),"")} | AD12: 14 | AE12: 15 | AF12: 16 | AG12: 17 | AH12: 18 | AI12: 19 | AJ12: 20 | AK12: 21 | AL12: 22 | AM12: 23 | AN12: 24 | AO12: 25 | AP12: 26
B13: 5 | H13: =_xlfn.CONCAT(Y13&" "&Z13&" "&AA13) | N13: 11 | O13: 12 | P13: 13 | Q13: 14 | R13: 15 | S13: 16 | T13: 17 | U13: 18 | V13: 19 | W13: 20 | Y13: {=IFERROR(VLOOKUP(INDIRECT("E13"),'18'!$A$4:$B$60,2,0),"")} | Z13: {=IFERROR(VLOOKUP(INDIRECT("F13"),'18'!$A$4:$B$60,2,0),"")} | AA13: {=IFERROR(VLOOKUP(INDIRECT("G13"),'18'!$A$4:$B$60,2,0),"")} | AD13: =COUNTIF(項目番号全体,AD12) -> 0 | AE13: =COUNTIF(項目番号全体,AE12) -> 0 | AF13: =COUNTIF(項目番号全体,AF12) -> 0 | AG13: =COUNTIF(項目番号全体,AG12) -> 0 | AH13: =COUNTIF(項目番号全体,AH12) -> 0 | AI13: =COUNTIF(項目番号全体,AI12) -> 0 | AJ13: =COUNTIF(項目番号全体,AJ12) -> 0 | AK13: =COUNTIF(項目番号全体,AK12) -> 0 | ... AP13: =COUNTIF(項目番号全体,AP12) -> 0
B14: 6 | H14: =_xlfn.CONCAT(Y14&" "&Z14&" "&AA14) | N14: 21 | O14: 22 | P14: 23 | Q14: 24 | R14: 25 | S14: 26 | T14: 27 | U14: 28 | V14: 29 | W14: 30 | Y14: {=IFERROR(VLOOKUP(INDIRECT("E14"),'18'!$A$4:$B$60,2,0),"")} | Z14: {=IFERROR(VLOOKUP(INDIRECT("F14"),'18'!$A$4:$B$60,2,0),"")} | AA14: {=IFERROR(VLOOKUP(INDIRECT("G14"),'18'!$A$4:$B$60,2,0),"")}
B15: 7 | H15: =_xlfn.CONCAT(Y15&" "&Z15&" "&AA15) | N15: 31 | O15: 32 | P15: 33 | Q15: 34 | R15: 35 | S15: 36 | T15: 37 | U15: 38 | V15: 39 | W15: 40 | Y15: {=IFERROR(VLOOKUP(INDIRECT("E15"),'18'!$A$4:$B$60,2,0),"")} | Z15: {=IFERROR(VLOOKUP(INDIRECT("F15"),'18'!$A$4:$B$60,2,0),"")} | AA15: {=IFERROR(VLOOKUP(INDIRECT("G15"),'18'!$A$4:$B$60,2,0),"")} | AD15: 27 | AE15: 28 | AF15: 29 | AG15: 30 | AH15: 31 | AI15: 32 | AJ15: 33 | AK15: 34 | AL15: 35 | AM15: 36 | AN15: 37 | AO15: 38 | AP15: 39
B16: 8 | H16: =_xlfn.CONCAT(Y16&" "&Z16&" "&AA16) | N16: 41 | O16: 42 | P16: 43 | Q16: 44 | R16: 45 | S16: 46 | T16: 47 | U16: 48 | V16: 49 | W16: 50 | Y16: {=IFERROR(VLOOKUP(INDIRECT("E16"),'18'!$A$4:$B$60,2,0),"")} | Z16: {=IFERROR(VLOOKUP(INDIRECT("F16"),'18'!$A$4:$B$60,2,0),"")} | AA16: {=IFERROR(VLOOKUP(INDIRECT("G16"),'18'!$A$4:$B$60,2,0),"")} | AD16: =COUNTIF(項目番号全体,AD15) -> 0 | AE16: =COUNTIF(項目番号全体,AE15) -> 0 | AF16: =COUNTIF(項目番号全体,AF15) -> 0 | AG16: =COUNTIF(項目番号全体,AG15) -> 0 | AH16: =COUNTIF(項目番号全体,AH15) -> 0 | AI16: =COUNTIF(項目番号全体,AI15) -> 0 | AJ16: =COUNTIF(項目番号全体,AJ15) -> 0 | AK16: =COUNTIF(項目番号全体,AK15) -> 0 | ... AP16: =COUNTIF(項目番号全体,AP15) -> 0
B17: 9 | H17: =_xlfn.CONCAT(Y17&" "&Z17&" "&AA17) | N17: 51 | O17: 52 | Y17: {=IFERROR(VLOOKUP(INDIRECT("E17"),'18'!$A$4:$B$60,2,0),"")} | Z17: {=IFERROR(VLOOKUP(INDIRECT("F17"),'18'!$A$4:$B$60,2,0),"")} | AA17: {=IFERROR(VLOOKUP(INDIRECT("G17"),'18'!$A$4:$B$60,2,0),"")}
B18: 10 | H18: =_xlfn.CONCAT(Y18&" "&Z18&" "&AA18) | Y18: {=IFERROR(VLOOKUP(INDIRECT("E18"),'18'!$A$4:$B$60,2,0),"")} | Z18: {=IFERROR(VLOOKUP(INDIRECT("F18"),'18'!$A$4:$B$60,2,0),"")} | AA18: {=IFERROR(VLOOKUP(INDIRECT("G18"),'18'!$A$4:$B$60,2,0),"")} | AD18: 40 | AE18: 41 | AF18: 42 | AG18: 43 | AH18: 44 | AI18: 45 | AJ18: 46 | AK18: 47 | AL18: 48 | AM18: 49 | AN18: 50 | AO18: 51 | AP18: 52
